{"text_format":"1","workbook":"xlsx","n_sheets":9,"sheets":["説明","設定","日記(1)","日記(2)","日記(3)","集計表","グラフ","参照","X"],"not_rendered":{"charts":1,"images":0,"macros":1,"external_links":1,"defined_names":45,"comments":0,"pivot_tables":0},"unopened":[],"bounds":{"document_bytes":16777216,"sheet_cells":100000,"rows_first":2000,"rows_last":500,"rows_between":2000,"halvings":0,"cell_chars":16384,"cell_head_chars":4096},"cells_cut":0,"cells_raw":0,"read":"whole","date_system":"1900"}

{"sheet":"説明","index":0,"n_rows":34,"n_cols":15,"rows_kept":34,"cut":false,"hidden":false,"merged":[[0,5,0,6],[10,5,10,7],[11,5,11,7],[12,5,12,7],[13,5,13,7],[5,5,5,7],[30,5,30,11],[31,5,31,7],[2,11,2,12],[24,5,25,5],[24,8,25,8],[2,9,3,10],[24,9,25,10],[2,8,3,8],[24,11,24,12],[2,5,3,7],[23,6,23,8],[8,5,8,7],[9,5,9,7],[15,5,15,7],[29,7,29,8],[24,6,25,7],[0,1,0,3],[13,1,13,3],[14,1,14,3],[6,1,6,3],[24,1,24,3],[33,1,33,3],[10,1,10,3],[11,1,11,3],[4,1,4,3],[29,1,29,3],[30,1,30,3],[8,1,8,3],[28,1,28,3],[9,1,9,3],[5,1,5,3],[23,1,23,3],[25,1,25,3],[26,1,26,3],[27,1,27,3],[26,6,26,7],[20,1,20,3],[21,1,21,3],[15,1,15,3],[2,1,2,3],[13,11,13,12],[16,5,16,7],[17,5,17,7],[6,5,6,7],[7,5,7,7],[10,11,10,13],[5,8,5,10],[16,1,16,3],[17,1,17,3],[18,1,18,3],[19,1,19,3]]}
[null,"金銭日記帳の使い方 ( 3ヶ月体験版）",null,null,null,"2012年　　　4月"]
[]
[1,"先ずはじめに　マクロ 機能を有効にしてください。",null,null,null,"日　　　　　　　記",null,null,"科　目","摘　　　　　要",null,"前 月 残 高",null,"******"]
[null,null,null,null,null,null,null,null,null,null,null,"収　入","支　出","残　高","確認"]
[2,"a    最初に シート名 [ 設定 ]を開いて黄色の枠に年号を西暦で入力する。",null,null,null,"2012-04-15","曇り","▼←天気を選択","電 気 料","▼科目を選択",null,null,"****",null,"**"]
[null,"b    収入科目と支出科目を作成する。　　また天気の設定をすることも可能です。",null,null,null,null,null,null,"← 科目欄は空白がないように詰めて入力のこと",null,null,null,"****","","*****"]
[null,"c    現金の残高及び口座関係の名前と開始残高を入力する。",null,null,null,null,null,null,"水 道 料",null,null,null,"****","","***"]
[null,null,null,null,null,null,null,null,"食　　　費","****　店","野菜　・　魚",null,"*****","","***"]
[3,"途中から記帳する場合は開始残高を記帳開始日の前日の黄色の枠へ入力する。",null,null,null,null,null,null,"",null,null,null,null,"","0"]
[null,null,null,null,null,null,null,"日記を入力"]
[4,"家計簿をつけるには　その日の日記を記入したら、はじめに黄色の",null,null,null,null,null,null,"",null,null,"最終行が必ず 0 になるように 　",null,null,""]
[null,"枠へ手持ち残高を入力する。",null,null,null,null,null,null,"",null,null,null,null,"",""]
[null,null,null,null,null,null,null,null,"",null,null,null,null,"",""]
[5,"金額を記入している時に”チェック”が表示されたら 未入力があるかまたは",null,null,null,null,null,null,"",null,null,"　　　　　今日の手持ち残高　⇒",null,"******",""]
[null,"入力にミスがある為 チェックをすること。",null,null,null,"2012-04-16","晴れ","コメント　欄","",null,null,null,null,"",""]
[null,null,null,null,null,null,null,null,"",null,null,null,null,"",""]
[6,"確認欄では その日の最終行が \"0\"と表示されているか確認すること",null,null,null,null,null,null,"",null,null,null,null,"",""]
[null,null,null,null,null,null,null,null,"",null,null,null,null,"",""]
[7,"口座入力表の日付欄には 必ず  月/日 このように入力して下さい。"]
[null,"「日」だけの入力ですと曜日が違ったり並べ替えがうまく出来ません。"]
[]
[8,"口座・通帳名　の列ではセルの左部分をクリックして ▼ 印で選択して下さい。"]
[]
[9,"口座入力表の 記帳日の日付が順不同であっても下記の方法で並べ替えが出来ます。",null,null,null,null,"銀行　その他　　　口座の入力表"]
[null,"左上　最初のセルから最終入力行の支出列までの範囲を指定する",null,null,null,"月 ・日　（曜 ）","口　座　・　通帳名",null,"科　目","摘　　　　　要",null,"前 月 残 高",null,"****"]
[null,"[データ]をクリック  次に[並べ替え]をクリック → ダイアログBoxが表れる",null,null,null,null,null,null,null,null,null,"収　入","支　出","総合残高","現在高"]
[null,"[最優先されるキー]は 列B を選択 並べ替えのキー　→ 値　順序→ 昇順",null,null,null,"2012-04-10","　←　　日付は　4/10 と入力",null,"科目を選択","▼"]
[null,"を確認して　OK をクリックして終了",null,null,null,null,null,"▼"]
[null,null,null,null,null,null,null,null,null,null,null,null,null,""]
[10,"記念写真をサムネイル画像にし、適当な場所へ貼り付けてハイパーリンクを",null,null,null,null,null,"　この部分をクリックして選択する",null,null,null,null,null,""]
[null,"設定しておけば、アルバム日誌としても利用できます。",null,null,null,"インターネットバンキングから CSV形式を *,xlsx 形式 に変換して",null,null,null,null,null,null,null,""]
[null,null,null,null,null,"貼り付けることも可能です。",null,null,"",null,null,null,null,""]
[null,"※　注意"]
[null,"この [ 金銭日記帳 ]　は公的機関では使用出来ません"]

{"sheet":"設定","index":1,"n_rows":77,"n_cols":14,"rows_kept":77,"cut":false,"hidden":false,"merged":[[24,9,25,9],[24,10,25,10],[24,7,25,7],[24,8,25,8],[1,3,1,5],[13,5,13,7],[22,6,22,7],[20,7,20,8],[15,7,15,9],[16,7,16,9],[17,7,17,9],[18,7,18,9],[19,7,19,9]]}
[null,"西　暦","開始月",null,null,null,null,null,null,null,null,null,{"$f":"IF(余り=0,閏年-59+日付,IF(余り=1,一年目+日付,IF(余り=2,二年目+日付,三年目+日付)))","v":-693974},{"$f":"IF(余翌年=0,閏翌年-59+日付,IF(余翌年=1,一年目+日付,IF(余翌年=2,二年目+日付,三年目+日付)))","v":-693608}]
[null,null,null,"金銭日記帳",null,null,null,null,null,null,null,null,{"$f":"IF(余り=0,閏年-59+日付+31,IF(余り=1,一年目+日付+31,IF(余り=2,二年目+日付+31,三年目+日付+31)))","v":-693943},{"$f":"IF(余翌年=0,閏翌年-59+日付+31,IF(余翌年=1,一年目+日付+31,IF(余翌年=2,二年目+日付+31,三年目+日付+31)))","v":-693577}]
[null,"年","月",null,null,null,null,null,null,null,null,null,{"$f":"IF(余り=0,閏年+1+日付,IF(余り=1,一年目+日付+59,IF(余り=2,二年目+日付+59,三年目+日付+59)))","v":-693914},{"$f":"IF(余翌年=0,閏翌年+1+日付,IF(余翌年=1,一年目+日付+59,IF(余翌年=2,二年目+日付+59,三年目+日付+59)))","v":-693549}]
[null,"年号を入力",null,null,null,null,null,null,null,null,null,null,{"$f":"IF(余り=0,閏年+32+日付,IF(余り=1,一年目+日付+90,IF(余り=2,二年目+日付+90,三年目+日付+90)))","v":-693883},{"$f":"IF(余翌年=0,閏翌年+32+日付,IF(余翌年=1,一年目+日付+90,IF(余翌年=2,二年目+日付+90,三年目+日付+90)))","v":-693518}]
[null,null,null,"収 入　科 目",null,null,"天気の設定",null,null,null,null,null,{"$f":"IF(余り=0,閏年+62+日付,IF(余り=1,一年目+日付+120,IF(余り=2,二年目+日付+120,三年目+日付+120)))","v":-693853},{"$f":"IF(余翌年=0,閏翌年+62+日付,IF(余翌年=1,一年目+日付+120,IF(余翌年=2,二年目+日付+120,三年目+日付+120)))","v":-693488}]
[null,null,1,null,null,null,null,null,null,null,null,null,{"$f":"IF(余り=0,閏年+93+日付,IF(余り=1,一年目+日付+151,IF(余り=2,二年目+日付+151,三年目+日付+151)))","v":-693822},{"$f":"IF(余翌年=0,閏翌年+93+日付,IF(余翌年=1,一年目+日付+151,IF(余翌年=2,二年目+日付+151,三年目+日付+151)))","v":-693457}]
[null,null,2,null,null,null,null,null,null,null,null,null,{"$f":"IF(余り=0,閏年+123+日付,IF(余り=1,一年目+日付+181,IF(余り=2,二年目+日付+181,三年目+日付+181)))","v":-693792},{"$f":"IF(余翌年=0,閏翌年+123+日付,IF(余翌年=1,一年目+日付+181,IF(余翌年=2,二年目+日付+181,三年目+日付+181)))","v":-693427}]
[null,null,3,null,null,null,null,"　← 全角 ４文字以内で入力して下さい。",null,null,null,null,{"$f":"IF(余り=0,閏年+154+日付,IF(余り=1,一年目+日付+212,IF(余り=2,二年目+日付+212,三年目+日付+212)))","v":-693761},{"$f":"IF(余翌年=0,閏翌年+154+日付,IF(余翌年=1,一年目+日付+212,IF(余翌年=2,二年目+日付+212,三年目+日付+212)))","v":-693396}]
[null,null,4,null,null,null,null,null,null,null,null,null,{"$f":"IF(余り=0,閏年+185+日付,IF(余り=1,一年目+日付+243,IF(余り=2,二年目+日付+243,三年目+日付+243)))","v":-693730},{"$f":"IF(余翌年=0,閏翌年+185+日付,IF(余翌年=1,一年目+日付+243,IF(余翌年=2,二年目+日付+243,三年目+日付+243)))","v":-693365}]
[null,null,5,null,null,null,null,null,null,null,null,null,{"$f":"IF(余り=0,閏年+214+日付,IF(余り=1,一年目+日付+272,IF(余り=2,二年目+日付+272,三年目+日付+272)))","v":-693700},{"$f":"IF(余翌年=0,閏翌年+214+日付,IF(余翌年=1,一年目+日付+272,IF(余翌年=2,二年目+日付+272,三年目+日付+272)))","v":-693335}]
[null,null,6,null,null,null,null,null,null,null,null,null,{"$f":"IF(余り=0,閏年+245+日付,IF(余り=1,一年目+日付+303,IF(余り=2,二年目+日付+303,三年目+日付+303)))","v":-693669},{"$f":"IF(余翌年=0,閏翌年+245+日付,IF(余翌年=1,一年目+日付+303,IF(余翌年=2,二年目+日付+303,三年目+日付+303)))","v":-693304}]
[null,null,7,null,null,null,null,null,null,null,null,null,{"$f":"IF(余り=0,閏年+275+日付,IF(余り=1,一年目+日付+333,IF(余り=2,二年目+日付+333,三年目+日付+333)))","v":-693639},{"$f":"IF(余翌年=0,閏翌年+275+日付,IF(余翌年=1,一年目+日付+333,IF(余翌年=2,二年目+日付+333,三年目+日付+333)))","v":-693274}]
[null,null,8]
[null,null,9,null,null,"←科目欄は 全角 ６文字以内で入力して下さい。"]
[null,null,10]
[null,null,null,null,null,null,null,"収入欄　10番目の科目と, 支出欄 60番目の科目には"]
[null,null,null,"支 出　科 目",null,null,null,"口座への入出金(移動)とか口座間の振替等に利用して下さい。"]
[null,null,1,null,null,null,null,"尚 移動項目が月末と月はじめにまたがった場合はどちらかの月で"]
[null,null,2,null,null,null,null,"調整して下さい。　入金と出金の金額が合わないと \"チェック\" となります。"]
[null,null,3,null,null,null,null,"尚　集計表には 出入それぞれの合計額が表示されます。"]
[null,null,4]
[null,null,5,null,null,null,null,null,null,"現 金 残 高","比　　　較"]
[null,null,6,null,null,null,"12月31日・または開始日前日の現金残高",null,null,{"$f":"'日記(3)'!J315","v":0},{"$f":"J23-I23","v":0}]
[null,null,7]
[null,null,8,null,null,null,null,"口　座　・ 通 帳 名","12月31日・または\n開始日前日の残高","今年度現在高","比　　　較"]
[null,null,9]
[null,null,10,null,null,null,null,null,null,{"$f":"I27+X!C$7-X!D$7","v":0},{"$f":"J27-I27","v":0}]
[null,null,11,null,null,null,null,null,null,{"$f":"I28+X!E$7-X!F$7","v":0},{"$f":"J28-I28","v":0}]
[null,null,12,null,null,null,null,null,null,{"$f":"I29+X!G$7-X!H$7","v":0},0]
[null,null,13,null,null,null,null,null,null,{"$f":"I30+X!I$7-X!J$7","v":0},0]
[null,null,14,null,null,null,null,null,null,{"$f":"I31+X!K$7-X!L$7","v":0},0]
[null,null,15,null,null,null,null,null,null,{"$f":"I32+X!M$7-X!N$7","v":0},0]
[null,null,16,null,null,null,null,null,null,{"$f":"I33+X!O$7-X!P$7","v":0},0]
[null,null,17,null,null,null,null,null,null,{"$f":"I34+X!Q$7-X!R$7","v":0},0]
[null,null,18,null,null,null,null,null,null,{"$f":"I35+X!S$7-X!T$7","v":0},0]
[null,null,19,null,null,null,null,null,null,{"$f":"I36+X!U$7-X!V$7","v":0},0]
[null,null,20,null,null,null,null,null,null,{"$f":"I37+X!W$7-X!X$7","v":0},0]
[null,null,21,null,null,null,null,null,null,{"$f":"I38+X!Y$7-X!Z$7","v":0},0]
[null,null,22,null,null,null,null,null,null,{"$f":"I39+X!AA$7-X!AB$7","v":0},0]
[null,null,23,null,null,null,null,null,null,{"$f":"I40+X!AC$7-X!AD$7","v":0},0]
[null,null,24,null,null,null,null,null,null,{"$f":"I41+X!AE$7-X!AF$7","v":0},0]
[null,null,25,null,null,null,null,"残 高 合 計 金 額",{"$f":"SUM(I27:I41)","v":0},{"$f":"SUM(J27:J41)","v":0},{"$f":"SUM(K27:K41)","v":0}]
[null,null,26,null,null,null,null,"↑"]
[null,null,27,null,null,null,null,"全角 １８文字以内で入力"]
[null,null,28,null,null,null,null,null,null,"合計現在高","比　　較"]
[null,null,29,null,null,null,null,"前年度　繰越金",{"$f":"I23+I42","v":0},{"$f":"J23+J42","v":0},{"$f":"J46-I46","v":0}]
[null,null,30]
[null,null,31]
[null,null,32]
[null,null,33]
[null,null,34]
[null,null,35]
[null,null,36]
[null,null,37,null,null,"←科目欄は 全角 ６文字以内で入力して下さい。"]
[null,null,38]
[null,null,39]
[null,null,40]
[null,null,41]
[null,null,42]
[null,null,43]
[null,null,44]
[null,null,45]
[null,null,46]
[null,null,47]
[null,null,48]
[null,null,49]
[null,null,50]
[null,null,51]
[null,null,52]
[null,null,53]
[null,null,54]
[null,null,55]
[null,null,56]
[null,null,57]
[null,null,58]
[null,null,59]
[null,null,60]

{"sheet":"日記(1)","index":2,"n_rows":431,"n_cols":11,"rows_kept":431,"cut":false,"hidden":false,"merged":[[311,1,311,3],[312,1,312,3],[313,1,313,3],[0,2,0,3],[306,1,306,3],[307,1,307,3],[308,1,308,3],[309,1,309,3],[310,1,310,3],[300,1,300,3],[301,1,301,3],[302,1,302,3],[303,1,303,3],[305,1,305,3],[295,1,295,3],[296,1,296,3],[297,1,297,3],[298,1,298,3],[299,1,299,3],[289,1,289,3],[290,1,290,3],[291,1,291,3],[292,1,292,3],[293,1,293,3],[283,1,283,3],[285,1,285,3],[286,1,286,3],[287,1,287,3],[288,1,288,3],[278,1,278,3],[279,1,279,3],[280,1,280,3],[281,1,281,3],[282,1,282,3],[272,1,272,3],[273,1,273,3],[275,1,275,3],[276,1,276,3],[277,1,277,3],[267,1,267,3],[268,1,268,3],[269,1,269,3],[270,1,270,3],[271,1,271,3],[261,1,261,3],[262,1,262,3],[263,1,263,3],[265,1,265,3],[266,1,266,3],[256,1,256,3],[257,1,257,3],[258,1,258,3],[259,1,259,3],[260,1,260,3],[250,1,250,3],[251,1,251,3],[252,1,252,3],[253,1,253,3],[255,1,255,3],[245,1,245,3],[246,1,246,3],[247,1,247,3],[248,1,248,3],[249,1,249,3],[239,1,239,3],[240,1,240,3],[241,1,241,3],[242,1,242,3],[243,1,243,3],[233,1,233,3],[235,1,235,3],[236,1,236,3],[237,1,237,3],[238,1,238,3],[228,1,228,3],[229,1,229,3],[230,1,230,3],[231,1,231,3],[232,1,232,3],[222,1,222,3],[223,1,223,3],[225,1,225,3],[226,1,226,3],[227,1,227,3],[217,1,217,3],[218,1,218,3],[219,1,219,3],[220,1,220,3],[221,1,221,3],[211,1,211,3],[212,1,212,3],[213,1,213,3],[215,1,215,3],[216,1,216,3],[206,1,206,3],[207,1,207,3],[208,1,208,3],[209,1,209,3],[210,1,210,3],[200,1,200,3],[201,1,201,3],[202,1,202,3],[203,1,203,3],[205,1,205,3],[195,1,195,3],[196,1,196,3],[197,1,197,3],[198,1,198,3],[199,1,199,3],[189,1,189,3],[190,1,190,3],[191,1,191,3],[192,1,192,3],[193,1,193,3],[183,1,183,3],[185,1,185,3],[186,1,186,3],[187,1,187,3],[188,1,188,3],[178,1,178,3],[179,1,179,3],[180,1,180,3],[181,1,181,3],[182,1,182,3],[172,1,172,3],[173,1,173,3],[175,1,175,3],[176,1,176,3],[177,1,177,3],[167,1,167,3],[168,1,168,3],[169,1,169,3],[170,1,170,3],[171,1,171,3],[161,1,161,3],[162,1,162,3],[163,1,163,3],[165,1,165,3],[166,1,166,3],[156,1,156,3],[157,1,157,3],[158,1,158,3],[159,1,159,3],[160,1,160,3],[150,1,150,3],[151,1,151,3],[152,1,152,3],[153,1,153,3],[155,1,155,3],[145,1,145,3],[146,1,146,3],[147,1,147,3],[148,1,148,3],[149,1,149,3],[139,1,139,3],[140,1,140,3],[141,1,141,3],[142,1,142,3],[143,1,143,3],[133,1,133,3],[135,1,135,3],[136,1,136,3],[137,1,137,3],[138,1,138,3],[128,1,128,3],[129,1,129,3],[130,1,130,3],[131,1,131,3],[132,1,132,3],[122,1,122,3],[123,1,123,3],[125,1,125,3],[126,1,126,3],[127,1,127,3],[117,1,117,3],[118,1,118,3],[119,1,119,3],[120,1,120,3],[121,1,121,3],[111,1,111,3],[112,1,112,3],[113,1,113,3],[115,1,115,3],[116,1,116,3],[106,1,106,3],[107,1,107,3],[108,1,108,3],[109,1,109,3],[110,1,110,3],[100,1,100,3],[101,1,101,3],[102,1,102,3],[103,1,103,3],[105,1,105,3],[95,1,95,3],[96,1,96,3],[97,1,97,3],[98,1,98,3],[99,1,99,3],[89,1,89,3],[90,1,90,3],[91,1,91,3],[92,1,92,3],[93,1,93,3],[83,1,83,3],[85,1,85,3],[86,1,86,3],[87,1,87,3],[88,1,88,3],[78,1,78,3],[79,1,79,3],[80,1,80,3],[81,1,81,3],[82,1,82,3],[72,1,72,3],[73,1,73,3],[75,1,75,3],[76,1,76,3],[77,1,77,3],[67,1,67,3],[68,1,68,3],[69,1,69,3],[70,1,70,3],[71,1,71,3],[61,1,61,3],[62,1,62,3],[63,1,63,3],[65,1,65,3],[66,1,66,3],[56,1,56,3],[57,1,57,3],[58,1,58,3],[59,1,59,3],[60,1,60,3],[50,1,50,3],[51,1,51,3],[52,1,52,3],[53,1,53,3],[55,1,55,3],[2,1,3,3],[319,7,319,8],[413,7,413,8],[2,4,3,4],[2,5,3,6],[2,7,2,8],[319,4,320,4],[319,5,320,6],[31,1,31,3],[32,1,32,3],[22,1,22,3],[23,1,23,3],[25,1,25,3],[26,1,26,3],[27,1,27,3],[33,1,33,3],[35,1,35,3],[36,1,36,3],[37,1,37,3],[38,1,38,3],[15,1,15,3],[16,1,16,3],[28,1,28,3],[29,1,29,3],[11,1,11,3],[12,1,12,3],[13,1,13,3],[5,1,5,3],[6,1,6,3],[7,1,7,3],[8,1,8,3],[9,1,9,3],[10,1,10,3],[321,2,321,3],[322,2,322,3],[323,2,323,3],[324,2,324,3],[325,2,325,3],[326,2,326,3],[17,1,17,3],[18,1,18,3],[19,1,19,3],[20,1,20,3],[21,1,21,3],[319,1,320,1],[319,2,320,3],[30,1,30,3],[45,1,45,3],[46,1,46,3],[47,1,47,3],[48,1,48,3],[49,1,49,3],[39,1,39,3],[40,1,40,3],[41,1,41,3],[42,1,42,3],[43,1,43,3],[333,2,333,3],[334,2,334,3],[335,2,335,3],[336,2,336,3],[337,2,337,3],[338,2,338,3],[327,2,327,3],[328,2,328,3],[329,2,329,3],[330,2,330,3],[331,2,331,3],[332,2,332,3],[345,2,345,3],[346,2,346,3],[347,2,347,3],[348,2,348,3],[349,2,349,3],[350,2,350,3],[339,2,339,3],[340,2,340,3],[341,2,341,3],[342,2,342,3],[343,2,343,3],[344,2,344,3],[357,2,357,3],[358,2,358,3],[359,2,359,3],[360,2,360,3],[361,2,361,3],[362,2,362,3],[351,2,351,3],[352,2,352,3],[353,2,353,3],[354,2,354,3],[355,2,355,3],[356,2,356,3],[369,2,369,3],[370,2,370,3],[371,2,371,3],[372,2,372,3],[373,2,373,3],[374,2,374,3],[363,2,363,3],[364,2,364,3],[365,2,365,3],[366,2,366,3],[367,2,367,3],[368,2,368,3],[381,2,381,3],[382,2,382,3],[383,2,383,3],[384,2,384,3],[385,2,385,3],[386,2,386,3],[375,2,375,3],[376,2,376,3],[377,2,377,3],[378,2,378,3],[379,2,379,3],[380,2,380,3],[393,2,393,3],[394,2,394,3],[395,2,395,3],[396,2,396,3],[397,2,397,3],[398,2,398,3],[387,2,387,3],[388,2,388,3],[389,2,389,3],[390,2,390,3],[391,2,391,3],[392,2,392,3],[405,2,405,3],[406,2,406,3],[407,2,407,3],[408,2,408,3],[409,2,409,3],[410,2,410,3],[399,2,399,3],[400,2,400,3],[401,2,401,3],[402,2,402,3],[403,2,403,3],[404,2,404,3]]}
[null,{"$f":"IF(設定!$B$2=\"\",\"\",設定!$B$2)","v":""},{"$f":"\"年　　\"&IF(設定!$C$2=\"\",\"\",設定!$C$2)&\"　月\"","v":"年　　　月"},"年　　　月"]
[]
[null,"日　　　　　　記",null,null,"科　　目","摘　　　  　要",null,"前 月 繰越金",null,{"$f":"設定!I23","v":0}]
[null,null,null,null,null,null,null,"収　入","支　出","残　高","確 認"]
[null,{"$f":"IF(設定BC,\"\",今年M0)","v":""},"",null,null,null,null,null,null,{"$f":"IF(E5=\"\",\"\",IF(収支参照,\"\",IF(ISERROR(J3+H列-I列),\"チェック\",J3+H列-I列)))","v":""},{"$f":"IF(J14=\"\",\"\",IF(ISERROR(J14-J3),\"チェック\",J14-J3))","v":""}]
[null,null,null,null,null,null,null,null,null,{"$f":"IF(E6=\"\",\"\",IF(収支参照,\"\",IF(ISERROR(当日残高),\"チェック\",当日残高)))","v":""},{"$f":"IF(GH参照,IF(E5<>\"\",IF(ISERROR(確認),\"チェック\",確認),\"科目入力\"),\"\")","v":""}]
[null,null,null,null,null,null,null,null,null,"",""]
[null,null,null,null,null,null,null,null,null,"",""]
[null,null,null,null,null,null,null,null,null,"",{"$f":"IF(GH参照,IF(E8<>\"\",IF(ISERROR(確認),\"チェック\",確認),\"科目入力\"),\"\")","v":""}]
[null,null,null,null,null,null,null,null,null,{"$f":"IF(E10=\"\",\"\",IF(収支参照,\"\",IF(ISERROR(当日残高),\"チェック\",当日残高)))","v":""},""]
[null,null,null,null,null,null,null,null,null,"",""]
[null,null,null,null,null,null,null,null,null,"",""]
[null,null,null,null,null,null,null,null,null,"",""]
[null,null,null,null,null,null,null,null,null,null,{"$f":"IF(J14=\"\",\"\",IF(J13=J14,0,IF(GH参照,IF(E13<>\"\",IF(入出参照,IF(E14<>\"\",IF(再確認<>0,\"チェック\",再確認),\"科目入力\"),再確認),\"科目入力\"),\"\")))","v":""}]
[null,{"$f":"IF(設定BC,\"\",今年M0)","v":""},null,null,null,null,null,null,null,{"$f":"IF(E15=\"\",\"\",IF(収支参照,\"\",IF(ISERROR(J列+H列-I列),\"チェック\",J列+H列-I列)))","v":""},{"$f":"IF(J24=\"\",\"\",J24-J14)","v":""}]
[null,null,null,null,null,null,null,null,null,{"$f":"IF(E16=\"\",\"\",IF(収支参照,\"\",IF(ISERROR(当日残高),\"チェック\",当日残高)))","v":""},{"$f":"IF(GH参照,IF(E15<>\"\",IF(ISERROR(確認),\"チェック\",確認),\"科目入力\"),\"\")","v":""}]
[null,null,null,null,null,null,null,null,null,"",""]
[null,null,null,null,null,null,null,null,null,"",""]
[null,null,null,null,null,null,null,null,null,"",""]
[null,null,null,null,null,null,null,null,null,"",""]
[null,null,null,null,null,null,null,null,null,"",""]
[null,null,null,null,null,null,null,null,null,"",""]
[null,null,null,null,null,null,null,null,null,"",""]
[null,null,null,null,null,null,null,null,null,null,{"$f":"IF(J24=\"\",\"\",IF(J23=J24,0,IF(GH参照,IF(E23<>\"\",IF(入出参照,IF(E24<>\"\",IF(再確認<>0,\"チェック\",再確認),\"科目入力\"),再確認),\"科目入力\"),\"\")))","v":""}]
[null,{"$f":"IF(設定BC,\"\",今年M0)","v":""},"",null,null,null,null,null,null,{"$f":"IF(E25=\"\",\"\",IF(収支参照,\"\",IF(ISERROR(J列+H列-I列),\"チェック\",J列+H列-I列)))","v":""},{"$f":"IF(J34=\"\",\"\",J34-J24)","v":""}]
[null,null,null,null,null,null,null,null,null,{"$f":"IF(E26=\"\",\"\",IF(収支参照,\"\",IF(ISERROR(当日残高),\"チェック\",当日残高)))","v":""},{"$f":"IF(GH参照,IF(E25<>\"\",IF(ISERROR(確認),\"チェック\",確認),\"科目入力\"),\"\")","v":""}]
[null,null,null,null,null,null,null,null,null,"",""]
[null,null,null,null,null,null,null,null,null,"",""]
[null,null,null,null,null,null,null,null,null,"",""]
[null,null,null,null,null,null,null,null,null,"",""]
[null,null,null,null,null,null,null,null,null,"",""]
[null,null,null,null,null,null,null,null,null,"",""]
[null,null,null,null,null,null,null,null,null,"",""]
[null,null,null,null,null,null,null,null,null,null,{"$f":"IF(J34=\"\",\"\",IF(J33=J34,0,IF(GH参照,IF(E33<>\"\",IF(入出参照,IF(E34<>\"\",IF(再確認<>0,\"チェック\",再確認),\"科目入力\"),再確認),\"科目入力\"),\"\")))","v":""}]
[null,{"$f":"IF(設定BC,\"\",今年M0)","v":""},"",null,null,null,null,null,null,{"$f":"IF(E35=\"\",\"\",IF(収支参照,\"\",IF(ISERROR(J列+H列-I列),\"チェック\",J列+H列-I列)))","v":""},{"$f":"IF(J44=\"\",\"\",J44-J34)","v":""}]
[null,null,null,null,null,null,null,null,null,"",""]
[null,null,null,null,null,null,null,null,null,"",""]
[null,null,null,null,null,null,null,null,null,"",""]
[null,null,null,null,null,null,null,null,null,"",""]
[null,null,null,null,null,null,null,null,null,"",""]
[null,null,null,null,null,null,null,null,null,"",""]
[null,null,null,null,null,null,null,null,null,"",""]
[null,null,null,null,null,null,null,null,null,"",""]
[null,null,null,null,null,null,null,null,null,null,{"$f":"IF(J44=\"\",\"\",IF(J43=J44,0,IF(GH参照,IF(E43<>\"\",IF(入出参照,IF(E44<>\"\",IF(再確認<>0,\"チェック\",再確認),\"科目入力\"),再確認),\"科目入力\"),\"\")))","v":""}]
[null,{"$f":"IF(設定BC,\"\",今年M0)","v":""},null,null,null,null,null,null,null,{"$f":"IF(E45=\"\",\"\",IF(収支参照,\"\",IF(ISERROR(J列+H列-I列),\"チェック\",J列+H列-I列)))","v":""},{"$f":"IF(J54=\"\",\"\",J54-J44)","v":""}]
[null,null,null,null,null,null,null,null,null,"",""]
[null,null,null,null,null,null,null,null,null,"",""]
[null,null,null,null,null,null,null,null,null,"",""]
[null,null,null,null,null,null,null,null,null,"",""]
[null,null,null,null,null,null,null,null,null,"",""]
[null,null,null,null,null,null,null,null,null,"",""]
[null,null,null,null,null,null,null,null,null,"",""]
[null,null,null,null,null,null,null,null,null,"",""]
[null,null,null,null,null,null,null,null,null,null,{"$f":"IF(J54=\"\",\"\",IF(J53=J54,0,IF(GH参照,IF(E53<>\"\",IF(入出参照,IF(E54<>\"\",IF(再確認<>0,\"チェック\",再確認),\"科目入力\"),再確認),\"科目入力\"),\"\")))","v":""}]
[null,{"$f":"IF(設定BC,\"\",今年M0)","v":""},null,null,null,null,null,null,null,{"$f":"IF(E55=\"\",\"\",IF(収支参照,\"\",IF(ISERROR(J列+H列-I列),\"チェック\",J列+H列-I列)))","v":""},{"$f":"IF(J64=\"\",\"\",J64-J54)","v":""}]
[null,null,null,null,null,null,null,null,null,"",""]
[null,null,null,null,null,null,null,null,null,"",""]
[null,null,null,null,null,null,null,null,null,"",""]
[null,null,null,null,null,null,null,null,null,"",""]
[null,null,null,null,null,null,null,null,null,"",""]
[null,null,null,null,null,null,null,null,null,"",""]
[null,null,null,null,null,null,null,null,null,"",""]
[null,null,null,null,null,null,null,null,null,"",""]
[null,null,null,null,null,null,null,null,null,null,{"$f":"IF(J64=\"\",\"\",IF(J63=J64,0,IF(GH参照,IF(E63<>\"\",IF(入出参照,IF(E64<>\"\",IF(再確認<>0,\"チェック\",再確認),\"科目入力\"),再確認),\"科目入力\"),\"\")))","v":""}]
[null,{"$f":"IF(設定BC,\"\",今年M0)","v":""},"",null,null,null,null,null,null,{"$f":"IF(E65=\"\",\"\",IF(収支参照,\"\",IF(ISERROR(J列+H列-I列),\"チェック\",J列+H列-I列)))","v":""},{"$f":"IF(J74=\"\",\"\",J74-J64)","v":""}]
[null,null,null,null,null,null,null,null,null,"",""]
[null,null,null,null,null,null,null,null,null,"",""]
[null,null,null,null,null,null,null,null,null,"",""]
[null,null,null,null,null,null,null,null,null,"",""]
[null,null,null,null,null,null,null,null,null,"",""]
[null,null,null,null,null,null,null,null,null,"",""]
[null,null,null,null,null,null,null,null,null,"",""]
[null,null,null,null,null,null,null,null,null,"",""]
[null,null,null,null,null,null,null,null,null,null,{"$f":"IF(J74=\"\",\"\",IF(J73=J74,0,IF(GH参照,IF(E73<>\"\",IF(入出参照,IF(E74<>\"\",IF(再確認<>0,\"チェック\",再確認),\"科目入力\"),再確認),\"科目入力\"),\"\")))","v":""}]
[null,{"$f":"IF(設定BC,\"\",今年M0)","v":""},"",null,null,null,null,null,null,{"$f":"IF(E75=\"\",\"\",IF(収支参照,\"\",IF(ISERROR(J列+H列-I列),\"チェック\",J列+H列-I列)))","v":""},{"$f":"IF(J84=\"\",\"\",J84-J74)","v":""}]
[null,null,null,null,null,null,null,null,null,"",""]
[null,null,null,null,null,null,null,null,null,"",""]
[null,null,null,null,null,null,null,null,null,"",""]
[null,null,null,null,null,null,null,null,null,"",""]
[null,null,null,null,null,null,null,null,null,"",""]
[null,null,null,null,null,null,null,null,null,"",""]
[null,null,null,null,null,null,null,null,null,"",""]
[null,null,null,null,null,null,null,null,null,"",""]
[null,null,null,null,null,null,null,null,null,null,{"$f":"IF(J84=\"\",\"\",IF(J83=J84,0,IF(GH参照,IF(E83<>\"\",IF(入出参照,IF(E84<>\"\",IF(再確認<>0,\"チェック\",再確認),\"科目入力\"),再確認),\"科目入力\"),\"\")))","v":""}]
[null,{"$f":"IF(設定BC,\"\",今年M0)","v":""},"",null,null,null,null,null,null,{"$f":"IF(E85=\"\",\"\",IF(収支参照,\"\",IF(ISERROR(J列+H列-I列),\"チェック\",J列+H列-I列)))","v":""},{"$f":"IF(J94=\"\",\"\",J94-J84)","v":""}]
[null,null,null,null,null,null,null,null,null,"",""]
[null,null,null,null,null,null,null,null,null,"",""]
[null,null,null,null,null,null,null,null,null,"",""]
[null,null,null,null,null,null,null,null,null,"",""]
[null,null,null,null,null,null,null,null,null,{"$f":"IF(E90=\"\",\"\",IF(収支参照,\"\",IF(ISERROR(当日残高),\"チェック\",当日残高)))","v":""},{"$f":"IF(GH参照,IF(E89<>\"\",IF(ISERROR(確認),\"チェック\",確認),\"科目入力\"),\"\")","v":""}]
[null,null,null,null,null,null,null,null,null,"",""]
[null,null,null,null,null,null,null,null,null,"",""]
[null,null,null,null,null,null,null,null,null,"",""]
[null,null,null,null,null,null,null,null,null,null,{"$f":"IF(J94=\"\",\"\",IF(J93=J94,0,IF(GH参照,IF(E93<>\"\",IF(入出参照,IF(E94<>\"\",IF(再確認<>0,\"チェック\",再確認),\"科目入力\"),再確認),\"科目入力\"),\"\")))","v":""}]
[null,{"$f":"IF(設定BC,\"\",今年M0)","v":""},"",null,null,null,null,null,null,{"$f":"IF(E95=\"\",\"\",IF(収支参照,\"\",IF(ISERROR(J列+H列-I列),\"チェック\",J列+H列-I列)))","v":""},{"$f":"IF(J104=\"\",\"\",J104-J94)","v":""}]
[null,null,null,null,null,null,null,null,null,"",""]
[null,null,null,null,null,null,null,null,null,"",""]
[null,null,null,null,null,null,null,null,null,"",""]
[null,null,null,null,null,null,null,null,null,"",""]
[null,null,null,null,null,null,null,null,null,"",""]
[null,null,null,null,null,null,null,null,null,"",""]
[null,null,null,null,null,null,null,null,null,"",""]
[null,null,null,null,null,null,null,null,null,"",""]
[null,null,null,null,null,null,null,null,null,null,{"$f":"IF(J104=\"\",\"\",IF(J103=J104,0,IF(GH参照,IF(E103<>\"\",IF(入出参照,IF(E104<>\"\",IF(再確認<>0,\"チェック\",再確認),\"科目入力\"),再確認),\"科目入力\"),\"\")))","v":""}]
[null,{"$f":"IF(設定BC,\"\",今年M0)","v":""},"",null,null,null,null,null,null,{"$f":"IF(E105=\"\",\"\",IF(収支参照,\"\",IF(ISERROR(J列+H列-I列),\"チェック\",J列+H列-I列)))","v":""},{"$f":"IF(J114=\"\",\"\",J114-J104)","v":""}]
[null,null,null,null,null,null,null,null,null,"",""]
[null,null,null,null,null,null,null,null,null,"",""]
[null,null,null,null,null,null,null,null,null,"",""]
[null,null,null,null,null,null,null,null,null,"",""]
[null,null,null,null,null,null,null,null,null,"",""]
[null,null,null,null,null,null,null,null,null,"",""]
[null,null,null,null,null,null,null,null,null,"",""]
[null,null,null,null,null,null,null,null,null,"",""]
[null,null,null,null,null,null,null,null,null,null,{"$f":"IF(J114=\"\",\"\",IF(J113=J114,0,IF(GH参照,IF(E113<>\"\",IF(入出参照,IF(E114<>\"\",IF(再確認<>0,\"チェック\",再確認),\"科目入力\"),再確認),\"科目入力\"),\"\")))","v":""}]
[null,{"$f":"IF(設定BC,\"\",今年M0)","v":""},"",null,null,null,null,null,null,{"$f":"IF(E115=\"\",\"\",IF(収支参照,\"\",IF(ISERROR(J列+H列-I列),\"チェック\",J列+H列-I列)))","v":""},{"$f":"IF(J124=\"\",\"\",J124-J114)","v":""}]
[null,null,null,null,null,null,null,null,null,"",""]
[null,null,null,null,null,null,null,null,null,"",""]
[null,null,null,null,null,null,null,null,null,"",""]
[null,null,null,null,null,null,null,null,null,"",""]
[null,null,null,null,null,null,null,null,null,"",""]
[null,null,null,null,null,null,null,null,null,"",""]
[null,null,null,null,null,null,null,null,null,"",""]
[null,null,null,null,null,null,null,null,null,"",""]
[null,null,null,null,null,null,null,null,null,null,{"$f":"IF(J124=\"\",\"\",IF(J123=J124,0,IF(GH参照,IF(E123<>\"\",IF(入出参照,IF(E124<>\"\",IF(再確認<>0,\"チェック\",再確認),\"科目入力\"),再確認),\"科目入力\"),\"\")))","v":""}]
[null,{"$f":"IF(設定BC,\"\",今年M0)","v":""},"",null,null,null,null,null,null,{"$f":"IF(E125=\"\",\"\",IF(収支参照,\"\",IF(ISERROR(J列+H列-I列),\"チェック\",J列+H列-I列)))","v":""},{"$f":"IF(J134=\"\",\"\",J134-J124)","v":""}]
[null,null,null,null,null,null,null,null,null,"",""]
[null,null,null,null,null,null,null,null,null,"",""]
[null,null,null,null,null,null,null,null,null,"",""]
[null,null,null,null,null,null,null,null,null,"",""]
[null,null,null,null,null,null,null,null,null,"",""]
[null,null,null,null,null,null,null,null,null,"",""]
[null,null,null,null,null,null,null,null,null,"",""]
[null,null,null,null,null,null,null,null,null,"",""]
[null,null,null,null,null,null,null,null,null,null,{"$f":"IF(J134=\"\",\"\",IF(J133=J134,0,IF(GH参照,IF(E133<>\"\",IF(入出参照,IF(E134<>\"\",IF(再確認<>0,\"チェック\",再確認),\"科目入力\"),再確認),\"科目入力\"),\"\")))","v":""}]
[null,{"$f":"IF(設定BC,\"\",今年M0)","v":""},"",null,null,null,null,null,null,{"$f":"IF(E135=\"\",\"\",IF(収支参照,\"\",IF(ISERROR(J列+H列-I列),\"チェック\",J列+H列-I列)))","v":""},{"$f":"IF(J144=\"\",\"\",J144-J134)","v":""}]
[null,null,null,null,null,null,null,null,null,"",""]
[null,null,null,null,null,null,null,null,null,"",""]
[null,null,null,null,null,null,null,null,null,"",""]
[null,null,null,null,null,null,null,null,null,"",""]
[null,null,null,null,null,null,null,null,null,"",""]
[null,null,null,null,null,null,null,null,null,"",""]
[null,null,null,null,null,null,null,null,null,"",""]
[null,null,null,null,null,null,null,null,null,"",""]
[null,null,null,null,null,null,null,null,null,null,{"$f":"IF(J144=\"\",\"\",IF(J143=J144,0,IF(GH参照,IF(E143<>\"\",IF(入出参照,IF(E144<>\"\",IF(再確認<>0,\"チェック\",再確認),\"科目入力\"),再確認),\"科目入力\"),\"\")))","v":""}]
[null,{"$f":"IF(設定BC,\"\",今年M0)","v":""},"",null,null,null,null,null,null,{"$f":"IF(E145=\"\",\"\",IF(収支参照,\"\",IF(ISERROR(J列+H列-I列),\"チェック\",J列+H列-I列)))","v":""},{"$f":"IF(J154=\"\",\"\",J154-J144)","v":""}]
[null,null,null,null,null,null,null,null,null,"",""]
[null,null,null,null,null,null,null,null,null,"",""]
[null,null,null,null,null,null,null,null,null,"",""]
[null,null,null,null,null,null,null,null,null,"",""]
[null,null,null,null,null,null,null,null,null,"",""]
[null,null,null,null,null,null,null,null,null,"",""]
[null,null,null,null,null,null,null,null,null,"",""]
[null,null,null,null,null,null,null,null,null,"",""]
[null,null,null,null,null,null,null,null,null,null,{"$f":"IF(J154=\"\",\"\",IF(J153=J154,0,IF(GH参照,IF(E153<>\"\",IF(入出参照,IF(E154<>\"\",IF(再確認<>0,\"チェック\",再確認),\"科目入力\"),再確認),\"科目入力\"),\"\")))","v":""}]
[null,{"$f":"IF(設定BC,\"\",今年M0)","v":""},"",null,null,null,null,null,null,{"$f":"IF(E155=\"\",\"\",IF(収支参照,\"\",IF(ISERROR(J列+H列-I列),\"チェック\",J列+H列-I列)))","v":""},{"$f":"IF(J164=\"\",\"\",J164-J154)","v":""}]
[null,null,null,null,null,null,null,null,null,{"$f":"IF(E156=\"\",\"\",IF(収支参照,\"\",IF(ISERROR(当日残高),\"チェック\",当日残高)))","v":""},{"$f":"IF(GH参照,IF(E155<>\"\",IF(ISERROR(確認),\"チェック\",確認),\"科目入力\"),\"\")","v":""}]
[null,null,null,null,null,null,null,null,null,"",""]
[null,null,null,null,null,null,null,null,null,"",""]
[null,null,null,null,null,null,null,null,null,"",""]
[null,null,null,null,null,null,null,null,null,"",""]
[null,null,null,null,null,null,null,null,null,"",""]
[null,null,null,null,null,null,null,null,null,"",""]
[null,null,null,null,null,null,null,null,null,"",""]
[null,null,null,null,null,null,null,null,null,null,{"$f":"IF(J164=\"\",\"\",IF(J163=J164,0,IF(GH参照,IF(E163<>\"\",IF(入出参照,IF(E164<>\"\",IF(再確認<>0,\"チェック\",再確認),\"科目入力\"),再確認),\"科目入力\"),\"\")))","v":""}]
[null,{"$f":"IF(設定BC,\"\",今年M0)","v":""},"",null,null,null,null,null,null,{"$f":"IF(E165=\"\",\"\",IF(収支参照,\"\",IF(ISERROR(J列+H列-I列),\"チェック\",J列+H列-I列)))","v":""},{"$f":"IF(J174=\"\",\"\",J174-J164)","v":""}]
[null,null,null,null,null,null,null,null,null,"",""]
[null,null,null,null,null,null,null,null,null,"",""]
[null,null,null,null,null,null,null,null,null,"",""]
[null,null,null,null,null,null,null,null,null,"",""]
[null,null,null,null,null,null,null,null,null,"",""]
[null,null,null,null,null,null,null,null,null,"",""]
[null,null,null,null,null,null,null,null,null,"",""]
[null,null,null,null,null,null,null,null,null,"",""]
[null,null,null,null,null,null,null,null,null,null,{"$f":"IF(J174=\"\",\"\",IF(J173=J174,0,IF(GH参照,IF(E173<>\"\",IF(入出参照,IF(E174<>\"\",IF(再確認<>0,\"チェック\",再確認),\"科目入力\"),再確認),\"科目入力\"),\"\")))","v":""}]
[null,{"$f":"IF(設定BC,\"\",今年M0)","v":""},"",null,null,null,null,null,null,{"$f":"IF(E175=\"\",\"\",IF(収支参照,\"\",IF(ISERROR(J列+H列-I列),\"チェック\",J列+H列-I列)))","v":""},{"$f":"IF(J184=\"\",\"\",J184-J174)","v":""}]
[null,null,null,null,null,null,null,null,null,"",""]
[null,null,null,null,null,null,null,null,null,"",""]
[null,null,null,null,null,null,null,null,null,"",""]
[null,null,null,null,null,null,null,null,null,"",""]
[null,null,null,null,null,null,null,null,null,"",""]
[null,null,null,null,null,null,null,null,null,"",""]
[null,null,null,null,null,null,null,null,null,"",""]
[null,null,null,null,null,null,null,null,null,"",""]
[null,null,null,null,null,null,null,null,null,null,{"$f":"IF(J184=\"\",\"\",IF(J183=J184,0,IF(GH参照,IF(E183<>\"\",IF(入出参照,IF(E184<>\"\",IF(再確認<>0,\"チェック\",再確認),\"科目入力\"),再確認),\"科目入力\"),\"\")))","v":""}]
[null,{"$f":"IF(設定BC,\"\",今年M0)","v":""},"",null,null,null,null,null,null,{"$f":"IF(E185=\"\",\"\",IF(収支参照,\"\",IF(ISERROR(J列+H列-I列),\"チェック\",J列+H列-I列)))","v":""},{"$f":"IF(J194=\"\",\"\",J194-J184)","v":""}]
[null,null,null,null,null,null,null,null,null,"",""]
[null,null,null,null,null,null,null,null,null,"",""]
[null,null,null,null,null,null,null,null,null,"",""]
[null,null,null,null,null,null,null,null,null,"",""]
[null,null,null,null,null,null,null,null,null,"",""]
[null,null,null,null,null,null,null,null,null,"",""]
[null,null,null,null,null,null,null,null,null,"",""]
[null,null,null,null,null,null,null,null,null,"",""]
[null,null,null,null,null,null,null,null,null,null,{"$f":"IF(J194=\"\",\"\",IF(J193=J194,0,IF(GH参照,IF(E193<>\"\",IF(入出参照,IF(E194<>\"\",IF(再確認<>0,\"チェック\",再確認),\"科目入力\"),再確認),\"科目入力\"),\"\")))","v":""}]
[null,{"$f":"IF(設定BC,\"\",今年M0)","v":""},"",null,null,null,null,null,null,{"$f":"IF(E195=\"\",\"\",IF(収支参照,\"\",IF(ISERROR(J列+H列-I列),\"チェック\",J列+H列-I列)))","v":""},{"$f":"IF(J204=\"\",\"\",J204-J194)","v":""}]
[null,null,null,null,null,null,null,null,null,"",""]
[null,null,null,null,null,null,null,null,null,"",""]
[null,null,null,null,null,null,null,null,null,"",""]
[null,null,null,null,null,null,null,null,null,"",""]
[null,null,null,null,null,null,null,null,null,"",""]
[null,null,null,null,null,null,null,null,null,"",""]
[null,null,null,null,null,null,null,null,null,"",""]
[null,null,null,null,null,null,null,null,null,"",""]
[null,null,null,null,null,null,null,null,null,null,{"$f":"IF(J204=\"\",\"\",IF(J203=J204,0,IF(GH参照,IF(E203<>\"\",IF(入出参照,IF(E204<>\"\",IF(再確認<>0,\"チェック\",再確認),\"科目入力\"),再確認),\"科目入力\"),\"\")))","v":""}]
[null,{"$f":"IF(設定BC,\"\",今年M0)","v":""},"",null,null,null,null,null,null,{"$f":"IF(E205=\"\",\"\",IF(収支参照,\"\",IF(ISERROR(J列+H列-I列),\"チェック\",J列+H列-I列)))","v":""},{"$f":"IF(J214=\"\",\"\",J214-J204)","v":""}]
[null,null,null,null,null,null,null,null,null,"",""]
[null,null,null,null,null,null,null,null,null,"",""]
[null,null,null,null,null,null,null,null,null,"",""]
[null,null,null,null,null,null,null,null,null,"",""]
[null,null,null,null,null,null,null,null,null,"",""]
[null,null,null,null,null,null,null,null,null,"",""]
[null,null,null,null,null,null,null,null,null,"",""]
[null,null,null,null,null,null,null,null,null,"",""]
[null,null,null,null,null,null,null,null,null,null,{"$f":"IF(J214=\"\",\"\",IF(J213=J214,0,IF(GH参照,IF(E213<>\"\",IF(入出参照,IF(E214<>\"\",IF(再確認<>0,\"チェック\",再確認),\"科目入力\"),再確認),\"科目入力\"),\"\")))","v":""}]
[null,{"$f":"IF(設定BC,\"\",今年M0)","v":""},"",null,null,null,null,null,null,{"$f":"IF(E215=\"\",\"\",IF(収支参照,\"\",IF(ISERROR(J列+H列-I列),\"チェック\",J列+H列-I列)))","v":""},{"$f":"IF(J224=\"\",\"\",J224-J214)","v":""}]
[null,null,null,null,null,null,null,null,null,"",""]
[null,null,null,null,null,null,null,null,null,"",""]
[null,null,null,null,null,null,null,null,null,"",""]
[null,null,null,null,null,null,null,null,null,"",""]
[null,null,null,null,null,null,null,null,null,{"$f":"IF(E220=\"\",\"\",IF(収支参照,\"\",IF(ISERROR(当日残高),\"チェック\",当日残高)))","v":""},{"$f":"IF(GH参照,IF(E219<>\"\",IF(ISERROR(確認),\"チェック\",確認),\"科目入力\"),\"\")","v":""}]
[null,null,null,null,null,null,null,null,null,"",""]
[null,null,null,null,null,null,null,null,null,"",""]
[null,null,null,null,null,null,null,null,null,"",""]
[null,null,null,null,null,null,null,null,null,null,{"$f":"IF(J224=\"\",\"\",IF(J223=J224,0,IF(GH参照,IF(E223<>\"\",IF(入出参照,IF(E224<>\"\",IF(再確認<>0,\"チェック\",再確認),\"科目入力\"),再確認),\"科目入力\"),\"\")))","v":""}]
[null,{"$f":"IF(設定BC,\"\",今年M0)","v":""},null,null,null,null,null,null,null,{"$f":"IF(E225=\"\",\"\",IF(収支参照,\"\",IF(ISERROR(J列+H列-I列),\"チェック\",J列+H列-I列)))","v":""},{"$f":"IF(J234=\"\",\"\",J234-J224)","v":""}]
[null,null,null,null,null,null,null,null,null,"",""]
[null,null,null,null,null,null,null,null,null,"",""]
[null,null,null,null,null,null,null,null,null,"",""]
[null,null,null,null,null,null,null,null,null,"",""]
[null,null,null,null,null,null,null,null,null,"",""]
[null,null,null,null,null,null,null,null,null,"",""]
[null,null,null,null,null,null,null,null,null,"",""]
[null,null,null,null,null,null,null,null,null,"",""]
[null,null,null,null,null,null,null,null,null,null,{"$f":"IF(J234=\"\",\"\",IF(J233=J234,0,IF(GH参照,IF(E233<>\"\",IF(入出参照,IF(E234<>\"\",IF(再確認<>0,\"チェック\",再確認),\"科目入力\"),再確認),\"科目入力\"),\"\")))","v":""}]
[null,{"$f":"IF(設定BC,\"\",今年M0)","v":""},null,null,null,null,null,null,null,{"$f":"IF(E235=\"\",\"\",IF(収支参照,\"\",IF(ISERROR(J列+H列-I列),\"チェック\",J列+H列-I列)))","v":""},{"$f":"IF(J244=\"\",\"\",J244-J234)","v":""}]
[null,null,null,null,null,null,null,null,null,"",""]
[null,null,null,null,null,null,null,null,null,"",""]
[null,null,null,null,null,null,null,null,null,"",""]
[null,null,null,null,null,null,null,null,null,"",""]
[null,null,null,null,null,null,null,null,null,"",""]
[null,null,null,null,null,null,null,null,null,"",""]
[null,null,null,null,null,null,null,null,null,"",""]
[null,null,null,null,null,null,null,null,null,"",""]
[null,null,null,null,null,null,null,null,null,null,{"$f":"IF(J244=\"\",\"\",IF(J243=J244,0,IF(GH参照,IF(E243<>\"\",IF(入出参照,IF(E244<>\"\",IF(再確認<>0,\"チェック\",再確認),\"科目入力\"),再確認),\"科目入力\"),\"\")))","v":""}]
[null,{"$f":"IF(設定BC,\"\",今年M0)","v":""},"",null,null,null,null,null,null,{"$f":"IF(E245=\"\",\"\",IF(収支参照,\"\",IF(ISERROR(J列+H列-I列),\"チェック\",J列+H列-I列)))","v":""},{"$f":"IF(J254=\"\",\"\",J254-J244)","v":""}]
[null,null,null,null,null,null,null,null,null,"",""]
[null,null,null,null,null,null,null,null,null,"",""]
[null,null,null,null,null,null,null,null,null,"",""]
[null,null,null,null,null,null,null,null,null,"",""]
[null,null,null,null,null,null,null,null,null,"",""]
[null,null,null,null,null,null,null,null,null,"",""]
[null,null,null,null,null,null,null,null,null,"",""]
[null,null,null,null,null,null,null,null,null,"",""]
[null,null,null,null,null,null,null,null,null,null,{"$f":"IF(J254=\"\",\"\",IF(J253=J254,0,IF(GH参照,IF(E253<>\"\",IF(入出参照,IF(E254<>\"\",IF(再確認<>0,\"チェック\",再確認),\"科目入力\"),再確認),\"科目入力\"),\"\")))","v":""}]
[null,{"$f":"IF(設定BC,\"\",今年M0)","v":""},"",null,null,null,null,null,null,{"$f":"IF(E255=\"\",\"\",IF(収支参照,\"\",IF(ISERROR(J列+H列-I列),\"チェック\",J列+H列-I列)))","v":""},{"$f":"IF(J264=\"\",\"\",J264-J254)","v":""}]
[null,null,null,null,null,null,null,null,null,"",""]
[null,null,null,null,null,null,null,null,null,"",""]
[null,null,null,null,null,null,null,null,null,"",""]
[null,null,null,null,null,null,null,null,null,"",""]
[null,null,null,null,null,null,null,null,null,"",""]
[null,null,null,null,null,null,null,null,null,"",""]
[null,null,null,null,null,null,null,null,null,"",""]
[null,null,null,null,null,null,null,null,null,"",""]
[null,null,null,null,null,null,null,null,null,null,{"$f":"IF(J264=\"\",\"\",IF(J263=J264,0,IF(GH参照,IF(E263<>\"\",IF(入出参照,IF(E264<>\"\",IF(再確認<>0,\"チェック\",再確認),\"科目入力\"),再確認),\"科目入力\"),\"\")))","v":""}]
[null,{"$f":"IF(設定BC,\"\",今年M0)","v":""},"",null,null,null,null,null,null,{"$f":"IF(E265=\"\",\"\",IF(収支参照,\"\",IF(ISERROR(J列+H列-I列),\"チェック\",J列+H列-I列)))","v":""},{"$f":"IF(J274=\"\",\"\",J274-J264)","v":""}]
[null,null,null,null,null,null,null,null,null,"",""]
[null,null,null,null,null,null,null,null,null,"",""]
[null,null,null,null,null,null,null,null,null,"",""]
[null,null,null,null,null,null,null,null,null,"",""]
[null,null,null,null,null,null,null,null,null,"",""]
[null,null,null,null,null,null,null,null,null,"",""]
[null,null,null,null,null,null,null,null,null,"",""]
[null,null,null,null,null,null,null,null,null,"",""]
[null,null,null,null,null,null,null,null,null,null,{"$f":"IF(J274=\"\",\"\",IF(J273=J274,0,IF(GH参照,IF(E273<>\"\",IF(入出参照,IF(E274<>\"\",IF(再確認<>0,\"チェック\",再確認),\"科目入力\"),再確認),\"科目入力\"),\"\")))","v":""}]
[null,{"$f":"IF(設定BC,\"\",今年M0)","v":""},"",null,null,null,null,null,null,{"$f":"IF(E275=\"\",\"\",IF(収支参照,\"\",IF(ISERROR(J列+H列-I列),\"チェック\",J列+H列-I列)))","v":""},{"$f":"IF(J284=\"\",\"\",J284-J274)","v":""}]
[null,null,null,null,null,null,null,null,null,"",""]
[null,null,null,null,null,null,null,null,null,"",""]
[null,null,null,null,null,null,null,null,null,"",""]
[null,null,null,null,null,null,null,null,null,"",""]
[null,null,null,null,null,null,null,null,null,"",""]
[null,null,null,null,null,null,null,null,null,"",""]
[null,null,null,null,null,null,null,null,null,"",""]
[null,null,null,null,null,null,null,null,null,"",""]
[null,null,null,null,null,null,null,null,null,null,{"$f":"IF(J284=\"\",\"\",IF(J283=J284,0,IF(GH参照,IF(E283<>\"\",IF(入出参照,IF(E284<>\"\",IF(再確認<>0,\"チェック\",再確認),\"科目入力\"),再確認),\"科目入力\"),\"\")))","v":""}]
[null,{"$f":"IF(設定BC,\"\",IF(AND(余り=0,設定!$C$2=2),今年M0,IF(設定!$C$2=2,\"\",今年M0)))","v":""},"",null,null,null,null,null,null,{"$f":"IF(E285=\"\",\"\",IF(収支参照,\"\",IF(ISERROR(J列+H列-I列),\"チェック\",J列+H列-I列)))","v":""},{"$f":"IF(J294=\"\",\"\",J294-J284)","v":""}]
[null,null,null,null,null,null,null,null,null,{"$f":"IF(E286=\"\",\"\",IF(収支参照,\"\",IF(ISERROR(当日残高),\"チェック\",当日残高)))","v":""},{"$f":"IF(GH参照,IF(E285<>\"\",IF(ISERROR(確認),\"チェック\",確認),\"科目入力\"),\"\")","v":""}]
[null,null,null,null,null,null,null,null,null,"",""]
[null,null,null,null,null,null,null,null,null,"",""]
[null,null,null,null,null,null,null,null,null,"",""]
[null,null,null,null,null,null,null,null,null,"",""]
[null,null,null,null,null,null,null,null,null,"",""]
[null,null,null,null,null,null,null,null,null,"",""]
[null,null,null,null,null,null,null,null,null,"",""]
[null,null,null,null,null,null,null,null,null,null,{"$f":"IF(J294=\"\",\"\",IF(J293=J294,0,IF(GH参照,IF(E293<>\"\",IF(入出参照,IF(E294<>\"\",IF(再確認<>0,\"チェック\",再確認),\"科目入力\"),再確認),\"科目入力\"),\"\")))","v":""}]
[null,{"$f":"IF(設定BC,\"\",IF(AND(余り=0,設定!$C$2=2),\"\",IF(設定!$C$2=2,\"\",今年M0)))","v":""},null,null,null,null,null,null,null,{"$f":"IF(E295=\"\",\"\",IF(収支参照,\"\",IF(ISERROR(J列+H列-I列),\"チェック\",J列+H列-I列)))","v":""},{"$f":"IF(J304=\"\",\"\",J304-J294)","v":""}]
[null,null,null,null,null,null,null,null,null,"",""]
[null,null,null,null,null,null,null,null,null,"",""]
[null,null,null,null,null,null,null,null,null,"",""]
[null,null,null,null,null,null,null,null,null,"",""]
[null,null,null,null,null,null,null,null,null,"",""]
[null,null,null,null,null,null,null,null,null,"",""]
[null,null,null,null,null,null,null,null,null,"",""]
[null,null,null,null,null,null,null,null,null,"",""]
[null,null,null,null,null,null,null,null,null,null,{"$f":"IF(J304=\"\",\"\",IF(J303=J304,0,IF(GH参照,IF(E303<>\"\",IF(入出参照,IF(E304<>\"\",IF(再確認<>0,\"チェック\",再確認),\"科目入力\"),再確認),\"科目入力\"),\"\")))","v":""}]
[null,{"$f":"IF(設定BC,\"\",IF(月選択1,\"\",IF(AND(余り=0,設定!$C$2=2),\"\",IF(設定!$C$2=2,\"\",今年M0))))","v":""},null,null,null,null,null,null,null,{"$f":"IF(E305=\"\",\"\",IF(収支参照,\"\",IF(ISERROR(J列+H列-I列),\"チェック\",J列+H列-I列)))","v":""},{"$f":"IF(J314=\"\",\"\",J314-J304)","v":""}]
[null,null,null,null,null,null,null,null,null,"",""]
[null,null,null,null,null,null,null,null,null,"",""]
[null,null,null,null,null,null,null,null,null,"",""]
[null,null,null,null,null,null,null,null,null,"",""]
[null,null,null,null,null,null,null,null,null,"",""]
[null,null,null,null,null,null,null,null,null,"",""]
[null,null,null,null,null,null,null,null,null,"",""]
[null,null,null,null,null,null,null,null,null,"",""]
[null,null,null,null,null,null,null,null,null,null,{"$f":"IF(J314=\"\",\"\",IF(J313=J314,0,IF(GH参照,IF(E313<>\"\",IF(入出参照,IF(E314<>\"\",IF(再確認<>0,\"チェック\",再確認),\"科目入力\"),再確認),\"科目入力\"),\"\")))","v":""}]
[null,null,null,null,"x",null,"合　　　　計",{"$f":"IF(AND(SUM($H$5:$H$314)=0,SUM($I$5:$I$314)=0),\"\",SUM($H$5:$H$314))","v":""},{"$f":"IF(AND(SUM($H$5:$H$314)=0,SUM($I$5:$I$314)=0),\"\",SUM($I$5:$I$314))","v":""},{"$f":"SUM(H5:H314)+J3-SUM(I5:I314)","v":0}]
[]
[]
[]
[null,null,"銀行　その他　　　口座の入力表"]
[null,"月 ・日　（曜 ）","口　座　・　通帳名",null,"科　　目","摘　  　　　要",null,"前年度 繰越金",null,{"$f":"設定!I42","v":0}]
[null,null,null,null,null,null,null,"収　入","支　出","総合残高","現在高"]
[null,null,null,null,null,null,null,null,null,{"$f":"IF($E322<>\"\",IF(ISERROR($J$320+SUM($H$322:$H322)-SUM($I$322:$I322)),\"チェック\",$J$320+SUM($H$322:$H322)-SUM($I$322:$I322)),IF(OR(H322<>\"\",I322<>\"\"),\"科目入力\",\"\"))","v":""},{"$f":"IF(ISERROR(口座残高),\"\",口座残高+SUMIF($C$322:$C322,$C322,$H$322:$H322)-SUMIF($C$322:$C322,C322,$I$322:$I322))","v":""}]
[null,null,null,null,null,null,null,null,null,{"$f":"IF($E323<>\"\",IF(ISERROR($J$320+SUM($H$322:$H323)-SUM($I$322:$I323)),\"チェック\",$J$320+SUM($H$322:$H323)-SUM($I$322:$I323)),IF(OR(H323<>\"\",I323<>\"\"),\"科目入力\",\"\"))","v":""},{"$f":"IF(ISERROR(口座残高),\"\",口座残高+SUMIF($C$322:$C323,$C323,$H$322:$H323)-SUMIF($C$322:$C323,C323,$I$322:$I323))","v":""}]
[null,null,null,null,null,null,null,null,null,{"$f":"IF($E324<>\"\",IF(ISERROR($J$320+SUM($H$322:$H324)-SUM($I$322:$I324)),\"チェック\",$J$320+SUM($H$322:$H324)-SUM($I$322:$I324)),IF(OR(H324<>\"\",I324<>\"\"),\"科目入力\",\"\"))","v":""},{"$f":"IF(ISERROR(口座残高),\"\",口座残高+SUMIF($C$322:$C324,$C324,$H$322:$H324)-SUMIF($C$322:$C324,C324,$I$322:$I324))","v":""}]
[null,null,null,null,null,null,null,null,null,{"$f":"IF($E325<>\"\",IF(ISERROR($J$320+SUM($H$322:$H325)-SUM($I$322:$I325)),\"チェック\",$J$320+SUM($H$322:$H325)-SUM($I$322:$I325)),IF(OR(H325<>\"\",I325<>\"\"),\"科目入力\",\"\"))","v":""},{"$f":"IF(ISERROR(口座残高),\"\",口座残高+SUMIF($C$322:$C325,$C325,$H$322:$H325)-SUMIF($C$322:$C325,C325,$I$322:$I325))","v":""}]
[null,null,null,null,null,null,null,null,null,{"$f":"IF($E326<>\"\",IF(ISERROR($J$320+SUM($H$322:$H326)-SUM($I$322:$I326)),\"チェック\",$J$320+SUM($H$322:$H326)-SUM($I$322:$I326)),IF(OR(H326<>\"\",I326<>\"\"),\"科目入力\",\"\"))","v":""},{"$f":"IF(ISERROR(口座残高),\"\",口座残高+SUMIF($C$322:$C326,$C326,$H$322:$H326)-SUMIF($C$322:$C326,C326,$I$322:$I326))","v":""}]
[null,null,null,null,null,null,null,null,null,{"$f":"IF($E327<>\"\",IF(ISERROR($J$320+SUM($H$322:$H327)-SUM($I$322:$I327)),\"チェック\",$J$320+SUM($H$322:$H327)-SUM($I$322:$I327)),IF(OR(H327<>\"\",I327<>\"\"),\"科目入力\",\"\"))","v":""},{"$f":"IF(ISERROR(口座残高),\"\",口座残高+SUMIF($C$322:$C327,$C327,$H$322:$H327)-SUMIF($C$322:$C327,C327,$I$322:$I327))","v":""}]
[null,null,null,null,null,null,null,null,null,{"$f":"IF($E328<>\"\",IF(ISERROR($J$320+SUM($H$322:$H328)-SUM($I$322:$I328)),\"チェック\",$J$320+SUM($H$322:$H328)-SUM($I$322:$I328)),IF(OR(H328<>\"\",I328<>\"\"),\"科目入力\",\"\"))","v":""},{"$f":"IF(ISERROR(口座残高),\"\",口座残高+SUMIF($C$322:$C328,$C328,$H$322:$H328)-SUMIF($C$322:$C328,C328,$I$322:$I328))","v":""}]
[null,null,null,null,null,null,null,null,null,{"$f":"IF($E329<>\"\",IF(ISERROR($J$320+SUM($H$322:$H329)-SUM($I$322:$I329)),\"チェック\",$J$320+SUM($H$322:$H329)-SUM($I$322:$I329)),IF(OR(H329<>\"\",I329<>\"\"),\"科目入力\",\"\"))","v":""},{"$f":"IF(ISERROR(口座残高),\"\",口座残高+SUMIF($C$322:$C329,$C329,$H$322:$H329)-SUMIF($C$322:$C329,C329,$I$322:$I329))","v":""}]
[null,null,null,null,null,null,null,null,null,{"$f":"IF($E330<>\"\",IF(ISERROR($J$320+SUM($H$322:$H330)-SUM($I$322:$I330)),\"チェック\",$J$320+SUM($H$322:$H330)-SUM($I$322:$I330)),IF(OR(H330<>\"\",I330<>\"\"),\"科目入力\",\"\"))","v":""},{"$f":"IF(ISERROR(口座残高),\"\",口座残高+SUMIF($C$322:$C330,$C330,$H$322:$H330)-SUMIF($C$322:$C330,C330,$I$322:$I330))","v":""}]
[null,null,null,null,null,null,null,null,null,{"$f":"IF($E331<>\"\",IF(ISERROR($J$320+SUM($H$322:$H331)-SUM($I$322:$I331)),\"チェック\",$J$320+SUM($H$322:$H331)-SUM($I$322:$I331)),IF(OR(H331<>\"\",I331<>\"\"),\"科目入力\",\"\"))","v":""},{"$f":"IF(ISERROR(口座残高),\"\",口座残高+SUMIF($C$322:$C331,$C331,$H$322:$H331)-SUMIF($C$322:$C331,C331,$I$322:$I331))","v":""}]
[null,null,null,null,null,null,null,null,null,{"$f":"IF($E332<>\"\",IF(ISERROR($J$320+SUM($H$322:$H332)-SUM($I$322:$I332)),\"チェック\",$J$320+SUM($H$322:$H332)-SUM($I$322:$I332)),IF(OR(H332<>\"\",I332<>\"\"),\"科目入力\",\"\"))","v":""},{"$f":"IF(ISERROR(口座残高),\"\",口座残高+SUMIF($C$322:$C332,$C332,$H$322:$H332)-SUMIF($C$322:$C332,C332,$I$322:$I332))","v":""}]
[null,null,null,null,null,null,null,null,null,{"$f":"IF($E333<>\"\",IF(ISERROR($J$320+SUM($H$322:$H333)-SUM($I$322:$I333)),\"チェック\",$J$320+SUM($H$322:$H333)-SUM($I$322:$I333)),IF(OR(H333<>\"\",I333<>\"\"),\"科目入力\",\"\"))","v":""},{"$f":"IF(ISERROR(口座残高),\"\",口座残高+SUMIF($C$322:$C333,$C333,$H$322:$H333)-SUMIF($C$322:$C333,C333,$I$322:$I333))","v":""}]
[null,null,null,null,null,null,null,null,null,{"$f":"IF($E334<>\"\",IF(ISERROR($J$320+SUM($H$322:$H334)-SUM($I$322:$I334)),\"チェック\",$J$320+SUM($H$322:$H334)-SUM($I$322:$I334)),IF(OR(H334<>\"\",I334<>\"\"),\"科目入力\",\"\"))","v":""},{"$f":"IF(ISERROR(口座残高),\"\",口座残高+SUMIF($C$322:$C334,$C334,$H$322:$H334)-SUMIF($C$322:$C334,C334,$I$322:$I334))","v":""}]
[null,null,null,null,null,null,null,null,null,{"$f":"IF($E335<>\"\",IF(ISERROR($J$320+SUM($H$322:$H335)-SUM($I$322:$I335)),\"チェック\",$J$320+SUM($H$322:$H335)-SUM($I$322:$I335)),IF(OR(H335<>\"\",I335<>\"\"),\"科目入力\",\"\"))","v":""},{"$f":"IF(ISERROR(口座残高),\"\",口座残高+SUMIF($C$322:$C335,$C335,$H$322:$H335)-SUMIF($C$322:$C335,C335,$I$322:$I335))","v":""}]
[null,null,null,null,null,null,null,null,null,{"$f":"IF($E336<>\"\",IF(ISERROR($J$320+SUM($H$322:$H336)-SUM($I$322:$I336)),\"チェック\",$J$320+SUM($H$322:$H336)-SUM($I$322:$I336)),IF(OR(H336<>\"\",I336<>\"\"),\"科目入力\",\"\"))","v":""},{"$f":"IF(ISERROR(口座残高),\"\",口座残高+SUMIF($C$322:$C336,$C336,$H$322:$H336)-SUMIF($C$322:$C336,C336,$I$322:$I336))","v":""}]
[null,null,null,null,null,null,null,null,null,{"$f":"IF($E337<>\"\",IF(ISERROR($J$320+SUM($H$322:$H337)-SUM($I$322:$I337)),\"チェック\",$J$320+SUM($H$322:$H337)-SUM($I$322:$I337)),IF(OR(H337<>\"\",I337<>\"\"),\"科目入力\",\"\"))","v":""},{"$f":"IF(ISERROR(口座残高),\"\",口座残高+SUMIF($C$322:$C337,$C337,$H$322:$H337)-SUMIF($C$322:$C337,C337,$I$322:$I337))","v":""}]
[null,null,null,null,null,null,null,null,null,{"$f":"IF($E338<>\"\",IF(ISERROR($J$320+SUM($H$322:$H338)-SUM($I$322:$I338)),\"チェック\",$J$320+SUM($H$322:$H338)-SUM($I$322:$I338)),IF(OR(H338<>\"\",I338<>\"\"),\"科目入力\",\"\"))","v":""},{"$f":"IF(ISERROR(口座残高),\"\",口座残高+SUMIF($C$322:$C338,$C338,$H$322:$H338)-SUMIF($C$322:$C338,C338,$I$322:$I338))","v":""}]
[null,null,null,null,null,null,null,null,null,{"$f":"IF($E339<>\"\",IF(ISERROR($J$320+SUM($H$322:$H339)-SUM($I$322:$I339)),\"チェック\",$J$320+SUM($H$322:$H339)-SUM($I$322:$I339)),IF(OR(H339<>\"\",I339<>\"\"),\"科目入力\",\"\"))","v":""},{"$f":"IF(ISERROR(口座残高),\"\",口座残高+SUMIF($C$322:$C339,$C339,$H$322:$H339)-SUMIF($C$322:$C339,C339,$I$322:$I339))","v":""}]
[null,null,null,null,null,null,null,null,null,{"$f":"IF($E340<>\"\",IF(ISERROR($J$320+SUM($H$322:$H340)-SUM($I$322:$I340)),\"チェック\",$J$320+SUM($H$322:$H340)-SUM($I$322:$I340)),IF(OR(H340<>\"\",I340<>\"\"),\"科目入力\",\"\"))","v":""},{"$f":"IF(ISERROR(口座残高),\"\",口座残高+SUMIF($C$322:$C340,$C340,$H$322:$H340)-SUMIF($C$322:$C340,C340,$I$322:$I340))","v":""}]
[null,null,null,null,null,null,null,null,null,{"$f":"IF($E341<>\"\",IF(ISERROR($J$320+SUM($H$322:$H341)-SUM($I$322:$I341)),\"チェック\",$J$320+SUM($H$322:$H341)-SUM($I$322:$I341)),IF(OR(H341<>\"\",I341<>\"\"),\"科目入力\",\"\"))","v":""},{"$f":"IF(ISERROR(口座残高),\"\",口座残高+SUMIF($C$322:$C341,$C341,$H$322:$H341)-SUMIF($C$322:$C341,C341,$I$322:$I341))","v":""}]
[null,null,null,null,null,null,null,null,null,{"$f":"IF($E342<>\"\",IF(ISERROR($J$320+SUM($H$322:$H342)-SUM($I$322:$I342)),\"チェック\",$J$320+SUM($H$322:$H342)-SUM($I$322:$I342)),IF(OR(H342<>\"\",I342<>\"\"),\"科目入力\",\"\"))","v":""},{"$f":"IF(ISERROR(口座残高),\"\",口座残高+SUMIF($C$322:$C342,$C342,$H$322:$H342)-SUMIF($C$322:$C342,C342,$I$322:$I342))","v":""}]
[null,null,null,null,null,null,null,null,null,{"$f":"IF($E343<>\"\",IF(ISERROR($J$320+SUM($H$322:$H343)-SUM($I$322:$I343)),\"チェック\",$J$320+SUM($H$322:$H343)-SUM($I$322:$I343)),IF(OR(H343<>\"\",I343<>\"\"),\"科目入力\",\"\"))","v":""},{"$f":"IF(ISERROR(口座残高),\"\",口座残高+SUMIF($C$322:$C343,$C343,$H$322:$H343)-SUMIF($C$322:$C343,C343,$I$322:$I343))","v":""}]
[null,null,null,null,null,null,null,null,null,{"$f":"IF($E344<>\"\",IF(ISERROR($J$320+SUM($H$322:$H344)-SUM($I$322:$I344)),\"チェック\",$J$320+SUM($H$322:$H344)-SUM($I$322:$I344)),IF(OR(H344<>\"\",I344<>\"\"),\"科目入力\",\"\"))","v":""},{"$f":"IF(ISERROR(口座残高),\"\",口座残高+SUMIF($C$322:$C344,$C344,$H$322:$H344)-SUMIF($C$322:$C344,C344,$I$322:$I344))","v":""}]
[null,null,null,null,null,null,null,null,null,{"$f":"IF($E345<>\"\",IF(ISERROR($J$320+SUM($H$322:$H345)-SUM($I$322:$I345)),\"チェック\",$J$320+SUM($H$322:$H345)-SUM($I$322:$I345)),IF(OR(H345<>\"\",I345<>\"\"),\"科目入力\",\"\"))","v":""},{"$f":"IF(ISERROR(口座残高),\"\",口座残高+SUMIF($C$322:$C345,$C345,$H$322:$H345)-SUMIF($C$322:$C345,C345,$I$322:$I345))","v":""}]
[null,null,null,null,null,null,null,null,null,{"$f":"IF($E346<>\"\",IF(ISERROR($J$320+SUM($H$322:$H346)-SUM($I$322:$I346)),\"チェック\",$J$320+SUM($H$322:$H346)-SUM($I$322:$I346)),IF(OR(H346<>\"\",I346<>\"\"),\"科目入力\",\"\"))","v":""},{"$f":"IF(ISERROR(口座残高),\"\",口座残高+SUMIF($C$322:$C346,$C346,$H$322:$H346)-SUMIF($C$322:$C346,C346,$I$322:$I346))","v":""}]
[null,null,null,null,null,null,null,null,null,{"$f":"IF($E347<>\"\",IF(ISERROR($J$320+SUM($H$322:$H347)-SUM($I$322:$I347)),\"チェック\",$J$320+SUM($H$322:$H347)-SUM($I$322:$I347)),IF(OR(H347<>\"\",I347<>\"\"),\"科目入力\",\"\"))","v":""},{"$f":"IF(ISERROR(口座残高),\"\",口座残高+SUMIF($C$322:$C347,$C347,$H$322:$H347)-SUMIF($C$322:$C347,C347,$I$322:$I347))","v":""}]
[null,null,null,null,null,null,null,null,null,{"$f":"IF($E348<>\"\",IF(ISERROR($J$320+SUM($H$322:$H348)-SUM($I$322:$I348)),\"チェック\",$J$320+SUM($H$322:$H348)-SUM($I$322:$I348)),IF(OR(H348<>\"\",I348<>\"\"),\"科目入力\",\"\"))","v":""},{"$f":"IF(ISERROR(口座残高),\"\",口座残高+SUMIF($C$322:$C348,$C348,$H$322:$H348)-SUMIF($C$322:$C348,C348,$I$322:$I348))","v":""}]
[null,null,null,null,null,null,null,null,null,{"$f":"IF($E349<>\"\",IF(ISERROR($J$320+SUM($H$322:$H349)-SUM($I$322:$I349)),\"チェック\",$J$320+SUM($H$322:$H349)-SUM($I$322:$I349)),IF(OR(H349<>\"\",I349<>\"\"),\"科目入力\",\"\"))","v":""},{"$f":"IF(ISERROR(口座残高),\"\",口座残高+SUMIF($C$322:$C349,$C349,$H$322:$H349)-SUMIF($C$322:$C349,C349,$I$322:$I349))","v":""}]
[null,null,null,null,null,null,null,null,null,{"$f":"IF($E350<>\"\",IF(ISERROR($J$320+SUM($H$322:$H350)-SUM($I$322:$I350)),\"チェック\",$J$320+SUM($H$322:$H350)-SUM($I$322:$I350)),IF(OR(H350<>\"\",I350<>\"\"),\"科目入力\",\"\"))","v":""},{"$f":"IF(ISERROR(口座残高),\"\",口座残高+SUMIF($C$322:$C350,$C350,$H$322:$H350)-SUMIF($C$322:$C350,C350,$I$322:$I350))","v":""}]
[null,null,null,null,null,null,null,null,null,{"$f":"IF($E351<>\"\",IF(ISERROR($J$320+SUM($H$322:$H351)-SUM($I$322:$I351)),\"チェック\",$J$320+SUM($H$322:$H351)-SUM($I$322:$I351)),IF(OR(H351<>\"\",I351<>\"\"),\"科目入力\",\"\"))","v":""},{"$f":"IF(ISERROR(口座残高),\"\",口座残高+SUMIF($C$322:$C351,$C351,$H$322:$H351)-SUMIF($C$322:$C351,C351,$I$322:$I351))","v":""}]
[null,null,null,null,null,null,null,null,null,{"$f":"IF($E352<>\"\",IF(ISERROR($J$320+SUM($H$322:$H352)-SUM($I$322:$I352)),\"チェック\",$J$320+SUM($H$322:$H352)-SUM($I$322:$I352)),IF(OR(H352<>\"\",I352<>\"\"),\"科目入力\",\"\"))","v":""},{"$f":"IF(ISERROR(口座残高),\"\",口座残高+SUMIF($C$322:$C352,$C352,$H$322:$H352)-SUMIF($C$322:$C352,C352,$I$322:$I352))","v":""}]
[null,null,null,null,null,null,null,null,null,{"$f":"IF($E353<>\"\",IF(ISERROR($J$320+SUM($H$322:$H353)-SUM($I$322:$I353)),\"チェック\",$J$320+SUM($H$322:$H353)-SUM($I$322:$I353)),IF(OR(H353<>\"\",I353<>\"\"),\"科目入力\",\"\"))","v":""},{"$f":"IF(ISERROR(口座残高),\"\",口座残高+SUMIF($C$322:$C353,$C353,$H$322:$H353)-SUMIF($C$322:$C353,C353,$I$322:$I353))","v":""}]
[null,null,null,null,null,null,null,null,null,{"$f":"IF($E354<>\"\",IF(ISERROR($J$320+SUM($H$322:$H354)-SUM($I$322:$I354)),\"チェック\",$J$320+SUM($H$322:$H354)-SUM($I$322:$I354)),IF(OR(H354<>\"\",I354<>\"\"),\"科目入力\",\"\"))","v":""},{"$f":"IF(ISERROR(口座残高),\"\",口座残高+SUMIF($C$322:$C354,$C354,$H$322:$H354)-SUMIF($C$322:$C354,C354,$I$322:$I354))","v":""}]
[null,null,null,null,null,null,null,null,null,{"$f":"IF($E355<>\"\",IF(ISERROR($J$320+SUM($H$322:$H355)-SUM($I$322:$I355)),\"チェック\",$J$320+SUM($H$322:$H355)-SUM($I$322:$I355)),IF(OR(H355<>\"\",I355<>\"\"),\"科目入力\",\"\"))","v":""},{"$f":"IF(ISERROR(口座残高),\"\",口座残高+SUMIF($C$322:$C355,$C355,$H$322:$H355)-SUMIF($C$322:$C355,C355,$I$322:$I355))","v":""}]
[null,null,null,null,null,null,null,null,null,{"$f":"IF($E356<>\"\",IF(ISERROR($J$320+SUM($H$322:$H356)-SUM($I$322:$I356)),\"チェック\",$J$320+SUM($H$322:$H356)-SUM($I$322:$I356)),IF(OR(H356<>\"\",I356<>\"\"),\"科目入力\",\"\"))","v":""},{"$f":"IF(ISERROR(口座残高),\"\",口座残高+SUMIF($C$322:$C356,$C356,$H$322:$H356)-SUMIF($C$322:$C356,C356,$I$322:$I356))","v":""}]
[null,null,null,null,null,null,null,null,null,{"$f":"IF($E357<>\"\",IF(ISERROR($J$320+SUM($H$322:$H357)-SUM($I$322:$I357)),\"チェック\",$J$320+SUM($H$322:$H357)-SUM($I$322:$I357)),IF(OR(H357<>\"\",I357<>\"\"),\"科目入力\",\"\"))","v":""},{"$f":"IF(ISERROR(口座残高),\"\",口座残高+SUMIF($C$322:$C357,$C357,$H$322:$H357)-SUMIF($C$322:$C357,C357,$I$322:$I357))","v":""}]
[null,null,null,null,null,null,null,null,null,{"$f":"IF($E358<>\"\",IF(ISERROR($J$320+SUM($H$322:$H358)-SUM($I$322:$I358)),\"チェック\",$J$320+SUM($H$322:$H358)-SUM($I$322:$I358)),IF(OR(H358<>\"\",I358<>\"\"),\"科目入力\",\"\"))","v":""},{"$f":"IF(ISERROR(口座残高),\"\",口座残高+SUMIF($C$322:$C358,$C358,$H$322:$H358)-SUMIF($C$322:$C358,C358,$I$322:$I358))","v":""}]
[null,null,null,null,null,null,null,null,null,{"$f":"IF($E359<>\"\",IF(ISERROR($J$320+SUM($H$322:$H359)-SUM($I$322:$I359)),\"チェック\",$J$320+SUM($H$322:$H359)-SUM($I$322:$I359)),IF(OR(H359<>\"\",I359<>\"\"),\"科目入力\",\"\"))","v":""},{"$f":"IF(ISERROR(口座残高),\"\",口座残高+SUMIF($C$322:$C359,$C359,$H$322:$H359)-SUMIF($C$322:$C359,C359,$I$322:$I359))","v":""}]
[null,null,null,null,null,null,null,null,null,{"$f":"IF($E360<>\"\",IF(ISERROR($J$320+SUM($H$322:$H360)-SUM($I$322:$I360)),\"チェック\",$J$320+SUM($H$322:$H360)-SUM($I$322:$I360)),IF(OR(H360<>\"\",I360<>\"\"),\"科目入力\",\"\"))","v":""},{"$f":"IF(ISERROR(口座残高),\"\",口座残高+SUMIF($C$322:$C360,$C360,$H$322:$H360)-SUMIF($C$322:$C360,C360,$I$322:$I360))","v":""}]
[null,null,null,null,null,null,null,null,null,{"$f":"IF($E361<>\"\",IF(ISERROR($J$320+SUM($H$322:$H361)-SUM($I$322:$I361)),\"チェック\",$J$320+SUM($H$322:$H361)-SUM($I$322:$I361)),IF(OR(H361<>\"\",I361<>\"\"),\"科目入力\",\"\"))","v":""},{"$f":"IF(ISERROR(口座残高),\"\",口座残高+SUMIF($C$322:$C361,$C361,$H$322:$H361)-SUMIF($C$322:$C361,C361,$I$322:$I361))","v":""}]
[null,null,null,null,null,null,null,null,null,{"$f":"IF($E362<>\"\",IF(ISERROR($J$320+SUM($H$322:$H362)-SUM($I$322:$I362)),\"チェック\",$J$320+SUM($H$322:$H362)-SUM($I$322:$I362)),IF(OR(H362<>\"\",I362<>\"\"),\"科目入力\",\"\"))","v":""},{"$f":"IF(ISERROR(口座残高),\"\",口座残高+SUMIF($C$322:$C362,$C362,$H$322:$H362)-SUMIF($C$322:$C362,C362,$I$322:$I362))","v":""}]
[null,null,null,null,null,null,null,null,null,{"$f":"IF($E363<>\"\",IF(ISERROR($J$320+SUM($H$322:$H363)-SUM($I$322:$I363)),\"チェック\",$J$320+SUM($H$322:$H363)-SUM($I$322:$I363)),IF(OR(H363<>\"\",I363<>\"\"),\"科目入力\",\"\"))","v":""},{"$f":"IF(ISERROR(口座残高),\"\",口座残高+SUMIF($C$322:$C363,$C363,$H$322:$H363)-SUMIF($C$322:$C363,C363,$I$322:$I363))","v":""}]
[null,null,null,null,null,null,null,null,null,{"$f":"IF($E364<>\"\",IF(ISERROR($J$320+SUM($H$322:$H364)-SUM($I$322:$I364)),\"チェック\",$J$320+SUM($H$322:$H364)-SUM($I$322:$I364)),IF(OR(H364<>\"\",I364<>\"\"),\"科目入力\",\"\"))","v":""},{"$f":"IF(ISERROR(口座残高),\"\",口座残高+SUMIF($C$322:$C364,$C364,$H$322:$H364)-SUMIF($C$322:$C364,C364,$I$322:$I364))","v":""}]
[null,null,null,null,null,null,null,null,null,{"$f":"IF($E365<>\"\",IF(ISERROR($J$320+SUM($H$322:$H365)-SUM($I$322:$I365)),\"チェック\",$J$320+SUM($H$322:$H365)-SUM($I$322:$I365)),IF(OR(H365<>\"\",I365<>\"\"),\"科目入力\",\"\"))","v":""},{"$f":"IF(ISERROR(口座残高),\"\",口座残高+SUMIF($C$322:$C365,$C365,$H$322:$H365)-SUMIF($C$322:$C365,C365,$I$322:$I365))","v":""}]
[null,null,null,null,null,null,null,null,null,{"$f":"IF($E366<>\"\",IF(ISERROR($J$320+SUM($H$322:$H366)-SUM($I$322:$I366)),\"チェック\",$J$320+SUM($H$322:$H366)-SUM($I$322:$I366)),IF(OR(H366<>\"\",I366<>\"\"),\"科目入力\",\"\"))","v":""},{"$f":"IF(ISERROR(口座残高),\"\",口座残高+SUMIF($C$322:$C366,$C366,$H$322:$H366)-SUMIF($C$322:$C366,C366,$I$322:$I366))","v":""}]
[null,null,null,null,null,null,null,null,null,{"$f":"IF($E367<>\"\",IF(ISERROR($J$320+SUM($H$322:$H367)-SUM($I$322:$I367)),\"チェック\",$J$320+SUM($H$322:$H367)-SUM($I$322:$I367)),IF(OR(H367<>\"\",I367<>\"\"),\"科目入力\",\"\"))","v":""},{"$f":"IF(ISERROR(口座残高),\"\",口座残高+SUMIF($C$322:$C367,$C367,$H$322:$H367)-SUMIF($C$322:$C367,C367,$I$322:$I367))","v":""}]
[null,null,null,null,null,null,null,null,null,{"$f":"IF($E368<>\"\",IF(ISERROR($J$320+SUM($H$322:$H368)-SUM($I$322:$I368)),\"チェック\",$J$320+SUM($H$322:$H368)-SUM($I$322:$I368)),IF(OR(H368<>\"\",I368<>\"\"),\"科目入力\",\"\"))","v":""},{"$f":"IF(ISERROR(口座残高),\"\",口座残高+SUMIF($C$322:$C368,$C368,$H$322:$H368)-SUMIF($C$322:$C368,C368,$I$322:$I368))","v":""}]
[null,null,null,null,null,null,null,null,null,{"$f":"IF($E369<>\"\",IF(ISERROR($J$320+SUM($H$322:$H369)-SUM($I$322:$I369)),\"チェック\",$J$320+SUM($H$322:$H369)-SUM($I$322:$I369)),IF(OR(H369<>\"\",I369<>\"\"),\"科目入力\",\"\"))","v":""},{"$f":"IF(ISERROR(口座残高),\"\",口座残高+SUMIF($C$322:$C369,$C369,$H$322:$H369)-SUMIF($C$322:$C369,C369,$I$322:$I369))","v":""}]
[null,null,null,null,null,null,null,null,null,{"$f":"IF($E370<>\"\",IF(ISERROR($J$320+SUM($H$322:$H370)-SUM($I$322:$I370)),\"チェック\",$J$320+SUM($H$322:$H370)-SUM($I$322:$I370)),IF(OR(H370<>\"\",I370<>\"\"),\"科目入力\",\"\"))","v":""},{"$f":"IF(ISERROR(口座残高),\"\",口座残高+SUMIF($C$322:$C370,$C370,$H$322:$H370)-SUMIF($C$322:$C370,C370,$I$322:$I370))","v":""}]
[null,null,null,null,null,null,null,null,null,{"$f":"IF($E371<>\"\",IF(ISERROR($J$320+SUM($H$322:$H371)-SUM($I$322:$I371)),\"チェック\",$J$320+SUM($H$322:$H371)-SUM($I$322:$I371)),IF(OR(H371<>\"\",I371<>\"\"),\"科目入力\",\"\"))","v":""},{"$f":"IF(ISERROR(口座残高),\"\",口座残高+SUMIF($C$322:$C371,$C371,$H$322:$H371)-SUMIF($C$322:$C371,C371,$I$322:$I371))","v":""}]
[null,null,null,null,null,null,null,null,null,{"$f":"IF($E372<>\"\",IF(ISERROR($J$320+SUM($H$322:$H372)-SUM($I$322:$I372)),\"チェック\",$J$320+SUM($H$322:$H372)-SUM($I$322:$I372)),IF(OR(H372<>\"\",I372<>\"\"),\"科目入力\",\"\"))","v":""},{"$f":"IF(ISERROR(口座残高),\"\",口座残高+SUMIF($C$322:$C372,$C372,$H$322:$H372)-SUMIF($C$322:$C372,C372,$I$322:$I372))","v":""}]
[null,null,null,null,null,null,null,null,null,{"$f":"IF($E373<>\"\",IF(ISERROR($J$320+SUM($H$322:$H373)-SUM($I$322:$I373)),\"チェック\",$J$320+SUM($H$322:$H373)-SUM($I$322:$I373)),IF(OR(H373<>\"\",I373<>\"\"),\"科目入力\",\"\"))","v":""},{"$f":"IF(ISERROR(口座残高),\"\",口座残高+SUMIF($C$322:$C373,$C373,$H$322:$H373)-SUMIF($C$322:$C373,C373,$I$322:$I373))","v":""}]
[null,null,null,null,null,null,null,null,null,{"$f":"IF($E374<>\"\",IF(ISERROR($J$320+SUM($H$322:$H374)-SUM($I$322:$I374)),\"チェック\",$J$320+SUM($H$322:$H374)-SUM($I$322:$I374)),IF(OR(H374<>\"\",I374<>\"\"),\"科目入力\",\"\"))","v":""},{"$f":"IF(ISERROR(口座残高),\"\",口座残高+SUMIF($C$322:$C374,$C374,$H$322:$H374)-SUMIF($C$322:$C374,C374,$I$322:$I374))","v":""}]
[null,null,null,null,null,null,null,null,null,{"$f":"IF($E375<>\"\",IF(ISERROR($J$320+SUM($H$322:$H375)-SUM($I$322:$I375)),\"チェック\",$J$320+SUM($H$322:$H375)-SUM($I$322:$I375)),IF(OR(H375<>\"\",I375<>\"\"),\"科目入力\",\"\"))","v":""},{"$f":"IF(ISERROR(口座残高),\"\",口座残高+SUMIF($C$322:$C375,$C375,$H$322:$H375)-SUMIF($C$322:$C375,C375,$I$322:$I375))","v":""}]
[null,null,null,null,null,null,null,null,null,{"$f":"IF($E376<>\"\",IF(ISERROR($J$320+SUM($H$322:$H376)-SUM($I$322:$I376)),\"チェック\",$J$320+SUM($H$322:$H376)-SUM($I$322:$I376)),IF(OR(H376<>\"\",I376<>\"\"),\"科目入力\",\"\"))","v":""},{"$f":"IF(ISERROR(口座残高),\"\",口座残高+SUMIF($C$322:$C376,$C376,$H$322:$H376)-SUMIF($C$322:$C376,C376,$I$322:$I376))","v":""}]
[null,null,null,null,null,null,null,null,null,{"$f":"IF($E377<>\"\",IF(ISERROR($J$320+SUM($H$322:$H377)-SUM($I$322:$I377)),\"チェック\",$J$320+SUM($H$322:$H377)-SUM($I$322:$I377)),IF(OR(H377<>\"\",I377<>\"\"),\"科目入力\",\"\"))","v":""},{"$f":"IF(ISERROR(口座残高),\"\",口座残高+SUMIF($C$322:$C377,$C377,$H$322:$H377)-SUMIF($C$322:$C377,C377,$I$322:$I377))","v":""}]
[null,null,null,null,null,null,null,null,null,{"$f":"IF($E378<>\"\",IF(ISERROR($J$320+SUM($H$322:$H378)-SUM($I$322:$I378)),\"チェック\",$J$320+SUM($H$322:$H378)-SUM($I$322:$I378)),IF(OR(H378<>\"\",I378<>\"\"),\"科目入力\",\"\"))","v":""},{"$f":"IF(ISERROR(口座残高),\"\",口座残高+SUMIF($C$322:$C378,$C378,$H$322:$H378)-SUMIF($C$322:$C378,C378,$I$322:$I378))","v":""}]
[null,null,null,null,null,null,null,null,null,{"$f":"IF($E379<>\"\",IF(ISERROR($J$320+SUM($H$322:$H379)-SUM($I$322:$I379)),\"チェック\",$J$320+SUM($H$322:$H379)-SUM($I$322:$I379)),IF(OR(H379<>\"\",I379<>\"\"),\"科目入力\",\"\"))","v":""},{"$f":"IF(ISERROR(口座残高),\"\",口座残高+SUMIF($C$322:$C379,$C379,$H$322:$H379)-SUMIF($C$322:$C379,C379,$I$322:$I379))","v":""}]
[null,null,null,null,null,null,null,null,null,{"$f":"IF($E380<>\"\",IF(ISERROR($J$320+SUM($H$322:$H380)-SUM($I$322:$I380)),\"チェック\",$J$320+SUM($H$322:$H380)-SUM($I$322:$I380)),IF(OR(H380<>\"\",I380<>\"\"),\"科目入力\",\"\"))","v":""},{"$f":"IF(ISERROR(口座残高),\"\",口座残高+SUMIF($C$322:$C380,$C380,$H$322:$H380)-SUMIF($C$322:$C380,C380,$I$322:$I380))","v":""}]
[null,null,null,null,null,null,null,null,null,{"$f":"IF($E381<>\"\",IF(ISERROR($J$320+SUM($H$322:$H381)-SUM($I$322:$I381)),\"チェック\",$J$320+SUM($H$322:$H381)-SUM($I$322:$I381)),IF(OR(H381<>\"\",I381<>\"\"),\"科目入力\",\"\"))","v":""},{"$f":"IF(ISERROR(口座残高),\"\",口座残高+SUMIF($C$322:$C381,$C381,$H$322:$H381)-SUMIF($C$322:$C381,C381,$I$322:$I381))","v":""}]
[null,null,null,null,null,null,null,null,null,{"$f":"IF($E382<>\"\",IF(ISERROR($J$320+SUM($H$322:$H382)-SUM($I$322:$I382)),\"チェック\",$J$320+SUM($H$322:$H382)-SUM($I$322:$I382)),IF(OR(H382<>\"\",I382<>\"\"),\"科目入力\",\"\"))","v":""},{"$f":"IF(ISERROR(口座残高),\"\",口座残高+SUMIF($C$322:$C382,$C382,$H$322:$H382)-SUMIF($C$322:$C382,C382,$I$322:$I382))","v":""}]
[null,null,null,null,null,null,null,null,null,{"$f":"IF($E383<>\"\",IF(ISERROR($J$320+SUM($H$322:$H383)-SUM($I$322:$I383)),\"チェック\",$J$320+SUM($H$322:$H383)-SUM($I$322:$I383)),IF(OR(H383<>\"\",I383<>\"\"),\"科目入力\",\"\"))","v":""},{"$f":"IF(ISERROR(口座残高),\"\",口座残高+SUMIF($C$322:$C383,$C383,$H$322:$H383)-SUMIF($C$322:$C383,C383,$I$322:$I383))","v":""}]
[null,null,null,null,null,null,null,null,null,{"$f":"IF($E384<>\"\",IF(ISERROR($J$320+SUM($H$322:$H384)-SUM($I$322:$I384)),\"チェック\",$J$320+SUM($H$322:$H384)-SUM($I$322:$I384)),IF(OR(H384<>\"\",I384<>\"\"),\"科目入力\",\"\"))","v":""},{"$f":"IF(ISERROR(口座残高),\"\",口座残高+SUMIF($C$322:$C384,$C384,$H$322:$H384)-SUMIF($C$322:$C384,C384,$I$322:$I384))","v":""}]
[null,null,null,null,null,null,null,null,null,{"$f":"IF($E385<>\"\",IF(ISERROR($J$320+SUM($H$322:$H385)-SUM($I$322:$I385)),\"チェック\",$J$320+SUM($H$322:$H385)-SUM($I$322:$I385)),IF(OR(H385<>\"\",I385<>\"\"),\"科目入力\",\"\"))","v":""},{"$f":"IF(ISERROR(口座残高),\"\",口座残高+SUMIF($C$322:$C385,$C385,$H$322:$H385)-SUMIF($C$322:$C385,C385,$I$322:$I385))","v":""}]
[null,null,null,null,null,null,null,null,null,{"$f":"IF($E386<>\"\",IF(ISERROR($J$320+SUM($H$322:$H386)-SUM($I$322:$I386)),\"チェック\",$J$320+SUM($H$322:$H386)-SUM($I$322:$I386)),IF(OR(H386<>\"\",I386<>\"\"),\"科目入力\",\"\"))","v":""},{"$f":"IF(ISERROR(口座残高),\"\",口座残高+SUMIF($C$322:$C386,$C386,$H$322:$H386)-SUMIF($C$322:$C386,C386,$I$322:$I386))","v":""}]
[null,null,null,null,null,null,null,null,null,{"$f":"IF($E387<>\"\",IF(ISERROR($J$320+SUM($H$322:$H387)-SUM($I$322:$I387)),\"チェック\",$J$320+SUM($H$322:$H387)-SUM($I$322:$I387)),IF(OR(H387<>\"\",I387<>\"\"),\"科目入力\",\"\"))","v":""},{"$f":"IF(ISERROR(口座残高),\"\",口座残高+SUMIF($C$322:$C387,$C387,$H$322:$H387)-SUMIF($C$322:$C387,C387,$I$322:$I387))","v":""}]
[null,null,null,null,null,null,null,null,null,{"$f":"IF($E388<>\"\",IF(ISERROR($J$320+SUM($H$322:$H388)-SUM($I$322:$I388)),\"チェック\",$J$320+SUM($H$322:$H388)-SUM($I$322:$I388)),IF(OR(H388<>\"\",I388<>\"\"),\"科目入力\",\"\"))","v":""},{"$f":"IF(ISERROR(口座残高),\"\",口座残高+SUMIF($C$322:$C388,$C388,$H$322:$H388)-SUMIF($C$322:$C388,C388,$I$322:$I388))","v":""}]
[null,null,null,null,null,null,null,null,null,{"$f":"IF($E389<>\"\",IF(ISERROR($J$320+SUM($H$322:$H389)-SUM($I$322:$I389)),\"チェック\",$J$320+SUM($H$322:$H389)-SUM($I$322:$I389)),IF(OR(H389<>\"\",I389<>\"\"),\"科目入力\",\"\"))","v":""},{"$f":"IF(ISERROR(口座残高),\"\",口座残高+SUMIF($C$322:$C389,$C389,$H$322:$H389)-SUMIF($C$322:$C389,C389,$I$322:$I389))","v":""}]
[null,null,null,null,null,null,null,null,null,{"$f":"IF($E390<>\"\",IF(ISERROR($J$320+SUM($H$322:$H390)-SUM($I$322:$I390)),\"チェック\",$J$320+SUM($H$322:$H390)-SUM($I$322:$I390)),IF(OR(H390<>\"\",I390<>\"\"),\"科目入力\",\"\"))","v":""},{"$f":"IF(ISERROR(口座残高),\"\",口座残高+SUMIF($C$322:$C390,$C390,$H$322:$H390)-SUMIF($C$322:$C390,C390,$I$322:$I390))","v":""}]
[null,null,null,null,null,null,null,null,null,{"$f":"IF($E391<>\"\",IF(ISERROR($J$320+SUM($H$322:$H391)-SUM($I$322:$I391)),\"チェック\",$J$320+SUM($H$322:$H391)-SUM($I$322:$I391)),IF(OR(H391<>\"\",I391<>\"\"),\"科目入力\",\"\"))","v":""},{"$f":"IF(ISERROR(口座残高),\"\",口座残高+SUMIF($C$322:$C391,$C391,$H$322:$H391)-SUMIF($C$322:$C391,C391,$I$322:$I391))","v":""}]
[null,null,null,null,null,null,null,null,null,{"$f":"IF($E392<>\"\",IF(ISERROR($J$320+SUM($H$322:$H392)-SUM($I$322:$I392)),\"チェック\",$J$320+SUM($H$322:$H392)-SUM($I$322:$I392)),IF(OR(H392<>\"\",I392<>\"\"),\"科目入力\",\"\"))","v":""},{"$f":"IF(ISERROR(口座残高),\"\",口座残高+SUMIF($C$322:$C392,$C392,$H$322:$H392)-SUMIF($C$322:$C392,C392,$I$322:$I392))","v":""}]
[null,null,null,null,null,null,null,null,null,{"$f":"IF($E393<>\"\",IF(ISERROR($J$320+SUM($H$322:$H393)-SUM($I$322:$I393)),\"チェック\",$J$320+SUM($H$322:$H393)-SUM($I$322:$I393)),IF(OR(H393<>\"\",I393<>\"\"),\"科目入力\",\"\"))","v":""},{"$f":"IF(ISERROR(口座残高),\"\",口座残高+SUMIF($C$322:$C393,$C393,$H$322:$H393)-SUMIF($C$322:$C393,C393,$I$322:$I393))","v":""}]
[null,null,null,null,null,null,null,null,null,{"$f":"IF($E394<>\"\",IF(ISERROR($J$320+SUM($H$322:$H394)-SUM($I$322:$I394)),\"チェック\",$J$320+SUM($H$322:$H394)-SUM($I$322:$I394)),IF(OR(H394<>\"\",I394<>\"\"),\"科目入力\",\"\"))","v":""},{"$f":"IF(ISERROR(口座残高),\"\",口座残高+SUMIF($C$322:$C394,$C394,$H$322:$H394)-SUMIF($C$322:$C394,C394,$I$322:$I394))","v":""}]
[null,null,null,null,null,null,null,null,null,{"$f":"IF($E395<>\"\",IF(ISERROR($J$320+SUM($H$322:$H395)-SUM($I$322:$I395)),\"チェック\",$J$320+SUM($H$322:$H395)-SUM($I$322:$I395)),IF(OR(H395<>\"\",I395<>\"\"),\"科目入力\",\"\"))","v":""},{"$f":"IF(ISERROR(口座残高),\"\",口座残高+SUMIF($C$322:$C395,$C395,$H$322:$H395)-SUMIF($C$322:$C395,C395,$I$322:$I395))","v":""}]
[null,null,null,null,null,null,null,null,null,{"$f":"IF($E396<>\"\",IF(ISERROR($J$320+SUM($H$322:$H396)-SUM($I$322:$I396)),\"チェック\",$J$320+SUM($H$322:$H396)-SUM($I$322:$I396)),IF(OR(H396<>\"\",I396<>\"\"),\"科目入力\",\"\"))","v":""},{"$f":"IF(ISERROR(口座残高),\"\",口座残高+SUMIF($C$322:$C396,$C396,$H$322:$H396)-SUMIF($C$322:$C396,C396,$I$322:$I396))","v":""}]
[null,null,null,null,null,null,null,null,null,{"$f":"IF($E397<>\"\",IF(ISERROR($J$320+SUM($H$322:$H397)-SUM($I$322:$I397)),\"チェック\",$J$320+SUM($H$322:$H397)-SUM($I$322:$I397)),IF(OR(H397<>\"\",I397<>\"\"),\"科目入力\",\"\"))","v":""},{"$f":"IF(ISERROR(口座残高),\"\",口座残高+SUMIF($C$322:$C397,$C397,$H$322:$H397)-SUMIF($C$322:$C397,C397,$I$322:$I397))","v":""}]
[null,null,null,null,null,null,null,null,null,{"$f":"IF($E398<>\"\",IF(ISERROR($J$320+SUM($H$322:$H398)-SUM($I$322:$I398)),\"チェック\",$J$320+SUM($H$322:$H398)-SUM($I$322:$I398)),IF(OR(H398<>\"\",I398<>\"\"),\"科目入力\",\"\"))","v":""},{"$f":"IF(ISERROR(口座残高),\"\",口座残高+SUMIF($C$322:$C398,$C398,$H$322:$H398)-SUMIF($C$322:$C398,C398,$I$322:$I398))","v":""}]
[null,null,null,null,null,null,null,null,null,{"$f":"IF($E399<>\"\",IF(ISERROR($J$320+SUM($H$322:$H399)-SUM($I$322:$I399)),\"チェック\",$J$320+SUM($H$322:$H399)-SUM($I$322:$I399)),IF(OR(H399<>\"\",I399<>\"\"),\"科目入力\",\"\"))","v":""},{"$f":"IF(ISERROR(口座残高),\"\",口座残高+SUMIF($C$322:$C399,$C399,$H$322:$H399)-SUMIF($C$322:$C399,C399,$I$322:$I399))","v":""}]
[null,null,null,null,null,null,null,null,null,{"$f":"IF($E400<>\"\",IF(ISERROR($J$320+SUM($H$322:$H400)-SUM($I$322:$I400)),\"チェック\",$J$320+SUM($H$322:$H400)-SUM($I$322:$I400)),IF(OR(H400<>\"\",I400<>\"\"),\"科目入力\",\"\"))","v":""},{"$f":"IF(ISERROR(口座残高),\"\",口座残高+SUMIF($C$322:$C400,$C400,$H$322:$H400)-SUMIF($C$322:$C400,C400,$I$322:$I400))","v":""}]
[null,null,null,null,null,null,null,null,null,{"$f":"IF($E401<>\"\",IF(ISERROR($J$320+SUM($H$322:$H401)-SUM($I$322:$I401)),\"チェック\",$J$320+SUM($H$322:$H401)-SUM($I$322:$I401)),IF(OR(H401<>\"\",I401<>\"\"),\"科目入力\",\"\"))","v":""},{"$f":"IF(ISERROR(口座残高),\"\",口座残高+SUMIF($C$322:$C401,$C401,$H$322:$H401)-SUMIF($C$322:$C401,C401,$I$322:$I401))","v":""}]
[null,null,null,null,null,null,null,null,null,{"$f":"IF($E402<>\"\",IF(ISERROR($J$320+SUM($H$322:$H402)-SUM($I$322:$I402)),\"チェック\",$J$320+SUM($H$322:$H402)-SUM($I$322:$I402)),IF(OR(H402<>\"\",I402<>\"\"),\"科目入力\",\"\"))","v":""},{"$f":"IF(ISERROR(口座残高),\"\",口座残高+SUMIF($C$322:$C402,$C402,$H$322:$H402)-SUMIF($C$322:$C402,C402,$I$322:$I402))","v":""}]
[null,null,null,null,null,null,null,null,null,{"$f":"IF($E403<>\"\",IF(ISERROR($J$320+SUM($H$322:$H403)-SUM($I$322:$I403)),\"チェック\",$J$320+SUM($H$322:$H403)-SUM($I$322:$I403)),IF(OR(H403<>\"\",I403<>\"\"),\"科目入力\",\"\"))","v":""},{"$f":"IF(ISERROR(口座残高),\"\",口座残高+SUMIF($C$322:$C403,$C403,$H$322:$H403)-SUMIF($C$322:$C403,C403,$I$322:$I403))","v":""}]
[null,null,null,null,null,null,null,null,null,{"$f":"IF($E404<>\"\",IF(ISERROR($J$320+SUM($H$322:$H404)-SUM($I$322:$I404)),\"チェック\",$J$320+SUM($H$322:$H404)-SUM($I$322:$I404)),IF(OR(H404<>\"\",I404<>\"\"),\"科目入力\",\"\"))","v":""},{"$f":"IF(ISERROR(口座残高),\"\",口座残高+SUMIF($C$322:$C404,$C404,$H$322:$H404)-SUMIF($C$322:$C404,C404,$I$322:$I404))","v":""}]
[null,null,null,null,null,null,null,null,null,{"$f":"IF($E405<>\"\",IF(ISERROR($J$320+SUM($H$322:$H405)-SUM($I$322:$I405)),\"チェック\",$J$320+SUM($H$322:$H405)-SUM($I$322:$I405)),IF(OR(H405<>\"\",I405<>\"\"),\"科目入力\",\"\"))","v":""},{"$f":"IF(ISERROR(口座残高),\"\",口座残高+SUMIF($C$322:$C405,$C405,$H$322:$H405)-SUMIF($C$322:$C405,C405,$I$322:$I405))","v":""}]
[null,null,null,null,null,null,null,null,null,{"$f":"IF($E406<>\"\",IF(ISERROR($J$320+SUM($H$322:$H406)-SUM($I$322:$I406)),\"チェック\",$J$320+SUM($H$322:$H406)-SUM($I$322:$I406)),IF(OR(H406<>\"\",I406<>\"\"),\"科目入力\",\"\"))","v":""},{"$f":"IF(ISERROR(口座残高),\"\",口座残高+SUMIF($C$322:$C406,$C406,$H$322:$H406)-SUMIF($C$322:$C406,C406,$I$322:$I406))","v":""}]
[null,null,null,null,null,null,null,null,null,{"$f":"IF($E407<>\"\",IF(ISERROR($J$320+SUM($H$322:$H407)-SUM($I$322:$I407)),\"チェック\",$J$320+SUM($H$322:$H407)-SUM($I$322:$I407)),IF(OR(H407<>\"\",I407<>\"\"),\"科目入力\",\"\"))","v":""},{"$f":"IF(ISERROR(口座残高),\"\",口座残高+SUMIF($C$322:$C407,$C407,$H$322:$H407)-SUMIF($C$322:$C407,C407,$I$322:$I407))","v":""}]
[null,null,null,null,null,null,null,null,null,{"$f":"IF($E408<>\"\",IF(ISERROR($J$320+SUM($H$322:$H408)-SUM($I$322:$I408)),\"チェック\",$J$320+SUM($H$322:$H408)-SUM($I$322:$I408)),IF(OR(H408<>\"\",I408<>\"\"),\"科目入力\",\"\"))","v":""},{"$f":"IF(ISERROR(口座残高),\"\",口座残高+SUMIF($C$322:$C408,$C408,$H$322:$H408)-SUMIF($C$322:$C408,C408,$I$322:$I408))","v":""}]
[null,null,null,null,null,null,null,null,null,{"$f":"IF($E409<>\"\",IF(ISERROR($J$320+SUM($H$322:$H409)-SUM($I$322:$I409)),\"チェック\",$J$320+SUM($H$322:$H409)-SUM($I$322:$I409)),IF(OR(H409<>\"\",I409<>\"\"),\"科目入力\",\"\"))","v":""},{"$f":"IF(ISERROR(口座残高),\"\",口座残高+SUMIF($C$322:$C409,$C409,$H$322:$H409)-SUMIF($C$322:$C409,C409,$I$322:$I409))","v":""}]
[null,null,null,null,null,null,null,null,null,{"$f":"IF($E410<>\"\",IF(ISERROR($J$320+SUM($H$322:$H410)-SUM($I$322:$I410)),\"チェック\",$J$320+SUM($H$322:$H410)-SUM($I$322:$I410)),IF(OR(H410<>\"\",I410<>\"\"),\"科目入力\",\"\"))","v":""},{"$f":"IF(ISERROR(口座残高),\"\",口座残高+SUMIF($C$322:$C410,$C410,$H$322:$H410)-SUMIF($C$322:$C410,C410,$I$322:$I410))","v":""}]
[null,null,null,null,null,null,null,null,null,{"$f":"IF($E411<>\"\",IF(ISERROR($J$320+SUM($H$322:$H411)-SUM($I$322:$I411)),\"チェック\",$J$320+SUM($H$322:$H411)-SUM($I$322:$I411)),IF(OR(H411<>\"\",I411<>\"\"),\"科目入力\",\"\"))","v":""},{"$f":"IF(ISERROR(口座残高),\"\",口座残高+SUMIF($C$322:$C411,$C411,$H$322:$H411)-SUMIF($C$322:$C411,C411,$I$322:$I411))","v":""}]
[null,null,null,null,null,null,"合　　　　計",{"$f":"IF(SUM(H322:H411)=0,\"\",SUM(H322:H411))","v":""},{"$f":"IF(SUM(I322:I411)=0,\"\",SUM(I322:I411))","v":""},{"$f":"J320+SUM(H322:H411)-SUM(I322:I411)","v":0}]
[]
[null,null,null,null,null,null,null,"現金＋口座・その他残高",null,{"$f":"IF(集計表!E82+集計表!C14-集計表!C76=J315+J412,J315+J412,\"チェック\")","v":0},{"$f":"IF(J414=0,\"\",\" 円\")","v":""}]
[]
[]
[null,null,{"$f":"設定!H27","v":0},null,{"$f":"設定!I27+SUMIF($C$322:$C$411,C417,$H$322:$H$411)-SUMIF($C$322:$C$411,C417,$I$322:$I$411)","v":0}]
[null,null,{"$f":"設定!H28","v":0},null,{"$f":"設定!I28+SUMIF($C$322:$C$411,C418,$H$322:$H$411)-SUMIF($C$322:$C$411,C418,$I$322:$I$411)","v":0}]
[null,null,{"$f":"設定!H29","v":0},null,{"$f":"設定!I29+SUMIF($C$322:$C$411,C419,$H$322:$H$411)-SUMIF($C$322:$C$411,C419,$I$322:$I$411)","v":0}]
[null,null,{"$f":"設定!H30","v":0},null,{"$f":"設定!I30+SUMIF($C$322:$C$411,C420,$H$322:$H$411)-SUMIF($C$322:$C$411,C420,$I$322:$I$411)","v":0}]
[null,null,{"$f":"設定!H31","v":0},null,{"$f":"設定!I31+SUMIF($C$322:$C$411,C421,$H$322:$H$411)-SUMIF($C$322:$C$411,C421,$I$322:$I$411)","v":0}]
[null,null,{"$f":"設定!H32","v":0},null,{"$f":"設定!I32+SUMIF($C$322:$C$411,C422,$H$322:$H$411)-SUMIF($C$322:$C$411,C422,$I$322:$I$411)","v":0}]
[null,null,{"$f":"設定!H33","v":0},null,{"$f":"設定!I33+SUMIF($C$322:$C$411,C423,$H$322:$H$411)-SUMIF($C$322:$C$411,C423,$I$322:$I$411)","v":0}]
[null,null,{"$f":"設定!H34","v":0},null,{"$f":"設定!I34+SUMIF($C$322:$C$411,C424,$H$322:$H$411)-SUMIF($C$322:$C$411,C424,$I$322:$I$411)","v":0}]
[null,null,{"$f":"設定!H35","v":0},null,{"$f":"設定!I35+SUMIF($C$322:$C$411,C425,$H$322:$H$411)-SUMIF($C$322:$C$411,C425,$I$322:$I$411)","v":0}]
[null,null,{"$f":"設定!H36","v":0},null,{"$f":"設定!I36+SUMIF($C$322:$C$411,C426,$H$322:$H$411)-SUMIF($C$322:$C$411,C426,$I$322:$I$411)","v":0}]
[null,null,{"$f":"設定!H37","v":0},null,{"$f":"設定!I37+SUMIF($C$322:$C$411,C427,$H$322:$H$411)-SUMIF($C$322:$C$411,C427,$I$322:$I$411)","v":0}]
[null,null,{"$f":"設定!H38","v":0},null,{"$f":"設定!I38+SUMIF($C$322:$C$411,C428,$H$322:$H$411)-SUMIF($C$322:$C$411,C428,$I$322:$I$411)","v":0}]
[null,null,{"$f":"設定!H39","v":0},null,{"$f":"設定!I39+SUMIF($C$322:$C$411,C429,$H$322:$H$411)-SUMIF($C$322:$C$411,C429,$I$322:$I$411)","v":0}]
[null,null,{"$f":"設定!H40","v":0},null,{"$f":"設定!I40+SUMIF($C$322:$C$411,C430,$H$322:$H$411)-SUMIF($C$322:$C$411,C430,$I$322:$I$411)","v":0}]
[null,null,{"$f":"設定!H41","v":0},null,{"$f":"設定!I41+SUMIF($C$322:$C$411,C431,$H$322:$H$411)-SUMIF($C$322:$C$411,C431,$I$322:$I$411)","v":0}]

{"sheet":"日記(2)","index":3,"n_rows":431,"n_cols":11,"rows_kept":431,"cut":false,"hidden":false,"merged":[[409,2,409,3],[410,2,410,3],[394,2,394,3],[395,2,395,3],[396,2,396,3],[397,2,397,3],[398,2,398,3],[399,2,399,3],[400,2,400,3],[401,2,401,3],[403,2,403,3],[404,2,404,3],[405,2,405,3],[406,2,406,3],[407,2,407,3],[408,2,408,3],[402,2,402,3],[385,2,385,3],[386,2,386,3],[387,2,387,3],[388,2,388,3],[389,2,389,3],[390,2,390,3],[391,2,391,3],[392,2,392,3],[393,2,393,3],[382,2,382,3],[383,2,383,3],[384,2,384,3],[367,2,367,3],[368,2,368,3],[369,2,369,3],[370,2,370,3],[371,2,371,3],[372,2,372,3],[373,2,373,3],[376,2,376,3],[377,2,377,3],[378,2,378,3],[379,2,379,3],[380,2,380,3],[381,2,381,3],[352,2,352,3],[353,2,353,3],[354,2,354,3],[355,2,355,3],[356,2,356,3],[357,2,357,3],[374,2,374,3],[375,2,375,3],[358,2,358,3],[359,2,359,3],[360,2,360,3],[361,2,361,3],[362,2,362,3],[363,2,363,3],[364,2,364,3],[365,2,365,3],[268,1,268,3],[269,1,269,3],[270,1,270,3],[271,1,271,3],[272,1,272,3],[273,1,273,3],[338,2,338,3],[339,2,339,3],[322,2,322,3],[323,2,323,3],[324,2,324,3],[325,2,325,3],[326,2,326,3],[327,2,327,3],[328,2,328,3],[329,2,329,3],[331,2,331,3],[332,2,332,3],[333,2,333,3],[334,2,334,3],[335,2,335,3],[336,2,336,3],[337,2,337,3],[289,1,289,3],[290,1,290,3],[291,1,291,3],[247,1,247,3],[248,1,248,3],[249,1,249,3],[250,1,250,3],[251,1,251,3],[252,1,252,3],[253,1,253,3],[282,1,282,3],[283,1,283,3],[285,1,285,3],[286,1,286,3],[287,1,287,3],[288,1,288,3],[275,1,275,3],[276,1,276,3],[278,1,278,3],[279,1,279,3],[280,1,280,3],[281,1,281,3],[277,1,277,3],[267,1,267,3],[265,1,265,3],[266,1,266,3],[255,1,255,3],[256,1,256,3],[257,1,257,3],[258,1,258,3],[259,1,259,3],[260,1,260,3],[261,1,261,3],[262,1,262,3],[263,1,263,3],[237,1,237,3],[238,1,238,3],[239,1,239,3],[240,1,240,3],[241,1,241,3],[242,1,242,3],[243,1,243,3],[245,1,245,3],[246,1,246,3],[233,1,233,3],[235,1,235,3],[236,1,236,3],[217,1,217,3],[218,1,218,3],[219,1,219,3],[220,1,220,3],[221,1,221,3],[222,1,222,3],[223,1,223,3],[227,1,227,3],[228,1,228,3],[229,1,229,3],[230,1,230,3],[231,1,231,3],[232,1,232,3],[225,1,225,3],[226,1,226,3],[207,1,207,3],[208,1,208,3],[209,1,209,3],[210,1,210,3],[211,1,211,3],[212,1,212,3],[213,1,213,3],[215,1,215,3],[216,1,216,3],[197,1,197,3],[198,1,198,3],[199,1,199,3],[200,1,200,3],[201,1,201,3],[202,1,202,3],[203,1,203,3],[205,1,205,3],[206,1,206,3],[193,1,193,3],[195,1,195,3],[196,1,196,3],[177,1,177,3],[178,1,178,3],[179,1,179,3],[180,1,180,3],[181,1,181,3],[182,1,182,3],[183,1,183,3],[187,1,187,3],[188,1,188,3],[189,1,189,3],[190,1,190,3],[191,1,191,3],[192,1,192,3],[185,1,185,3],[186,1,186,3],[160,1,160,3],[161,1,161,3],[162,1,162,3],[163,1,163,3],[175,1,175,3],[176,1,176,3],[165,1,165,3],[166,1,166,3],[173,1,173,3],[167,1,167,3],[168,1,168,3],[169,1,169,3],[170,1,170,3],[171,1,171,3],[172,1,172,3],[150,1,150,3],[151,1,151,3],[152,1,152,3],[153,1,153,3],[155,1,155,3],[156,1,156,3],[157,1,157,3],[158,1,158,3],[159,1,159,3],[147,1,147,3],[148,1,148,3],[149,1,149,3],[130,1,130,3],[131,1,131,3],[132,1,132,3],[133,1,133,3],[135,1,135,3],[136,1,136,3],[137,1,137,3],[140,1,140,3],[141,1,141,3],[142,1,142,3],[143,1,143,3],[145,1,145,3],[146,1,146,3],[138,1,138,3],[139,1,139,3],[120,1,120,3],[121,1,121,3],[122,1,122,3],[123,1,123,3],[125,1,125,3],[126,1,126,3],[127,1,127,3],[128,1,128,3],[129,1,129,3],[110,1,110,3],[111,1,111,3],[112,1,112,3],[113,1,113,3],[115,1,115,3],[116,1,116,3],[117,1,117,3],[118,1,118,3],[119,1,119,3],[107,1,107,3],[108,1,108,3],[109,1,109,3],[90,1,90,3],[91,1,91,3],[92,1,92,3],[93,1,93,3],[95,1,95,3],[96,1,96,3],[97,1,97,3],[100,1,100,3],[101,1,101,3],[102,1,102,3],[103,1,103,3],[105,1,105,3],[106,1,106,3],[98,1,98,3],[99,1,99,3],[71,1,71,3],[72,1,72,3],[73,1,73,3],[85,1,85,3],[86,1,86,3],[2,7,2,8],[9,1,9,3],[10,1,10,3],[2,1,3,3],[45,1,45,3],[81,1,81,3],[82,1,82,3],[83,1,83,3],[63,1,63,3],[65,1,65,3],[66,1,66,3],[67,1,67,3],[68,1,68,3],[69,1,69,3],[70,1,70,3],[2,4,3,4],[2,5,3,6],[18,1,18,3],[29,1,29,3],[0,2,0,3],[11,1,11,3],[12,1,12,3],[13,1,13,3],[15,1,15,3],[16,1,16,3],[17,1,17,3],[30,1,30,3],[31,1,31,3],[5,1,5,3],[6,1,6,3],[19,1,19,3],[20,1,20,3],[21,1,21,3],[22,1,22,3],[23,1,23,3],[25,1,25,3],[26,1,26,3],[27,1,27,3],[28,1,28,3],[47,1,47,3],[48,1,48,3],[49,1,49,3],[50,1,50,3],[51,1,51,3],[52,1,52,3],[53,1,53,3],[7,1,7,3],[8,1,8,3],[41,1,41,3],[42,1,42,3],[43,1,43,3],[35,1,35,3],[36,1,36,3],[37,1,37,3],[32,1,32,3],[33,1,33,3],[46,1,46,3],[38,1,38,3],[39,1,39,3],[40,1,40,3],[299,1,299,3],[298,1,298,3],[297,1,297,3],[296,1,296,3],[295,1,295,3],[55,1,55,3],[56,1,56,3],[57,1,57,3],[87,1,87,3],[88,1,88,3],[89,1,89,3],[78,1,78,3],[79,1,79,3],[80,1,80,3],[292,1,292,3],[293,1,293,3],[75,1,75,3],[76,1,76,3],[77,1,77,3],[58,1,58,3],[59,1,59,3],[60,1,60,3],[61,1,61,3],[62,1,62,3],[413,7,413,8],[311,1,311,3],[312,1,312,3],[313,1,313,3],[319,2,320,3],[319,4,320,4],[319,5,320,6],[319,7,319,8],[300,1,300,3],[330,2,330,3],[319,1,320,1],[346,2,346,3],[347,2,347,3],[348,2,348,3],[340,2,340,3],[341,2,341,3],[342,2,342,3],[343,2,343,3],[344,2,344,3],[345,2,345,3],[366,2,366,3],[349,2,349,3],[350,2,350,3],[351,2,351,3],[308,1,308,3],[309,1,309,3],[310,1,310,3],[321,2,321,3],[301,1,301,3],[302,1,302,3],[303,1,303,3],[305,1,305,3],[306,1,306,3],[307,1,307,3]]}
[null,{"$f":"IF(設定!$B$2=\"\",\"\",IF(設定!$C$2=12,設定!$B$2+1,設定!$B$2))","v":""},{"$f":"\"年　　\"&IF(設定!$C$2=\"\",\"\",IF(設定!$C$2=12,1,設定!$C$2+1)&\"　月\")","v":"年　　"},"年　　　月"]
[]
[null,"日　　　　　　記",null,null,"科　　目","摘　　　  　要","　前 月 残 高","　前　月　残　高",null,{"$f":"'日記(1)'!J315","v":0}]
[null,null,null,null,null,null,"収　入","収　入","支　出","残　高","確 認"]
[null,{"$f":"IF(設定BC,\"\",IF(設定!$C$2=12,来年N1,今年M1))","v":""},null,null,null,null,null,null,null,{"$f":"IF(E5=\"\",\"\",IF(収支参照,\"\",IF(ISERROR(J3+H列-I列),\"チェック\",J3+H列-I列)))","v":""},{"$f":"IF(J14=\"\",\"\",IF(ISERROR(J14-J3),\"チェック\",J14-J3))","v":""}]
[null,null,null,null,null,null,null,null,null,{"$f":"IF(E6=\"\",\"\",IF(収支参照,\"\",IF(ISERROR(当日残高),\"チェック\",当日残高)))","v":""},{"$f":"IF(GH参照,IF(E5<>\"\",IF(ISERROR(確認),\"チェック\",確認),\"科目入力\"),\"\")","v":""}]
[null,null,null,null,null,null,null,null,null,"",""]
[null,null,null,null,null,null,null,null,null,"",""]
[null,null,null,null,null,null,null,null,null,"",""]
[null,null,null,null,null,null,null,null,null,"",""]
[null,null,null,null,null,null,null,null,null,"",""]
[null,null,null,null,null,null,null,null,null,"",""]
[null,null,null,null,null,null,null,null,null,"",""]
[null,null,null,null,null,null,null,null,null,null,{"$f":"IF(J14=\"\",\"\",IF(J13=J14,0,IF(GH参照,IF(E13<>\"\",IF(入出参照,IF(E14<>\"\",IF(再確認<>0,\"チェック\",再確認),\"科目入力\"),再確認),\"科目入力\"),\"\")))","v":""}]
[null,{"$f":"IF(設定BC,\"\",IF(設定!$C$2=12,来年N1,今年M1))","v":""},null,null,null,null,null,null,null,{"$f":"IF(E15=\"\",\"\",IF(収支参照,\"\",IF(ISERROR(J列+H列-I列),\"チェック\",J列+H列-I列)))","v":""},{"$f":"IF(J24=\"\",\"\",J24-J14)","v":""}]
[null,null,null,null,null,null,null,null,null,{"$f":"IF(E16=\"\",\"\",IF(収支参照,\"\",IF(ISERROR(当日残高),\"チェック\",当日残高)))","v":""},{"$f":"IF(GH参照,IF(E15<>\"\",IF(ISERROR(確認),\"チェック\",確認),\"科目入力\"),\"\")","v":""}]
[null,null,null,null,null,null,null,null,null,"",""]
[null,null,null,null,null,null,null,null,null,"",""]
[null,null,null,null,null,null,null,null,null,"",""]
[null,null,null,null,null,null,null,null,null,"",""]
[null,null,null,null,null,null,null,null,null,"",""]
[null,null,null,null,null,null,null,null,null,"",""]
[null,null,null,null,null,null,null,null,null,"",""]
[null,null,null,null,null,null,null,null,null,null,{"$f":"IF(J24=\"\",\"\",IF(J23=J24,0,IF(GH参照,IF(E23<>\"\",IF(入出参照,IF(E24<>\"\",IF(再確認<>0,\"チェック\",再確認),\"科目入力\"),再確認),\"科目入力\"),\"\")))","v":""}]
[null,{"$f":"IF(設定BC,\"\",IF(設定!$C$2=12,来年N1,今年M1))","v":""},null,null,null,null,null,null,null,{"$f":"IF(E25=\"\",\"\",IF(収支参照,\"\",IF(ISERROR(J列+H列-I列),\"チェック\",J列+H列-I列)))","v":""},{"$f":"IF(J34=\"\",\"\",J34-J24)","v":""}]
[null,null,null,null,null,null,null,null,null,{"$f":"IF(E26=\"\",\"\",IF(収支参照,\"\",IF(ISERROR(当日残高),\"チェック\",当日残高)))","v":""},{"$f":"IF(GH参照,IF(E25<>\"\",IF(ISERROR(確認),\"チェック\",確認),\"科目入力\"),\"\")","v":""}]
[null,null,null,null,null,null,null,null,null,"",""]
[null,null,null,null,null,null,null,null,null,"",""]
[null,null,null,null,null,null,null,null,null,"",""]
[null,null,null,null,null,null,null,null,null,"",""]
[null,null,null,null,null,null,null,null,null,"",""]
[null,null,null,null,null,null,null,null,null,"",""]
[null,null,null,null,null,null,null,null,null,"",""]
[null,null,null,null,null,null,null,null,null,null,{"$f":"IF(J34=\"\",\"\",IF(J33=J34,0,IF(GH参照,IF(E33<>\"\",IF(入出参照,IF(E34<>\"\",IF(再確認<>0,\"チェック\",再確認),\"科目入力\"),再確認),\"科目入力\"),\"\")))","v":""}]
[null,{"$f":"IF(設定BC,\"\",IF(設定!$C$2=12,来年N1,今年M1))","v":""},null,null,null,null,null,null,null,{"$f":"IF(E35=\"\",\"\",IF(収支参照,\"\",IF(ISERROR(J列+H列-I列),\"チェック\",J列+H列-I列)))","v":""},{"$f":"IF(J44=\"\",\"\",J44-J34)","v":""}]
[null,null,null,null,null,null,null,null,null,{"$f":"IF(E36=\"\",\"\",IF(収支参照,\"\",IF(ISERROR(当日残高),\"チェック\",当日残高)))","v":""},{"$f":"IF(GH参照,IF(E35<>\"\",IF(ISERROR(確認),\"チェック\",確認),\"科目入力\"),\"\")","v":""}]
[null,null,null,null,null,null,null,null,null,"",""]
[null,null,null,null,null,null,null,null,null,"",""]
[null,null,null,null,null,null,null,null,null,"",""]
[null,null,null,null,null,null,null,null,null,"",""]
[null,null,null,null,null,null,null,null,null,"",""]
[null,null,null,null,null,null,null,null,null,"",""]
[null,null,null,null,null,null,null,null,null,"",""]
[null,null,null,null,null,null,null,null,null,null,{"$f":"IF(J44=\"\",\"\",IF(J43=J44,0,IF(GH参照,IF(E43<>\"\",IF(入出参照,IF(E44<>\"\",IF(再確認<>0,\"チェック\",再確認),\"科目入力\"),再確認),\"科目入力\"),\"\")))","v":""}]
[null,{"$f":"IF(設定BC,\"\",IF(設定!$C$2=12,来年N1,今年M1))","v":""},null,null,null,null,null,null,null,{"$f":"IF(E45=\"\",\"\",IF(収支参照,\"\",IF(ISERROR(J列+H列-I列),\"チェック\",J列+H列-I列)))","v":""},{"$f":"IF(J54=\"\",\"\",J54-J44)","v":""}]
[null,null,null,null,null,null,null,null,null,{"$f":"IF(E46=\"\",\"\",IF(収支参照,\"\",IF(ISERROR(当日残高),\"チェック\",当日残高)))","v":""},{"$f":"IF(GH参照,IF(E45<>\"\",IF(ISERROR(確認),\"チェック\",確認),\"科目入力\"),\"\")","v":""}]
[null,null,null,null,null,null,null,null,null,"",""]
[null,null,null,null,null,null,null,null,null,"",""]
[null,null,null,null,null,null,null,null,null,"",""]
[null,null,null,null,null,null,null,null,null,"",""]
[null,null,null,null,null,null,null,null,null,"",""]
[null,null,null,null,null,null,null,null,null,"",""]
[null,null,null,null,null,null,null,null,null,"",""]
[null,null,null,null,null,null,null,null,null,null,{"$f":"IF(J54=\"\",\"\",IF(J53=J54,0,IF(GH参照,IF(E53<>\"\",IF(入出参照,IF(E54<>\"\",IF(再確認<>0,\"チェック\",再確認),\"科目入力\"),再確認),\"科目入力\"),\"\")))","v":""}]
[null,{"$f":"IF(設定BC,\"\",IF(設定!$C$2=12,来年N1,今年M1))","v":""},null,null,null,null,null,null,null,{"$f":"IF(E55=\"\",\"\",IF(収支参照,\"\",IF(ISERROR(J列+H列-I列),\"チェック\",J列+H列-I列)))","v":""},{"$f":"IF(J64=\"\",\"\",J64-J54)","v":""}]
[null,null,null,null,null,null,null,null,null,{"$f":"IF(E56=\"\",\"\",IF(収支参照,\"\",IF(ISERROR(当日残高),\"チェック\",当日残高)))","v":""},{"$f":"IF(GH参照,IF(E55<>\"\",IF(ISERROR(確認),\"チェック\",確認),\"科目入力\"),\"\")","v":""}]
[null,null,null,null,null,null,null,null,null,"",""]
[null,null,null,null,null,null,null,null,null,"",""]
[null,null,null,null,null,null,null,null,null,"",""]
[null,null,null,null,null,null,null,null,null,"",""]
[null,null,null,null,null,null,null,null,null,"",""]
[null,null,null,null,null,null,null,null,null,"",""]
[null,null,null,null,null,null,null,null,null,"",""]
[null,null,null,null,null,null,null,null,null,null,{"$f":"IF(J64=\"\",\"\",IF(J63=J64,0,IF(GH参照,IF(E63<>\"\",IF(入出参照,IF(E64<>\"\",IF(再確認<>0,\"チェック\",再確認),\"科目入力\"),再確認),\"科目入力\"),\"\")))","v":""}]
[null,{"$f":"IF(設定BC,\"\",IF(設定!$C$2=12,来年N1,今年M1))","v":""},null,null,null,null,null,null,null,{"$f":"IF(E65=\"\",\"\",IF(収支参照,\"\",IF(ISERROR(J列+H列-I列),\"チェック\",J列+H列-I列)))","v":""},{"$f":"IF(J74=\"\",\"\",J74-J64)","v":""}]
[null,null,null,null,null,null,null,null,null,{"$f":"IF(E66=\"\",\"\",IF(収支参照,\"\",IF(ISERROR(当日残高),\"チェック\",当日残高)))","v":""},{"$f":"IF(GH参照,IF(E65<>\"\",IF(ISERROR(確認),\"チェック\",確認),\"科目入力\"),\"\")","v":""}]
[null,null,null,null,null,null,null,null,null,"",""]
[null,null,null,null,null,null,null,null,null,"",""]
[null,null,null,null,null,null,null,null,null,"",""]
[null,null,null,null,null,null,null,null,null,"",""]
[null,null,null,null,null,null,null,null,null,"",""]
[null,null,null,null,null,null,null,null,null,"",""]
[null,null,null,null,null,null,null,null,null,"",""]
[null,null,null,null,null,null,null,null,null,null,{"$f":"IF(J74=\"\",\"\",IF(J73=J74,0,IF(GH参照,IF(E73<>\"\",IF(入出参照,IF(E74<>\"\",IF(再確認<>0,\"チェック\",再確認),\"科目入力\"),再確認),\"科目入力\"),\"\")))","v":""}]
[null,{"$f":"IF(設定BC,\"\",IF(設定!$C$2=12,来年N1,今年M1))","v":""},null,null,null,null,null,null,null,{"$f":"IF(E75=\"\",\"\",IF(収支参照,\"\",IF(ISERROR(J列+H列-I列),\"チェック\",J列+H列-I列)))","v":""},{"$f":"IF(J84=\"\",\"\",J84-J74)","v":""}]
[null,null,null,null,null,null,null,null,null,{"$f":"IF(E76=\"\",\"\",IF(収支参照,\"\",IF(ISERROR(当日残高),\"チェック\",当日残高)))","v":""},{"$f":"IF(GH参照,IF(E75<>\"\",IF(ISERROR(確認),\"チェック\",確認),\"科目入力\"),\"\")","v":""}]
[null,null,null,null,null,null,null,null,null,"",""]
[null,null,null,null,null,null,null,null,null,"",""]
[null,null,null,null,null,null,null,null,null,"",""]
[null,null,null,null,null,null,null,null,null,"",""]
[null,null,null,null,null,null,null,null,null,"",""]
[null,null,null,null,null,null,null,null,null,"",""]
[null,null,null,null,null,null,null,null,null,"",""]
[null,null,null,null,null,null,null,null,null,null,{"$f":"IF(J84=\"\",\"\",IF(J83=J84,0,IF(GH参照,IF(E83<>\"\",IF(入出参照,IF(E84<>\"\",IF(再確認<>0,\"チェック\",再確認),\"科目入力\"),再確認),\"科目入力\"),\"\")))","v":""}]
[null,{"$f":"IF(設定BC,\"\",IF(設定!$C$2=12,来年N1,今年M1))","v":""},null,null,null,null,null,null,null,{"$f":"IF(E85=\"\",\"\",IF(収支参照,\"\",IF(ISERROR(J列+H列-I列),\"チェック\",J列+H列-I列)))","v":""},{"$f":"IF(J94=\"\",\"\",J94-J84)","v":""}]
[null,null,null,null,null,null,null,null,null,{"$f":"IF(E86=\"\",\"\",IF(収支参照,\"\",IF(ISERROR(当日残高),\"チェック\",当日残高)))","v":""},{"$f":"IF(GH参照,IF(E85<>\"\",IF(ISERROR(確認),\"チェック\",確認),\"科目入力\"),\"\")","v":""}]
[null,null,null,null,null,null,null,null,null,"",""]
[null,null,null,null,null,null,null,null,null,"",""]
[null,null,null,null,null,null,null,null,null,"",""]
[null,null,null,null,null,null,null,null,null,"",""]
[null,null,null,null,null,null,null,null,null,"",""]
[null,null,null,null,null,null,null,null,null,"",""]
[null,null,null,null,null,null,null,null,null,"",""]
[null,null,null,null,null,null,null,null,null,null,{"$f":"IF(J94=\"\",\"\",IF(J93=J94,0,IF(GH参照,IF(E93<>\"\",IF(入出参照,IF(E94<>\"\",IF(再確認<>0,\"チェック\",再確認),\"科目入力\"),再確認),\"科目入力\"),\"\")))","v":""}]
[null,{"$f":"IF(設定BC,\"\",IF(設定!$C$2=12,来年N1,今年M1))","v":""},null,null,null,null,null,null,null,{"$f":"IF(E95=\"\",\"\",IF(収支参照,\"\",IF(ISERROR(J列+H列-I列),\"チェック\",J列+H列-I列)))","v":""},{"$f":"IF(J104=\"\",\"\",J104-J94)","v":""}]
[null,null,null,null,null,null,null,null,null,{"$f":"IF(E96=\"\",\"\",IF(収支参照,\"\",IF(ISERROR(当日残高),\"チェック\",当日残高)))","v":""},{"$f":"IF(GH参照,IF(E95<>\"\",IF(ISERROR(確認),\"チェック\",確認),\"科目入力\"),\"\")","v":""}]
[null,null,null,null,null,null,null,null,null,"",""]
[null,null,null,null,null,null,null,null,null,"",""]
[null,null,null,null,null,null,null,null,null,"",""]
[null,null,null,null,null,null,null,null,null,"",""]
[null,null,null,null,null,null,null,null,null,"",""]
[null,null,null,null,null,null,null,null,null,"",""]
[null,null,null,null,null,null,null,null,null,"",""]
[null,null,null,null,null,null,null,null,null,null,{"$f":"IF(J104=\"\",\"\",IF(J103=J104,0,IF(GH参照,IF(E103<>\"\",IF(入出参照,IF(E104<>\"\",IF(再確認<>0,\"チェック\",再確認),\"科目入力\"),再確認),\"科目入力\"),\"\")))","v":""}]
[null,{"$f":"IF(設定BC,\"\",IF(設定!$C$2=12,来年N1,今年M1))","v":""},null,null,null,null,null,null,null,{"$f":"IF(E105=\"\",\"\",IF(収支参照,\"\",IF(ISERROR(J列+H列-I列),\"チェック\",J列+H列-I列)))","v":""},{"$f":"IF(J114=\"\",\"\",J114-J104)","v":""}]
[null,null,null,null,null,null,null,null,null,{"$f":"IF(E106=\"\",\"\",IF(収支参照,\"\",IF(ISERROR(当日残高),\"チェック\",当日残高)))","v":""},{"$f":"IF(GH参照,IF(E105<>\"\",IF(ISERROR(確認),\"チェック\",確認),\"科目入力\"),\"\")","v":""}]
[null,null,null,null,null,null,null,null,null,"",""]
[null,null,null,null,null,null,null,null,null,"",""]
[null,null,null,null,null,null,null,null,null,"",""]
[null,null,null,null,null,null,null,null,null,"",""]
[null,null,null,null,null,null,null,null,null,"",""]
[null,null,null,null,null,null,null,null,null,"",""]
[null,null,null,null,null,null,null,null,null,"",""]
[null,null,null,null,null,null,null,null,null,null,{"$f":"IF(J114=\"\",\"\",IF(J113=J114,0,IF(GH参照,IF(E113<>\"\",IF(入出参照,IF(E114<>\"\",IF(再確認<>0,\"チェック\",再確認),\"科目入力\"),再確認),\"科目入力\"),\"\")))","v":""}]
[null,{"$f":"IF(設定BC,\"\",IF(設定!$C$2=12,来年N1,今年M1))","v":""},null,null,null,null,null,null,null,{"$f":"IF(E115=\"\",\"\",IF(収支参照,\"\",IF(ISERROR(J列+H列-I列),\"チェック\",J列+H列-I列)))","v":""},{"$f":"IF(J124=\"\",\"\",J124-J114)","v":""}]
[null,null,null,null,null,null,null,null,null,{"$f":"IF(E116=\"\",\"\",IF(収支参照,\"\",IF(ISERROR(当日残高),\"チェック\",当日残高)))","v":""},{"$f":"IF(GH参照,IF(E115<>\"\",IF(ISERROR(確認),\"チェック\",確認),\"科目入力\"),\"\")","v":""}]
[null,null,null,null,null,null,null,null,null,"",""]
[null,null,null,null,null,null,null,null,null,"",""]
[null,null,null,null,null,null,null,null,null,"",""]
[null,null,null,null,null,null,null,null,null,"",""]
[null,null,null,null,null,null,null,null,null,"",""]
[null,null,null,null,null,null,null,null,null,"",""]
[null,null,null,null,null,null,null,null,null,"",""]
[null,null,null,null,null,null,null,null,null,null,{"$f":"IF(J124=\"\",\"\",IF(J123=J124,0,IF(GH参照,IF(E123<>\"\",IF(入出参照,IF(E124<>\"\",IF(再確認<>0,\"チェック\",再確認),\"科目入力\"),再確認),\"科目入力\"),\"\")))","v":""}]
[null,{"$f":"IF(設定BC,\"\",IF(設定!$C$2=12,来年N1,今年M1))","v":""},null,null,null,null,null,null,null,{"$f":"IF(E125=\"\",\"\",IF(収支参照,\"\",IF(ISERROR(J列+H列-I列),\"チェック\",J列+H列-I列)))","v":""},{"$f":"IF(J134=\"\",\"\",J134-J124)","v":""}]
[null,null,null,null,null,null,null,null,null,{"$f":"IF(E126=\"\",\"\",IF(収支参照,\"\",IF(ISERROR(当日残高),\"チェック\",当日残高)))","v":""},{"$f":"IF(GH参照,IF(E125<>\"\",IF(ISERROR(確認),\"チェック\",確認),\"科目入力\"),\"\")","v":""}]
[null,null,null,null,null,null,null,null,null,"",""]
[null,null,null,null,null,null,null,null,null,"",""]
[null,null,null,null,null,null,null,null,null,"",""]
[null,null,null,null,null,null,null,null,null,"",""]
[null,null,null,null,null,null,null,null,null,"",""]
[null,null,null,null,null,null,null,null,null,"",""]
[null,null,null,null,null,null,null,null,null,"",""]
[null,null,null,null,null,null,null,null,null,null,{"$f":"IF(J134=\"\",\"\",IF(J133=J134,0,IF(GH参照,IF(E133<>\"\",IF(入出参照,IF(E134<>\"\",IF(再確認<>0,\"チェック\",再確認),\"科目入力\"),再確認),\"科目入力\"),\"\")))","v":""}]
[null,{"$f":"IF(設定BC,\"\",IF(設定!$C$2=12,来年N1,今年M1))","v":""},null,null,null,null,null,null,null,{"$f":"IF(E135=\"\",\"\",IF(収支参照,\"\",IF(ISERROR(J列+H列-I列),\"チェック\",J列+H列-I列)))","v":""},{"$f":"IF(J144=\"\",\"\",J144-J134)","v":""}]
[null,null,null,null,null,null,null,null,null,{"$f":"IF(E136=\"\",\"\",IF(収支参照,\"\",IF(ISERROR(当日残高),\"チェック\",当日残高)))","v":""},{"$f":"IF(GH参照,IF(E135<>\"\",IF(ISERROR(確認),\"チェック\",確認),\"科目入力\"),\"\")","v":""}]
[null,null,null,null,null,null,null,null,null,"",""]
[null,null,null,null,null,null,null,null,null,"",""]
[null,null,null,null,null,null,null,null,null,"",""]
[null,null,null,null,null,null,null,null,null,"",""]
[null,null,null,null,null,null,null,null,null,"",""]
[null,null,null,null,null,null,null,null,null,"",""]
[null,null,null,null,null,null,null,null,null,"",""]
[null,null,null,null,null,null,null,null,null,null,{"$f":"IF(J144=\"\",\"\",IF(J143=J144,0,IF(GH参照,IF(E143<>\"\",IF(入出参照,IF(E144<>\"\",IF(再確認<>0,\"チェック\",再確認),\"科目入力\"),再確認),\"科目入力\"),\"\")))","v":""}]
[null,{"$f":"IF(設定BC,\"\",IF(設定!$C$2=12,来年N1,今年M1))","v":""},null,null,null,null,null,null,null,{"$f":"IF(E145=\"\",\"\",IF(収支参照,\"\",IF(ISERROR(J列+H列-I列),\"チェック\",J列+H列-I列)))","v":""},{"$f":"IF(J154=\"\",\"\",J154-J144)","v":""}]
[null,null,null,null,null,null,null,null,null,{"$f":"IF(E146=\"\",\"\",IF(収支参照,\"\",IF(ISERROR(当日残高),\"チェック\",当日残高)))","v":""},{"$f":"IF(GH参照,IF(E145<>\"\",IF(ISERROR(確認),\"チェック\",確認),\"科目入力\"),\"\")","v":""}]
[null,null,null,null,null,null,null,null,null,"",""]
[null,null,null,null,null,null,null,null,null,"",""]
[null,null,null,null,null,null,null,null,null,"",""]
[null,null,null,null,null,null,null,null,null,"",""]
[null,null,null,null,null,null,null,null,null,"",""]
[null,null,null,null,null,null,null,null,null,"",""]
[null,null,null,null,null,null,null,null,null,"",""]
[null,null,null,null,null,null,null,null,null,null,{"$f":"IF(J154=\"\",\"\",IF(J153=J154,0,IF(GH参照,IF(E153<>\"\",IF(入出参照,IF(E154<>\"\",IF(再確認<>0,\"チェック\",再確認),\"科目入力\"),再確認),\"科目入力\"),\"\")))","v":""}]
[null,{"$f":"IF(設定BC,\"\",IF(設定!$C$2=12,来年N1,今年M1))","v":""},null,null,null,null,null,null,null,{"$f":"IF(E155=\"\",\"\",IF(収支参照,\"\",IF(ISERROR(J列+H列-I列),\"チェック\",J列+H列-I列)))","v":""},{"$f":"IF(J164=\"\",\"\",J164-J154)","v":""}]
[null,null,null,null,null,null,null,null,null,{"$f":"IF(E156=\"\",\"\",IF(収支参照,\"\",IF(ISERROR(当日残高),\"チェック\",当日残高)))","v":""},{"$f":"IF(GH参照,IF(E155<>\"\",IF(ISERROR(確認),\"チェック\",確認),\"科目入力\"),\"\")","v":""}]
[null,null,null,null,null,null,null,null,null,"",""]
[null,null,null,null,null,null,null,null,null,"",""]
[null,null,null,null,null,null,null,null,null,"",""]
[null,null,null,null,null,null,null,null,null,"",""]
[null,null,null,null,null,null,null,null,null,"",""]
[null,null,null,null,null,null,null,null,null,"",""]
[null,null,null,null,null,null,null,null,null,"",""]
[null,null,null,null,null,null,null,null,null,null,{"$f":"IF(J164=\"\",\"\",IF(J163=J164,0,IF(GH参照,IF(E163<>\"\",IF(入出参照,IF(E164<>\"\",IF(再確認<>0,\"チェック\",再確認),\"科目入力\"),再確認),\"科目入力\"),\"\")))","v":""}]
[null,{"$f":"IF(設定BC,\"\",IF(設定!$C$2=12,来年N1,今年M1))","v":""},null,null,null,null,null,null,null,{"$f":"IF(E165=\"\",\"\",IF(収支参照,\"\",IF(ISERROR(J列+H列-I列),\"チェック\",J列+H列-I列)))","v":""},{"$f":"IF(J174=\"\",\"\",J174-J164)","v":""}]
[null,null,null,null,null,null,null,null,null,{"$f":"IF(E166=\"\",\"\",IF(収支参照,\"\",IF(ISERROR(当日残高),\"チェック\",当日残高)))","v":""},{"$f":"IF(GH参照,IF(E165<>\"\",IF(ISERROR(確認),\"チェック\",確認),\"科目入力\"),\"\")","v":""}]
[null,null,null,null,null,null,null,null,null,"",""]
[null,null,null,null,null,null,null,null,null,"",""]
[null,null,null,null,null,null,null,null,null,"",""]
[null,null,null,null,null,null,null,null,null,"",""]
[null,null,null,null,null,null,null,null,null,"",""]
[null,null,null,null,null,null,null,null,null,"",""]
[null,null,null,null,null,null,null,null,null,"",""]
[null,null,null,null,null,null,null,null,null,null,{"$f":"IF(J174=\"\",\"\",IF(J173=J174,0,IF(GH参照,IF(E173<>\"\",IF(入出参照,IF(E174<>\"\",IF(再確認<>0,\"チェック\",再確認),\"科目入力\"),再確認),\"科目入力\"),\"\")))","v":""}]
[null,{"$f":"IF(設定BC,\"\",IF(設定!$C$2=12,来年N1,今年M1))","v":""},null,null,null,null,null,null,null,{"$f":"IF(E175=\"\",\"\",IF(収支参照,\"\",IF(ISERROR(J列+H列-I列),\"チェック\",J列+H列-I列)))","v":""},{"$f":"IF(J184=\"\",\"\",J184-J174)","v":""}]
[null,null,null,null,null,null,null,null,null,{"$f":"IF(E176=\"\",\"\",IF(収支参照,\"\",IF(ISERROR(当日残高),\"チェック\",当日残高)))","v":""},{"$f":"IF(GH参照,IF(E175<>\"\",IF(ISERROR(確認),\"チェック\",確認),\"科目入力\"),\"\")","v":""}]
[null,null,null,null,null,null,null,null,null,"",""]
[null,null,null,null,null,null,null,null,null,"",""]
[null,null,null,null,null,null,null,null,null,"",""]
[null,null,null,null,null,null,null,null,null,"",""]
[null,null,null,null,null,null,null,null,null,"",""]
[null,null,null,null,null,null,null,null,null,"",""]
[null,null,null,null,null,null,null,null,null,"",""]
[null,null,null,null,null,null,null,null,null,null,{"$f":"IF(J184=\"\",\"\",IF(J183=J184,0,IF(GH参照,IF(E183<>\"\",IF(入出参照,IF(E184<>\"\",IF(再確認<>0,\"チェック\",再確認),\"科目入力\"),再確認),\"科目入力\"),\"\")))","v":""}]
[null,{"$f":"IF(設定BC,\"\",IF(設定!$C$2=12,来年N1,今年M1))","v":""},null,null,null,null,null,null,null,{"$f":"IF(E185=\"\",\"\",IF(収支参照,\"\",IF(ISERROR(J列+H列-I列),\"チェック\",J列+H列-I列)))","v":""},{"$f":"IF(J194=\"\",\"\",J194-J184)","v":""}]
[null,null,null,null,null,null,null,null,null,{"$f":"IF(E186=\"\",\"\",IF(収支参照,\"\",IF(ISERROR(当日残高),\"チェック\",当日残高)))","v":""},{"$f":"IF(GH参照,IF(E185<>\"\",IF(ISERROR(確認),\"チェック\",確認),\"科目入力\"),\"\")","v":""}]
[null,null,null,null,null,null,null,null,null,"",""]
[null,null,null,null,null,null,null,null,null,"",""]
[null,null,null,null,null,null,null,null,null,"",""]
[null,null,null,null,null,null,null,null,null,"",""]
[null,null,null,null,null,null,null,null,null,"",""]
[null,null,null,null,null,null,null,null,null,"",""]
[null,null,null,null,null,null,null,null,null,"",""]
[null,null,null,null,null,null,null,null,null,null,{"$f":"IF(J194=\"\",\"\",IF(J193=J194,0,IF(GH参照,IF(E193<>\"\",IF(入出参照,IF(E194<>\"\",IF(再確認<>0,\"チェック\",再確認),\"科目入力\"),再確認),\"科目入力\"),\"\")))","v":""}]
[null,{"$f":"IF(設定BC,\"\",IF(設定!$C$2=12,来年N1,今年M1))","v":""},null,null,null,null,null,null,null,{"$f":"IF(E195=\"\",\"\",IF(収支参照,\"\",IF(ISERROR(J列+H列-I列),\"チェック\",J列+H列-I列)))","v":""},{"$f":"IF(J204=\"\",\"\",J204-J194)","v":""}]
[null,null,null,null,null,null,null,null,null,{"$f":"IF(E196=\"\",\"\",IF(収支参照,\"\",IF(ISERROR(当日残高),\"チェック\",当日残高)))","v":""},{"$f":"IF(GH参照,IF(E195<>\"\",IF(ISERROR(確認),\"チェック\",確認),\"科目入力\"),\"\")","v":""}]
[null,null,null,null,null,null,null,null,null,"",""]
[null,null,null,null,null,null,null,null,null,"",""]
[null,null,null,null,null,null,null,null,null,"",""]
[null,null,null,null,null,null,null,null,null,"",""]
[null,null,null,null,null,null,null,null,null,"",""]
[null,null,null,null,null,null,null,null,null,"",""]
[null,null,null,null,null,null,null,null,null,"",""]
[null,null,null,null,null,null,null,null,null,null,{"$f":"IF(J204=\"\",\"\",IF(J203=J204,0,IF(GH参照,IF(E203<>\"\",IF(入出参照,IF(E204<>\"\",IF(再確認<>0,\"チェック\",再確認),\"科目入力\"),再確認),\"科目入力\"),\"\")))","v":""}]
[null,{"$f":"IF(設定BC,\"\",IF(設定!$C$2=12,来年N1,今年M1))","v":""},null,null,null,null,null,null,null,{"$f":"IF(E205=\"\",\"\",IF(収支参照,\"\",IF(ISERROR(J列+H列-I列),\"チェック\",J列+H列-I列)))","v":""},{"$f":"IF(J214=\"\",\"\",J214-J204)","v":""}]
[null,null,null,null,null,null,null,null,null,{"$f":"IF(E206=\"\",\"\",IF(収支参照,\"\",IF(ISERROR(当日残高),\"チェック\",当日残高)))","v":""},{"$f":"IF(GH参照,IF(E205<>\"\",IF(ISERROR(確認),\"チェック\",確認),\"科目入力\"),\"\")","v":""}]
[null,null,null,null,null,null,null,null,null,"",""]
[null,null,null,null,null,null,null,null,null,"",""]
[null,null,null,null,null,null,null,null,null,"",""]
[null,null,null,null,null,null,null,null,null,"",""]
[null,null,null,null,null,null,null,null,null,"",""]
[null,null,null,null,null,null,null,null,null,"",""]
[null,null,null,null,null,null,null,null,null,"",""]
[null,null,null,null,null,null,null,null,null,null,{"$f":"IF(J214=\"\",\"\",IF(J213=J214,0,IF(GH参照,IF(E213<>\"\",IF(入出参照,IF(E214<>\"\",IF(再確認<>0,\"チェック\",再確認),\"科目入力\"),再確認),\"科目入力\"),\"\")))","v":""}]
[null,{"$f":"IF(設定BC,\"\",IF(設定!$C$2=12,来年N1,今年M1))","v":""},null,null,null,null,null,null,null,{"$f":"IF(E215=\"\",\"\",IF(収支参照,\"\",IF(ISERROR(J列+H列-I列),\"チェック\",J列+H列-I列)))","v":""},{"$f":"IF(J224=\"\",\"\",J224-J214)","v":""}]
[null,null,null,null,null,null,null,null,null,{"$f":"IF(E216=\"\",\"\",IF(収支参照,\"\",IF(ISERROR(当日残高),\"チェック\",当日残高)))","v":""},{"$f":"IF(GH参照,IF(E215<>\"\",IF(ISERROR(確認),\"チェック\",確認),\"科目入力\"),\"\")","v":""}]
[null,null,null,null,null,null,null,null,null,"",""]
[null,null,null,null,null,null,null,null,null,"",""]
[null,null,null,null,null,null,null,null,null,"",""]
[null,null,null,null,null,null,null,null,null,"",""]
[null,null,null,null,null,null,null,null,null,"",""]
[null,null,null,null,null,null,null,null,null,"",""]
[null,null,null,null,null,null,null,null,null,"",""]
[null,null,null,null,null,null,null,null,null,null,{"$f":"IF(J224=\"\",\"\",IF(J223=J224,0,IF(GH参照,IF(E223<>\"\",IF(入出参照,IF(E224<>\"\",IF(再確認<>0,\"チェック\",再確認),\"科目入力\"),再確認),\"科目入力\"),\"\")))","v":""}]
[null,{"$f":"IF(設定BC,\"\",IF(設定!$C$2=12,来年N1,今年M1))","v":""},null,null,null,null,null,null,null,{"$f":"IF(E225=\"\",\"\",IF(収支参照,\"\",IF(ISERROR(J列+H列-I列),\"チェック\",J列+H列-I列)))","v":""},{"$f":"IF(J234=\"\",\"\",J234-J224)","v":""}]
[null,null,null,null,null,null,null,null,null,{"$f":"IF(E226=\"\",\"\",IF(収支参照,\"\",IF(ISERROR(当日残高),\"チェック\",当日残高)))","v":""},{"$f":"IF(GH参照,IF(E225<>\"\",IF(ISERROR(確認),\"チェック\",確認),\"科目入力\"),\"\")","v":""}]
[null,null,null,null,null,null,null,null,null,"",""]
[null,null,null,null,null,null,null,null,null,"",""]
[null,null,null,null,null,null,null,null,null,"",""]
[null,null,null,null,null,null,null,null,null,"",""]
[null,null,null,null,null,null,null,null,null,"",""]
[null,null,null,null,null,null,null,null,null,"",""]
[null,null,null,null,null,null,null,null,null,"",""]
[null,null,null,null,null,null,null,null,null,null,{"$f":"IF(J234=\"\",\"\",IF(J233=J234,0,IF(GH参照,IF(E233<>\"\",IF(入出参照,IF(E234<>\"\",IF(再確認<>0,\"チェック\",再確認),\"科目入力\"),再確認),\"科目入力\"),\"\")))","v":""}]
[null,{"$f":"IF(設定BC,\"\",IF(設定!$C$2=12,来年N1,今年M1))","v":""},null,null,null,null,null,null,null,{"$f":"IF(E235=\"\",\"\",IF(収支参照,\"\",IF(ISERROR(J列+H列-I列),\"チェック\",J列+H列-I列)))","v":""},{"$f":"IF(J244=\"\",\"\",J244-J234)","v":""}]
[null,null,null,null,null,null,null,null,null,{"$f":"IF(E236=\"\",\"\",IF(収支参照,\"\",IF(ISERROR(当日残高),\"チェック\",当日残高)))","v":""},{"$f":"IF(GH参照,IF(E235<>\"\",IF(ISERROR(確認),\"チェック\",確認),\"科目入力\"),\"\")","v":""}]
[null,null,null,null,null,null,null,null,null,"",""]
[null,null,null,null,null,null,null,null,null,"",""]
[null,null,null,null,null,null,null,null,null,"",""]
[null,null,null,null,null,null,null,null,null,"",""]
[null,null,null,null,null,null,null,null,null,"",""]
[null,null,null,null,null,null,null,null,null,"",""]
[null,null,null,null,null,null,null,null,null,"",""]
[null,null,null,null,null,null,null,null,null,null,{"$f":"IF(J244=\"\",\"\",IF(J243=J244,0,IF(GH参照,IF(E243<>\"\",IF(入出参照,IF(E244<>\"\",IF(再確認<>0,\"チェック\",再確認),\"科目入力\"),再確認),\"科目入力\"),\"\")))","v":""}]
[null,{"$f":"IF(設定BC,\"\",IF(設定!$C$2=12,来年N1,今年M1))","v":""},null,null,null,null,null,null,null,{"$f":"IF(E245=\"\",\"\",IF(収支参照,\"\",IF(ISERROR(J列+H列-I列),\"チェック\",J列+H列-I列)))","v":""},{"$f":"IF(J254=\"\",\"\",J254-J244)","v":""}]
[null,null,null,null,null,null,null,null,null,{"$f":"IF(E246=\"\",\"\",IF(収支参照,\"\",IF(ISERROR(当日残高),\"チェック\",当日残高)))","v":""},{"$f":"IF(GH参照,IF(E245<>\"\",IF(ISERROR(確認),\"チェック\",確認),\"科目入力\"),\"\")","v":""}]
[null,null,null,null,null,null,null,null,null,"",""]
[null,null,null,null,null,null,null,null,null,"",""]
[null,null,null,null,null,null,null,null,null,"",""]
[null,null,null,null,null,null,null,null,null,"",""]
[null,null,null,null,null,null,null,null,null,"",""]
[null,null,null,null,null,null,null,null,null,"",""]
[null,null,null,null,null,null,null,null,null,"",""]
[null,null,null,null,null,null,null,null,null,null,{"$f":"IF(J254=\"\",\"\",IF(J253=J254,0,IF(GH参照,IF(E253<>\"\",IF(入出参照,IF(E254<>\"\",IF(再確認<>0,\"チェック\",再確認),\"科目入力\"),再確認),\"科目入力\"),\"\")))","v":""}]
[null,{"$f":"IF(設定BC,\"\",IF(設定!$C$2=12,来年N1,今年M1))","v":""},null,null,null,null,null,null,null,{"$f":"IF(E255=\"\",\"\",IF(収支参照,\"\",IF(ISERROR(J列+H列-I列),\"チェック\",J列+H列-I列)))","v":""},{"$f":"IF(J264=\"\",\"\",J264-J254)","v":""}]
[null,null,null,null,null,null,null,null,null,{"$f":"IF(E256=\"\",\"\",IF(収支参照,\"\",IF(ISERROR(当日残高),\"チェック\",当日残高)))","v":""},{"$f":"IF(GH参照,IF(E255<>\"\",IF(ISERROR(確認),\"チェック\",確認),\"科目入力\"),\"\")","v":""}]
[null,null,null,null,null,null,null,null,null,"",""]
[null,null,null,null,null,null,null,null,null,"",""]
[null,null,null,null,null,null,null,null,null,"",""]
[null,null,null,null,null,null,null,null,null,"",""]
[null,null,null,null,null,null,null,null,null,"",""]
[null,null,null,null,null,null,null,null,null,"",""]
[null,null,null,null,null,null,null,null,null,"",""]
[null,null,null,null,null,null,null,null,null,null,{"$f":"IF(J264=\"\",\"\",IF(J263=J264,0,IF(GH参照,IF(E263<>\"\",IF(入出参照,IF(E264<>\"\",IF(再確認<>0,\"チェック\",再確認),\"科目入力\"),再確認),\"科目入力\"),\"\")))","v":""}]
[null,{"$f":"IF(設定BC,\"\",IF(設定!$C$2=12,来年N1,今年M1))","v":""},null,null,null,null,null,null,null,{"$f":"IF(E265=\"\",\"\",IF(収支参照,\"\",IF(ISERROR(J列+H列-I列),\"チェック\",J列+H列-I列)))","v":""},{"$f":"IF(J274=\"\",\"\",J274-J264)","v":""}]
[null,null,null,null,null,null,null,null,null,{"$f":"IF(E266=\"\",\"\",IF(収支参照,\"\",IF(ISERROR(当日残高),\"チェック\",当日残高)))","v":""},{"$f":"IF(GH参照,IF(E265<>\"\",IF(ISERROR(確認),\"チェック\",確認),\"科目入力\"),\"\")","v":""}]
[null,null,null,null,null,null,null,null,null,"",""]
[null,null,null,null,null,null,null,null,null,"",""]
[null,null,null,null,null,null,null,null,null,"",""]
[null,null,null,null,null,null,null,null,null,"",""]
[null,null,null,null,null,null,null,null,null,"",""]
[null,null,null,null,null,null,null,null,null,"",""]
[null,null,null,null,null,null,null,null,null,"",""]
[null,null,null,null,null,null,null,null,null,null,{"$f":"IF(J274=\"\",\"\",IF(J273=J274,0,IF(GH参照,IF(E273<>\"\",IF(入出参照,IF(E274<>\"\",IF(再確認<>0,\"チェック\",再確認),\"科目入力\"),再確認),\"科目入力\"),\"\")))","v":""}]
[null,{"$f":"IF(設定BC,\"\",IF(設定!$C$2=12,来年N1,今年M1))","v":""},null,null,null,null,null,null,null,{"$f":"IF(E275=\"\",\"\",IF(収支参照,\"\",IF(ISERROR(J列+H列-I列),\"チェック\",J列+H列-I列)))","v":""},{"$f":"IF(J284=\"\",\"\",J284-J274)","v":""}]
[null,null,null,null,null,null,null,null,null,{"$f":"IF(E276=\"\",\"\",IF(収支参照,\"\",IF(ISERROR(当日残高),\"チェック\",当日残高)))","v":""},{"$f":"IF(GH参照,IF(E275<>\"\",IF(ISERROR(確認),\"チェック\",確認),\"科目入力\"),\"\")","v":""}]
[null,null,null,null,null,null,null,null,null,"",""]
[null,null,null,null,null,null,null,null,null,"",""]
[null,null,null,null,null,null,null,null,null,"",""]
[null,null,null,null,null,null,null,null,null,"",""]
[null,null,null,null,null,null,null,null,null,"",""]
[null,null,null,null,null,null,null,null,null,"",""]
[null,null,null,null,null,null,null,null,null,"",""]
[null,null,null,null,null,null,null,null,null,null,{"$f":"IF(J284=\"\",\"\",IF(J283=J284,0,IF(GH参照,IF(E283<>\"\",IF(入出参照,IF(E284<>\"\",IF(再確認<>0,\"チェック\",再確認),\"科目入力\"),再確認),\"科目入力\"),\"\")))","v":""}]
[null,{"$f":"IF(設定BC,\"\",IF(AND(余り=0,設定!$C$2=1),今年M1,IF(AND(余り<>0,設定!$C$2=1),\"\",IF(設定!$C$2=12,来年N1,今年M1))))","v":""},null,null,null,null,null,null,null,{"$f":"IF(E285=\"\",\"\",IF(収支参照,\"\",IF(ISERROR(J列+H列-I列),\"チェック\",J列+H列-I列)))","v":""},{"$f":"IF(J294=\"\",\"\",J294-J284)","v":""}]
[null,null,null,null,null,null,null,null,null,{"$f":"IF(E286=\"\",\"\",IF(収支参照,\"\",IF(ISERROR(当日残高),\"チェック\",当日残高)))","v":""},{"$f":"IF(GH参照,IF(E285<>\"\",IF(ISERROR(確認),\"チェック\",確認),\"科目入力\"),\"\")","v":""}]
[null,null,null,null,null,null,null,null,null,"",""]
[null,null,null,null,null,null,null,null,null,"",""]
[null,null,null,null,null,null,null,null,null,"",""]
[null,null,null,null,null,null,null,null,null,"",""]
[null,null,null,null,null,null,null,null,null,"",""]
[null,null,null,null,null,null,null,null,null,"",""]
[null,null,null,null,null,null,null,null,null,"",""]
[null,null,null,null,null,null,null,null,null,null,{"$f":"IF(J294=\"\",\"\",IF(J293=J294,0,IF(GH参照,IF(E293<>\"\",IF(入出参照,IF(E294<>\"\",IF(再確認<>0,\"チェック\",再確認),\"科目入力\"),再確認),\"科目入力\"),\"\")))","v":""}]
[null,{"$f":"IF(設定BC,\"\",IF(設定!$C$2=1,\"\",IF(AND(余り<>0,設定!$C$2=12),来年N1,今年M1)))","v":""}]
[]
[]
[]
[]
[]
[]
[]
[]
[]
[null,{"$f":"IF(設定BC,\"\",IF(AND(余り=0,設定!$C$2=1),\"\",IF(設定!$C$2=1,\"\",IF(設定!$C$2=12,来年N1,IF(月選択2,\"\",今年M1)))))","v":""}]
[]
[]
[]
[]
[]
[]
[]
[]
[]
[null,null,null,null,"x",null,"合　　　　計",{"$f":"IF(AND(SUM($H$5:$H$314)=0,SUM($I$5:$I$314)=0),\"\",SUM($H$5:$H$314))","v":""},{"$f":"IF(AND(SUM($H$5:$H$314)=0,SUM($I$5:$I$314)=0),\"\",SUM($I$5:$I$314))","v":""},{"$f":"SUM(H5:H314)+J3-SUM(I5:I314)","v":0}]
[]
[]
[]
[null,null,"銀行　その他　　　口座の入力表"]
[null,"月 ・日　（曜 ）","口　座　・　通帳名",null,"科　　目","摘　  　　　要",null,"　前　月　残　高",null,{"$f":"'日記(1)'!J412","v":0}]
[null,null,null,null,null,null,null,"収　入","支　出","総合残高","現在高"]
[null,null,null,null,null,null,null,null,null,{"$f":"IF($E322<>\"\",IF(ISERROR($J$320+SUM($H$322:$H322)-SUM($I$322:$I322)),\"チェック\",$J$320+SUM($H$322:$H322)-SUM($I$322:$I322)),IF(OR(H322<>\"\",I322<>\"\"),\"科目入力\",\"\"))","v":""},{"$f":"IF(C322=\"\",\"\",IF(ISERROR(一月),\"\",一月+SUMIF($C$322:$C322,$C322,$H$322:$H322)-SUMIF($C$322:$C322,C322,$I$322:$I322)))","v":""}]
[null,null,null,null,null,null,null,null,null,{"$f":"IF($E323<>\"\",IF(ISERROR($J$320+SUM($H$322:$H323)-SUM($I$322:$I323)),\"チェック\",$J$320+SUM($H$322:$H323)-SUM($I$322:$I323)),IF(OR(H323<>\"\",I323<>\"\"),\"科目入力\",\"\"))","v":""},{"$f":"IF(C323=\"\",\"\",IF(ISERROR(一月),\"\",一月+SUMIF($C$322:$C323,$C323,$H$322:$H323)-SUMIF($C$322:$C323,C323,$I$322:$I323)))","v":""}]
[null,null,null,null,null,null,null,null,null,{"$f":"IF($E324<>\"\",IF(ISERROR($J$320+SUM($H$322:$H324)-SUM($I$322:$I324)),\"チェック\",$J$320+SUM($H$322:$H324)-SUM($I$322:$I324)),IF(OR(H324<>\"\",I324<>\"\"),\"科目入力\",\"\"))","v":""},{"$f":"IF(C324=\"\",\"\",IF(ISERROR(一月),\"\",一月+SUMIF($C$322:$C324,$C324,$H$322:$H324)-SUMIF($C$322:$C324,C324,$I$322:$I324)))","v":""}]
[null,null,null,null,null,null,null,null,null,{"$f":"IF($E325<>\"\",IF(ISERROR($J$320+SUM($H$322:$H325)-SUM($I$322:$I325)),\"チェック\",$J$320+SUM($H$322:$H325)-SUM($I$322:$I325)),IF(OR(H325<>\"\",I325<>\"\"),\"科目入力\",\"\"))","v":""},{"$f":"IF(C325=\"\",\"\",IF(ISERROR(一月),\"\",一月+SUMIF($C$322:$C325,$C325,$H$322:$H325)-SUMIF($C$322:$C325,C325,$I$322:$I325)))","v":""}]
[null,null,null,null,null,null,null,null,null,{"$f":"IF($E326<>\"\",IF(ISERROR($J$320+SUM($H$322:$H326)-SUM($I$322:$I326)),\"チェック\",$J$320+SUM($H$322:$H326)-SUM($I$322:$I326)),IF(OR(H326<>\"\",I326<>\"\"),\"科目入力\",\"\"))","v":""},{"$f":"IF(C326=\"\",\"\",IF(ISERROR(一月),\"\",一月+SUMIF($C$322:$C326,$C326,$H$322:$H326)-SUMIF($C$322:$C326,C326,$I$322:$I326)))","v":""}]
[null,null,null,null,null,null,null,null,null,{"$f":"IF($E327<>\"\",IF(ISERROR($J$320+SUM($H$322:$H327)-SUM($I$322:$I327)),\"チェック\",$J$320+SUM($H$322:$H327)-SUM($I$322:$I327)),IF(OR(H327<>\"\",I327<>\"\"),\"科目入力\",\"\"))","v":""},{"$f":"IF(C327=\"\",\"\",IF(ISERROR(一月),\"\",一月+SUMIF($C$322:$C327,$C327,$H$322:$H327)-SUMIF($C$322:$C327,C327,$I$322:$I327)))","v":""}]
[null,null,null,null,null,null,null,null,null,{"$f":"IF($E328<>\"\",IF(ISERROR($J$320+SUM($H$322:$H328)-SUM($I$322:$I328)),\"チェック\",$J$320+SUM($H$322:$H328)-SUM($I$322:$I328)),IF(OR(H328<>\"\",I328<>\"\"),\"科目入力\",\"\"))","v":""},{"$f":"IF(C328=\"\",\"\",IF(ISERROR(一月),\"\",一月+SUMIF($C$322:$C328,$C328,$H$322:$H328)-SUMIF($C$322:$C328,C328,$I$322:$I328)))","v":""}]
[null,null,null,null,null,null,null,null,null,{"$f":"IF($E329<>\"\",IF(ISERROR($J$320+SUM($H$322:$H329)-SUM($I$322:$I329)),\"チェック\",$J$320+SUM($H$322:$H329)-SUM($I$322:$I329)),IF(OR(H329<>\"\",I329<>\"\"),\"科目入力\",\"\"))","v":""},{"$f":"IF(C329=\"\",\"\",IF(ISERROR(一月),\"\",一月+SUMIF($C$322:$C329,$C329,$H$322:$H329)-SUMIF($C$322:$C329,C329,$I$322:$I329)))","v":""}]
[null,null,null,null,null,null,null,null,null,{"$f":"IF($E330<>\"\",IF(ISERROR($J$320+SUM($H$322:$H330)-SUM($I$322:$I330)),\"チェック\",$J$320+SUM($H$322:$H330)-SUM($I$322:$I330)),IF(OR(H330<>\"\",I330<>\"\"),\"科目入力\",\"\"))","v":""},{"$f":"IF(C330=\"\",\"\",IF(ISERROR(一月),\"\",一月+SUMIF($C$322:$C330,$C330,$H$322:$H330)-SUMIF($C$322:$C330,C330,$I$322:$I330)))","v":""}]
[null,null,null,null,null,null,null,null,null,{"$f":"IF($E331<>\"\",IF(ISERROR($J$320+SUM($H$322:$H331)-SUM($I$322:$I331)),\"チェック\",$J$320+SUM($H$322:$H331)-SUM($I$322:$I331)),IF(OR(H331<>\"\",I331<>\"\"),\"科目入力\",\"\"))","v":""},{"$f":"IF(C331=\"\",\"\",IF(ISERROR(一月),\"\",一月+SUMIF($C$322:$C331,$C331,$H$322:$H331)-SUMIF($C$322:$C331,C331,$I$322:$I331)))","v":""}]
[null,null,null,null,null,null,null,null,null,{"$f":"IF($E332<>\"\",IF(ISERROR($J$320+SUM($H$322:$H332)-SUM($I$322:$I332)),\"チェック\",$J$320+SUM($H$322:$H332)-SUM($I$322:$I332)),IF(OR(H332<>\"\",I332<>\"\"),\"科目入力\",\"\"))","v":""},{"$f":"IF(C332=\"\",\"\",IF(ISERROR(一月),\"\",一月+SUMIF($C$322:$C332,$C332,$H$322:$H332)-SUMIF($C$322:$C332,C332,$I$322:$I332)))","v":""}]
[null,null,null,null,null,null,null,null,null,{"$f":"IF($E333<>\"\",IF(ISERROR($J$320+SUM($H$322:$H333)-SUM($I$322:$I333)),\"チェック\",$J$320+SUM($H$322:$H333)-SUM($I$322:$I333)),IF(OR(H333<>\"\",I333<>\"\"),\"科目入力\",\"\"))","v":""},{"$f":"IF(C333=\"\",\"\",IF(ISERROR(一月),\"\",一月+SUMIF($C$322:$C333,$C333,$H$322:$H333)-SUMIF($C$322:$C333,C333,$I$322:$I333)))","v":""}]
[null,null,null,null,null,null,null,null,null,{"$f":"IF($E334<>\"\",IF(ISERROR($J$320+SUM($H$322:$H334)-SUM($I$322:$I334)),\"チェック\",$J$320+SUM($H$322:$H334)-SUM($I$322:$I334)),IF(OR(H334<>\"\",I334<>\"\"),\"科目入力\",\"\"))","v":""},{"$f":"IF(C334=\"\",\"\",IF(ISERROR(一月),\"\",一月+SUMIF($C$322:$C334,$C334,$H$322:$H334)-SUMIF($C$322:$C334,C334,$I$322:$I334)))","v":""}]
[null,null,null,null,null,null,null,null,null,{"$f":"IF($E335<>\"\",IF(ISERROR($J$320+SUM($H$322:$H335)-SUM($I$322:$I335)),\"チェック\",$J$320+SUM($H$322:$H335)-SUM($I$322:$I335)),IF(OR(H335<>\"\",I335<>\"\"),\"科目入力\",\"\"))","v":""},{"$f":"IF(C335=\"\",\"\",IF(ISERROR(一月),\"\",一月+SUMIF($C$322:$C335,$C335,$H$322:$H335)-SUMIF($C$322:$C335,C335,$I$322:$I335)))","v":""}]
[null,null,null,null,null,null,null,null,null,{"$f":"IF($E336<>\"\",IF(ISERROR($J$320+SUM($H$322:$H336)-SUM($I$322:$I336)),\"チェック\",$J$320+SUM($H$322:$H336)-SUM($I$322:$I336)),IF(OR(H336<>\"\",I336<>\"\"),\"科目入力\",\"\"))","v":""},{"$f":"IF(C336=\"\",\"\",IF(ISERROR(一月),\"\",一月+SUMIF($C$322:$C336,$C336,$H$322:$H336)-SUMIF($C$322:$C336,C336,$I$322:$I336)))","v":""}]
[null,null,null,null,null,null,null,null,null,{"$f":"IF($E337<>\"\",IF(ISERROR($J$320+SUM($H$322:$H337)-SUM($I$322:$I337)),\"チェック\",$J$320+SUM($H$322:$H337)-SUM($I$322:$I337)),IF(OR(H337<>\"\",I337<>\"\"),\"科目入力\",\"\"))","v":""},{"$f":"IF(C337=\"\",\"\",IF(ISERROR(一月),\"\",一月+SUMIF($C$322:$C337,$C337,$H$322:$H337)-SUMIF($C$322:$C337,C337,$I$322:$I337)))","v":""}]
[null,null,null,null,null,null,null,null,null,{"$f":"IF($E338<>\"\",IF(ISERROR($J$320+SUM($H$322:$H338)-SUM($I$322:$I338)),\"チェック\",$J$320+SUM($H$322:$H338)-SUM($I$322:$I338)),IF(OR(H338<>\"\",I338<>\"\"),\"科目入力\",\"\"))","v":""},{"$f":"IF(C338=\"\",\"\",IF(ISERROR(一月),\"\",一月+SUMIF($C$322:$C338,$C338,$H$322:$H338)-SUMIF($C$322:$C338,C338,$I$322:$I338)))","v":""}]
[null,null,null,null,null,null,null,null,null,{"$f":"IF($E339<>\"\",IF(ISERROR($J$320+SUM($H$322:$H339)-SUM($I$322:$I339)),\"チェック\",$J$320+SUM($H$322:$H339)-SUM($I$322:$I339)),IF(OR(H339<>\"\",I339<>\"\"),\"科目入力\",\"\"))","v":""},{"$f":"IF(C339=\"\",\"\",IF(ISERROR(一月),\"\",一月+SUMIF($C$322:$C339,$C339,$H$322:$H339)-SUMIF($C$322:$C339,C339,$I$322:$I339)))","v":""}]
[null,null,null,null,null,null,null,null,null,{"$f":"IF($E340<>\"\",IF(ISERROR($J$320+SUM($H$322:$H340)-SUM($I$322:$I340)),\"チェック\",$J$320+SUM($H$322:$H340)-SUM($I$322:$I340)),IF(OR(H340<>\"\",I340<>\"\"),\"科目入力\",\"\"))","v":""},{"$f":"IF(C340=\"\",\"\",IF(ISERROR(一月),\"\",一月+SUMIF($C$322:$C340,$C340,$H$322:$H340)-SUMIF($C$322:$C340,C340,$I$322:$I340)))","v":""}]
[null,null,null,null,null,null,null,null,null,{"$f":"IF($E341<>\"\",IF(ISERROR($J$320+SUM($H$322:$H341)-SUM($I$322:$I341)),\"チェック\",$J$320+SUM($H$322:$H341)-SUM($I$322:$I341)),IF(OR(H341<>\"\",I341<>\"\"),\"科目入力\",\"\"))","v":""},{"$f":"IF(C341=\"\",\"\",IF(ISERROR(一月),\"\",一月+SUMIF($C$322:$C341,$C341,$H$322:$H341)-SUMIF($C$322:$C341,C341,$I$322:$I341)))","v":""}]
[null,null,null,null,null,null,null,null,null,{"$f":"IF($E342<>\"\",IF(ISERROR($J$320+SUM($H$322:$H342)-SUM($I$322:$I342)),\"チェック\",$J$320+SUM($H$322:$H342)-SUM($I$322:$I342)),IF(OR(H342<>\"\",I342<>\"\"),\"科目入力\",\"\"))","v":""},{"$f":"IF(C342=\"\",\"\",IF(ISERROR(一月),\"\",一月+SUMIF($C$322:$C342,$C342,$H$322:$H342)-SUMIF($C$322:$C342,C342,$I$322:$I342)))","v":""}]
[null,null,null,null,null,null,null,null,null,{"$f":"IF($E343<>\"\",IF(ISERROR($J$320+SUM($H$322:$H343)-SUM($I$322:$I343)),\"チェック\",$J$320+SUM($H$322:$H343)-SUM($I$322:$I343)),IF(OR(H343<>\"\",I343<>\"\"),\"科目入力\",\"\"))","v":""},{"$f":"IF(C343=\"\",\"\",IF(ISERROR(一月),\"\",一月+SUMIF($C$322:$C343,$C343,$H$322:$H343)-SUMIF($C$322:$C343,C343,$I$322:$I343)))","v":""}]
[null,null,null,null,null,null,null,null,null,{"$f":"IF($E344<>\"\",IF(ISERROR($J$320+SUM($H$322:$H344)-SUM($I$322:$I344)),\"チェック\",$J$320+SUM($H$322:$H344)-SUM($I$322:$I344)),IF(OR(H344<>\"\",I344<>\"\"),\"科目入力\",\"\"))","v":""},{"$f":"IF(C344=\"\",\"\",IF(ISERROR(一月),\"\",一月+SUMIF($C$322:$C344,$C344,$H$322:$H344)-SUMIF($C$322:$C344,C344,$I$322:$I344)))","v":""}]
[null,null,null,null,null,null,null,null,null,{"$f":"IF($E345<>\"\",IF(ISERROR($J$320+SUM($H$322:$H345)-SUM($I$322:$I345)),\"チェック\",$J$320+SUM($H$322:$H345)-SUM($I$322:$I345)),IF(OR(H345<>\"\",I345<>\"\"),\"科目入力\",\"\"))","v":""},{"$f":"IF(C345=\"\",\"\",IF(ISERROR(一月),\"\",一月+SUMIF($C$322:$C345,$C345,$H$322:$H345)-SUMIF($C$322:$C345,C345,$I$322:$I345)))","v":""}]
[null,null,null,null,null,null,null,null,null,{"$f":"IF($E346<>\"\",IF(ISERROR($J$320+SUM($H$322:$H346)-SUM($I$322:$I346)),\"チェック\",$J$320+SUM($H$322:$H346)-SUM($I$322:$I346)),IF(OR(H346<>\"\",I346<>\"\"),\"科目入力\",\"\"))","v":""},{"$f":"IF(C346=\"\",\"\",IF(ISERROR(一月),\"\",一月+SUMIF($C$322:$C346,$C346,$H$322:$H346)-SUMIF($C$322:$C346,C346,$I$322:$I346)))","v":""}]
[null,null,null,null,null,null,null,null,null,{"$f":"IF($E347<>\"\",IF(ISERROR($J$320+SUM($H$322:$H347)-SUM($I$322:$I347)),\"チェック\",$J$320+SUM($H$322:$H347)-SUM($I$322:$I347)),IF(OR(H347<>\"\",I347<>\"\"),\"科目入力\",\"\"))","v":""},{"$f":"IF(C347=\"\",\"\",IF(ISERROR(一月),\"\",一月+SUMIF($C$322:$C347,$C347,$H$322:$H347)-SUMIF($C$322:$C347,C347,$I$322:$I347)))","v":""}]
[null,null,null,null,null,null,null,null,null,{"$f":"IF($E348<>\"\",IF(ISERROR($J$320+SUM($H$322:$H348)-SUM($I$322:$I348)),\"チェック\",$J$320+SUM($H$322:$H348)-SUM($I$322:$I348)),IF(OR(H348<>\"\",I348<>\"\"),\"科目入力\",\"\"))","v":""},{"$f":"IF(C348=\"\",\"\",IF(ISERROR(一月),\"\",一月+SUMIF($C$322:$C348,$C348,$H$322:$H348)-SUMIF($C$322:$C348,C348,$I$322:$I348)))","v":""}]
[null,null,null,null,null,null,null,null,null,{"$f":"IF($E349<>\"\",IF(ISERROR($J$320+SUM($H$322:$H349)-SUM($I$322:$I349)),\"チェック\",$J$320+SUM($H$322:$H349)-SUM($I$322:$I349)),IF(OR(H349<>\"\",I349<>\"\"),\"科目入力\",\"\"))","v":""},{"$f":"IF(C349=\"\",\"\",IF(ISERROR(一月),\"\",一月+SUMIF($C$322:$C349,$C349,$H$322:$H349)-SUMIF($C$322:$C349,C349,$I$322:$I349)))","v":""}]
[null,null,null,null,null,null,null,null,null,{"$f":"IF($E350<>\"\",IF(ISERROR($J$320+SUM($H$322:$H350)-SUM($I$322:$I350)),\"チェック\",$J$320+SUM($H$322:$H350)-SUM($I$322:$I350)),IF(OR(H350<>\"\",I350<>\"\"),\"科目入力\",\"\"))","v":""},{"$f":"IF(C350=\"\",\"\",IF(ISERROR(一月),\"\",一月+SUMIF($C$322:$C350,$C350,$H$322:$H350)-SUMIF($C$322:$C350,C350,$I$322:$I350)))","v":""}]
[null,null,null,null,null,null,null,null,null,{"$f":"IF($E351<>\"\",IF(ISERROR($J$320+SUM($H$322:$H351)-SUM($I$322:$I351)),\"チェック\",$J$320+SUM($H$322:$H351)-SUM($I$322:$I351)),IF(OR(H351<>\"\",I351<>\"\"),\"科目入力\",\"\"))","v":""},{"$f":"IF(C351=\"\",\"\",IF(ISERROR(一月),\"\",一月+SUMIF($C$322:$C351,$C351,$H$322:$H351)-SUMIF($C$322:$C351,C351,$I$322:$I351)))","v":""}]
[null,null,null,null,null,null,null,null,null,{"$f":"IF($E352<>\"\",IF(ISERROR($J$320+SUM($H$322:$H352)-SUM($I$322:$I352)),\"チェック\",$J$320+SUM($H$322:$H352)-SUM($I$322:$I352)),IF(OR(H352<>\"\",I352<>\"\"),\"科目入力\",\"\"))","v":""},{"$f":"IF(C352=\"\",\"\",IF(ISERROR(一月),\"\",一月+SUMIF($C$322:$C352,$C352,$H$322:$H352)-SUMIF($C$322:$C352,C352,$I$322:$I352)))","v":""}]
[null,null,null,null,null,null,null,null,null,{"$f":"IF($E353<>\"\",IF(ISERROR($J$320+SUM($H$322:$H353)-SUM($I$322:$I353)),\"チェック\",$J$320+SUM($H$322:$H353)-SUM($I$322:$I353)),IF(OR(H353<>\"\",I353<>\"\"),\"科目入力\",\"\"))","v":""},{"$f":"IF(C353=\"\",\"\",IF(ISERROR(一月),\"\",一月+SUMIF($C$322:$C353,$C353,$H$322:$H353)-SUMIF($C$322:$C353,C353,$I$322:$I353)))","v":""}]
[null,null,null,null,null,null,null,null,null,{"$f":"IF($E354<>\"\",IF(ISERROR($J$320+SUM($H$322:$H354)-SUM($I$322:$I354)),\"チェック\",$J$320+SUM($H$322:$H354)-SUM($I$322:$I354)),IF(OR(H354<>\"\",I354<>\"\"),\"科目入力\",\"\"))","v":""},{"$f":"IF(C354=\"\",\"\",IF(ISERROR(一月),\"\",一月+SUMIF($C$322:$C354,$C354,$H$322:$H354)-SUMIF($C$322:$C354,C354,$I$322:$I354)))","v":""}]
[null,null,null,null,null,null,null,null,null,{"$f":"IF($E355<>\"\",IF(ISERROR($J$320+SUM($H$322:$H355)-SUM($I$322:$I355)),\"チェック\",$J$320+SUM($H$322:$H355)-SUM($I$322:$I355)),IF(OR(H355<>\"\",I355<>\"\"),\"科目入力\",\"\"))","v":""},{"$f":"IF(C355=\"\",\"\",IF(ISERROR(一月),\"\",一月+SUMIF($C$322:$C355,$C355,$H$322:$H355)-SUMIF($C$322:$C355,C355,$I$322:$I355)))","v":""}]
[null,null,null,null,null,null,null,null,null,{"$f":"IF($E356<>\"\",IF(ISERROR($J$320+SUM($H$322:$H356)-SUM($I$322:$I356)),\"チェック\",$J$320+SUM($H$322:$H356)-SUM($I$322:$I356)),IF(OR(H356<>\"\",I356<>\"\"),\"科目入力\",\"\"))","v":""},{"$f":"IF(C356=\"\",\"\",IF(ISERROR(一月),\"\",一月+SUMIF($C$322:$C356,$C356,$H$322:$H356)-SUMIF($C$322:$C356,C356,$I$322:$I356)))","v":""}]
[null,null,null,null,null,null,null,null,null,{"$f":"IF($E357<>\"\",IF(ISERROR($J$320+SUM($H$322:$H357)-SUM($I$322:$I357)),\"チェック\",$J$320+SUM($H$322:$H357)-SUM($I$322:$I357)),IF(OR(H357<>\"\",I357<>\"\"),\"科目入力\",\"\"))","v":""},{"$f":"IF(C357=\"\",\"\",IF(ISERROR(一月),\"\",一月+SUMIF($C$322:$C357,$C357,$H$322:$H357)-SUMIF($C$322:$C357,C357,$I$322:$I357)))","v":""}]
[null,null,null,null,null,null,null,null,null,{"$f":"IF($E358<>\"\",IF(ISERROR($J$320+SUM($H$322:$H358)-SUM($I$322:$I358)),\"チェック\",$J$320+SUM($H$322:$H358)-SUM($I$322:$I358)),IF(OR(H358<>\"\",I358<>\"\"),\"科目入力\",\"\"))","v":""},{"$f":"IF(C358=\"\",\"\",IF(ISERROR(一月),\"\",一月+SUMIF($C$322:$C358,$C358,$H$322:$H358)-SUMIF($C$322:$C358,C358,$I$322:$I358)))","v":""}]
[null,null,null,null,null,null,null,null,null,{"$f":"IF($E359<>\"\",IF(ISERROR($J$320+SUM($H$322:$H359)-SUM($I$322:$I359)),\"チェック\",$J$320+SUM($H$322:$H359)-SUM($I$322:$I359)),IF(OR(H359<>\"\",I359<>\"\"),\"科目入力\",\"\"))","v":""},{"$f":"IF(C359=\"\",\"\",IF(ISERROR(一月),\"\",一月+SUMIF($C$322:$C359,$C359,$H$322:$H359)-SUMIF($C$322:$C359,C359,$I$322:$I359)))","v":""}]
[null,null,null,null,null,null,null,null,null,{"$f":"IF($E360<>\"\",IF(ISERROR($J$320+SUM($H$322:$H360)-SUM($I$322:$I360)),\"チェック\",$J$320+SUM($H$322:$H360)-SUM($I$322:$I360)),IF(OR(H360<>\"\",I360<>\"\"),\"科目入力\",\"\"))","v":""},{"$f":"IF(C360=\"\",\"\",IF(ISERROR(一月),\"\",一月+SUMIF($C$322:$C360,$C360,$H$322:$H360)-SUMIF($C$322:$C360,C360,$I$322:$I360)))","v":""}]
[null,null,null,null,null,null,null,null,null,{"$f":"IF($E361<>\"\",IF(ISERROR($J$320+SUM($H$322:$H361)-SUM($I$322:$I361)),\"チェック\",$J$320+SUM($H$322:$H361)-SUM($I$322:$I361)),IF(OR(H361<>\"\",I361<>\"\"),\"科目入力\",\"\"))","v":""},{"$f":"IF(C361=\"\",\"\",IF(ISERROR(一月),\"\",一月+SUMIF($C$322:$C361,$C361,$H$322:$H361)-SUMIF($C$322:$C361,C361,$I$322:$I361)))","v":""}]
[null,null,null,null,null,null,null,null,null,{"$f":"IF($E362<>\"\",IF(ISERROR($J$320+SUM($H$322:$H362)-SUM($I$322:$I362)),\"チェック\",$J$320+SUM($H$322:$H362)-SUM($I$322:$I362)),IF(OR(H362<>\"\",I362<>\"\"),\"科目入力\",\"\"))","v":""},{"$f":"IF(C362=\"\",\"\",IF(ISERROR(一月),\"\",一月+SUMIF($C$322:$C362,$C362,$H$322:$H362)-SUMIF($C$322:$C362,C362,$I$322:$I362)))","v":""}]
[null,null,null,null,null,null,null,null,null,{"$f":"IF($E363<>\"\",IF(ISERROR($J$320+SUM($H$322:$H363)-SUM($I$322:$I363)),\"チェック\",$J$320+SUM($H$322:$H363)-SUM($I$322:$I363)),IF(OR(H363<>\"\",I363<>\"\"),\"科目入力\",\"\"))","v":""},{"$f":"IF(C363=\"\",\"\",IF(ISERROR(一月),\"\",一月+SUMIF($C$322:$C363,$C363,$H$322:$H363)-SUMIF($C$322:$C363,C363,$I$322:$I363)))","v":""}]
[null,null,null,null,null,null,null,null,null,{"$f":"IF($E364<>\"\",IF(ISERROR($J$320+SUM($H$322:$H364)-SUM($I$322:$I364)),\"チェック\",$J$320+SUM($H$322:$H364)-SUM($I$322:$I364)),IF(OR(H364<>\"\",I364<>\"\"),\"科目入力\",\"\"))","v":""},{"$f":"IF(C364=\"\",\"\",IF(ISERROR(一月),\"\",一月+SUMIF($C$322:$C364,$C364,$H$322:$H364)-SUMIF($C$322:$C364,C364,$I$322:$I364)))","v":""}]
[null,null,null,null,null,null,null,null,null,{"$f":"IF($E365<>\"\",IF(ISERROR($J$320+SUM($H$322:$H365)-SUM($I$322:$I365)),\"チェック\",$J$320+SUM($H$322:$H365)-SUM($I$322:$I365)),IF(OR(H365<>\"\",I365<>\"\"),\"科目入力\",\"\"))","v":""},{"$f":"IF(C365=\"\",\"\",IF(ISERROR(一月),\"\",一月+SUMIF($C$322:$C365,$C365,$H$322:$H365)-SUMIF($C$322:$C365,C365,$I$322:$I365)))","v":""}]
[null,null,null,null,null,null,null,null,null,{"$f":"IF($E366<>\"\",IF(ISERROR($J$320+SUM($H$322:$H366)-SUM($I$322:$I366)),\"チェック\",$J$320+SUM($H$322:$H366)-SUM($I$322:$I366)),IF(OR(H366<>\"\",I366<>\"\"),\"科目入力\",\"\"))","v":""},{"$f":"IF(C366=\"\",\"\",IF(ISERROR(一月),\"\",一月+SUMIF($C$322:$C366,$C366,$H$322:$H366)-SUMIF($C$322:$C366,C366,$I$322:$I366)))","v":""}]
[null,null,null,null,null,null,null,null,null,{"$f":"IF($E367<>\"\",IF(ISERROR($J$320+SUM($H$322:$H367)-SUM($I$322:$I367)),\"チェック\",$J$320+SUM($H$322:$H367)-SUM($I$322:$I367)),IF(OR(H367<>\"\",I367<>\"\"),\"科目入力\",\"\"))","v":""},{"$f":"IF(C367=\"\",\"\",IF(ISERROR(一月),\"\",一月+SUMIF($C$322:$C367,$C367,$H$322:$H367)-SUMIF($C$322:$C367,C367,$I$322:$I367)))","v":""}]
[null,null,null,null,null,null,null,null,null,{"$f":"IF($E368<>\"\",IF(ISERROR($J$320+SUM($H$322:$H368)-SUM($I$322:$I368)),\"チェック\",$J$320+SUM($H$322:$H368)-SUM($I$322:$I368)),IF(OR(H368<>\"\",I368<>\"\"),\"科目入力\",\"\"))","v":""},{"$f":"IF(C368=\"\",\"\",IF(ISERROR(一月),\"\",一月+SUMIF($C$322:$C368,$C368,$H$322:$H368)-SUMIF($C$322:$C368,C368,$I$322:$I368)))","v":""}]
[null,null,null,null,null,null,null,null,null,{"$f":"IF($E369<>\"\",IF(ISERROR($J$320+SUM($H$322:$H369)-SUM($I$322:$I369)),\"チェック\",$J$320+SUM($H$322:$H369)-SUM($I$322:$I369)),IF(OR(H369<>\"\",I369<>\"\"),\"科目入力\",\"\"))","v":""},{"$f":"IF(C369=\"\",\"\",IF(ISERROR(一月),\"\",一月+SUMIF($C$322:$C369,$C369,$H$322:$H369)-SUMIF($C$322:$C369,C369,$I$322:$I369)))","v":""}]
[null,null,null,null,null,null,null,null,null,{"$f":"IF($E370<>\"\",IF(ISERROR($J$320+SUM($H$322:$H370)-SUM($I$322:$I370)),\"チェック\",$J$320+SUM($H$322:$H370)-SUM($I$322:$I370)),IF(OR(H370<>\"\",I370<>\"\"),\"科目入力\",\"\"))","v":""},{"$f":"IF(C370=\"\",\"\",IF(ISERROR(一月),\"\",一月+SUMIF($C$322:$C370,$C370,$H$322:$H370)-SUMIF($C$322:$C370,C370,$I$322:$I370)))","v":""}]
[null,null,null,null,null,null,null,null,null,{"$f":"IF($E371<>\"\",IF(ISERROR($J$320+SUM($H$322:$H371)-SUM($I$322:$I371)),\"チェック\",$J$320+SUM($H$322:$H371)-SUM($I$322:$I371)),IF(OR(H371<>\"\",I371<>\"\"),\"科目入力\",\"\"))","v":""},{"$f":"IF(C371=\"\",\"\",IF(ISERROR(一月),\"\",一月+SUMIF($C$322:$C371,$C371,$H$322:$H371)-SUMIF($C$322:$C371,C371,$I$322:$I371)))","v":""}]
[null,null,null,null,null,null,null,null,null,{"$f":"IF($E372<>\"\",IF(ISERROR($J$320+SUM($H$322:$H372)-SUM($I$322:$I372)),\"チェック\",$J$320+SUM($H$322:$H372)-SUM($I$322:$I372)),IF(OR(H372<>\"\",I372<>\"\"),\"科目入力\",\"\"))","v":""},{"$f":"IF(C372=\"\",\"\",IF(ISERROR(一月),\"\",一月+SUMIF($C$322:$C372,$C372,$H$322:$H372)-SUMIF($C$322:$C372,C372,$I$322:$I372)))","v":""}]
[null,null,null,null,null,null,null,null,null,{"$f":"IF($E373<>\"\",IF(ISERROR($J$320+SUM($H$322:$H373)-SUM($I$322:$I373)),\"チェック\",$J$320+SUM($H$322:$H373)-SUM($I$322:$I373)),IF(OR(H373<>\"\",I373<>\"\"),\"科目入力\",\"\"))","v":""},{"$f":"IF(C373=\"\",\"\",IF(ISERROR(一月),\"\",一月+SUMIF($C$322:$C373,$C373,$H$322:$H373)-SUMIF($C$322:$C373,C373,$I$322:$I373)))","v":""}]
[null,null,null,null,null,null,null,null,null,{"$f":"IF($E374<>\"\",IF(ISERROR($J$320+SUM($H$322:$H374)-SUM($I$322:$I374)),\"チェック\",$J$320+SUM($H$322:$H374)-SUM($I$322:$I374)),IF(OR(H374<>\"\",I374<>\"\"),\"科目入力\",\"\"))","v":""},{"$f":"IF(C374=\"\",\"\",IF(ISERROR(一月),\"\",一月+SUMIF($C$322:$C374,$C374,$H$322:$H374)-SUMIF($C$322:$C374,C374,$I$322:$I374)))","v":""}]
[null,null,null,null,null,null,null,null,null,{"$f":"IF($E375<>\"\",IF(ISERROR($J$320+SUM($H$322:$H375)-SUM($I$322:$I375)),\"チェック\",$J$320+SUM($H$322:$H375)-SUM($I$322:$I375)),IF(OR(H375<>\"\",I375<>\"\"),\"科目入力\",\"\"))","v":""},{"$f":"IF(C375=\"\",\"\",IF(ISERROR(一月),\"\",一月+SUMIF($C$322:$C375,$C375,$H$322:$H375)-SUMIF($C$322:$C375,C375,$I$322:$I375)))","v":""}]
[null,null,null,null,null,null,null,null,null,{"$f":"IF($E376<>\"\",IF(ISERROR($J$320+SUM($H$322:$H376)-SUM($I$322:$I376)),\"チェック\",$J$320+SUM($H$322:$H376)-SUM($I$322:$I376)),IF(OR(H376<>\"\",I376<>\"\"),\"科目入力\",\"\"))","v":""},{"$f":"IF(C376=\"\",\"\",IF(ISERROR(一月),\"\",一月+SUMIF($C$322:$C376,$C376,$H$322:$H376)-SUMIF($C$322:$C376,C376,$I$322:$I376)))","v":""}]
[null,null,null,null,null,null,null,null,null,{"$f":"IF($E377<>\"\",IF(ISERROR($J$320+SUM($H$322:$H377)-SUM($I$322:$I377)),\"チェック\",$J$320+SUM($H$322:$H377)-SUM($I$322:$I377)),IF(OR(H377<>\"\",I377<>\"\"),\"科目入力\",\"\"))","v":""},{"$f":"IF(C377=\"\",\"\",IF(ISERROR(一月),\"\",一月+SUMIF($C$322:$C377,$C377,$H$322:$H377)-SUMIF($C$322:$C377,C377,$I$322:$I377)))","v":""}]
[null,null,null,null,null,null,null,null,null,{"$f":"IF($E378<>\"\",IF(ISERROR($J$320+SUM($H$322:$H378)-SUM($I$322:$I378)),\"チェック\",$J$320+SUM($H$322:$H378)-SUM($I$322:$I378)),IF(OR(H378<>\"\",I378<>\"\"),\"科目入力\",\"\"))","v":""},{"$f":"IF(C378=\"\",\"\",IF(ISERROR(一月),\"\",一月+SUMIF($C$322:$C378,$C378,$H$322:$H378)-SUMIF($C$322:$C378,C378,$I$322:$I378)))","v":""}]
[null,null,null,null,null,null,null,null,null,{"$f":"IF($E379<>\"\",IF(ISERROR($J$320+SUM($H$322:$H379)-SUM($I$322:$I379)),\"チェック\",$J$320+SUM($H$322:$H379)-SUM($I$322:$I379)),IF(OR(H379<>\"\",I379<>\"\"),\"科目入力\",\"\"))","v":""},{"$f":"IF(C379=\"\",\"\",IF(ISERROR(一月),\"\",一月+SUMIF($C$322:$C379,$C379,$H$322:$H379)-SUMIF($C$322:$C379,C379,$I$322:$I379)))","v":""}]
[null,null,null,null,null,null,null,null,null,{"$f":"IF($E380<>\"\",IF(ISERROR($J$320+SUM($H$322:$H380)-SUM($I$322:$I380)),\"チェック\",$J$320+SUM($H$322:$H380)-SUM($I$322:$I380)),IF(OR(H380<>\"\",I380<>\"\"),\"科目入力\",\"\"))","v":""},{"$f":"IF(C380=\"\",\"\",IF(ISERROR(一月),\"\",一月+SUMIF($C$322:$C380,$C380,$H$322:$H380)-SUMIF($C$322:$C380,C380,$I$322:$I380)))","v":""}]
[null,null,null,null,null,null,null,null,null,{"$f":"IF($E381<>\"\",IF(ISERROR($J$320+SUM($H$322:$H381)-SUM($I$322:$I381)),\"チェック\",$J$320+SUM($H$322:$H381)-SUM($I$322:$I381)),IF(OR(H381<>\"\",I381<>\"\"),\"科目入力\",\"\"))","v":""},{"$f":"IF(C381=\"\",\"\",IF(ISERROR(一月),\"\",一月+SUMIF($C$322:$C381,$C381,$H$322:$H381)-SUMIF($C$322:$C381,C381,$I$322:$I381)))","v":""}]
[null,null,null,null,null,null,null,null,null,{"$f":"IF($E382<>\"\",IF(ISERROR($J$320+SUM($H$322:$H382)-SUM($I$322:$I382)),\"チェック\",$J$320+SUM($H$322:$H382)-SUM($I$322:$I382)),IF(OR(H382<>\"\",I382<>\"\"),\"科目入力\",\"\"))","v":""},{"$f":"IF(C382=\"\",\"\",IF(ISERROR(一月),\"\",一月+SUMIF($C$322:$C382,$C382,$H$322:$H382)-SUMIF($C$322:$C382,C382,$I$322:$I382)))","v":""}]
[null,null,null,null,null,null,null,null,null,{"$f":"IF($E383<>\"\",IF(ISERROR($J$320+SUM($H$322:$H383)-SUM($I$322:$I383)),\"チェック\",$J$320+SUM($H$322:$H383)-SUM($I$322:$I383)),IF(OR(H383<>\"\",I383<>\"\"),\"科目入力\",\"\"))","v":""},{"$f":"IF(C383=\"\",\"\",IF(ISERROR(一月),\"\",一月+SUMIF($C$322:$C383,$C383,$H$322:$H383)-SUMIF($C$322:$C383,C383,$I$322:$I383)))","v":""}]
[null,null,null,null,null,null,null,null,null,{"$f":"IF($E384<>\"\",IF(ISERROR($J$320+SUM($H$322:$H384)-SUM($I$322:$I384)),\"チェック\",$J$320+SUM($H$322:$H384)-SUM($I$322:$I384)),IF(OR(H384<>\"\",I384<>\"\"),\"科目入力\",\"\"))","v":""},{"$f":"IF(C384=\"\",\"\",IF(ISERROR(一月),\"\",一月+SUMIF($C$322:$C384,$C384,$H$322:$H384)-SUMIF($C$322:$C384,C384,$I$322:$I384)))","v":""}]
[null,null,null,null,null,null,null,null,null,{"$f":"IF($E385<>\"\",IF(ISERROR($J$320+SUM($H$322:$H385)-SUM($I$322:$I385)),\"チェック\",$J$320+SUM($H$322:$H385)-SUM($I$322:$I385)),IF(OR(H385<>\"\",I385<>\"\"),\"科目入力\",\"\"))","v":""},{"$f":"IF(C385=\"\",\"\",IF(ISERROR(一月),\"\",一月+SUMIF($C$322:$C385,$C385,$H$322:$H385)-SUMIF($C$322:$C385,C385,$I$322:$I385)))","v":""}]
[null,null,null,null,null,null,null,null,null,{"$f":"IF($E386<>\"\",IF(ISERROR($J$320+SUM($H$322:$H386)-SUM($I$322:$I386)),\"チェック\",$J$320+SUM($H$322:$H386)-SUM($I$322:$I386)),IF(OR(H386<>\"\",I386<>\"\"),\"科目入力\",\"\"))","v":""},{"$f":"IF(C386=\"\",\"\",IF(ISERROR(一月),\"\",一月+SUMIF($C$322:$C386,$C386,$H$322:$H386)-SUMIF($C$322:$C386,C386,$I$322:$I386)))","v":""}]
[null,null,null,null,null,null,null,null,null,{"$f":"IF($E387<>\"\",IF(ISERROR($J$320+SUM($H$322:$H387)-SUM($I$322:$I387)),\"チェック\",$J$320+SUM($H$322:$H387)-SUM($I$322:$I387)),IF(OR(H387<>\"\",I387<>\"\"),\"科目入力\",\"\"))","v":""},{"$f":"IF(C387=\"\",\"\",IF(ISERROR(一月),\"\",一月+SUMIF($C$322:$C387,$C387,$H$322:$H387)-SUMIF($C$322:$C387,C387,$I$322:$I387)))","v":""}]
[null,null,null,null,null,null,null,null,null,{"$f":"IF($E388<>\"\",IF(ISERROR($J$320+SUM($H$322:$H388)-SUM($I$322:$I388)),\"チェック\",$J$320+SUM($H$322:$H388)-SUM($I$322:$I388)),IF(OR(H388<>\"\",I388<>\"\"),\"科目入力\",\"\"))","v":""},{"$f":"IF(C388=\"\",\"\",IF(ISERROR(一月),\"\",一月+SUMIF($C$322:$C388,$C388,$H$322:$H388)-SUMIF($C$322:$C388,C388,$I$322:$I388)))","v":""}]
[null,null,null,null,null,null,null,null,null,{"$f":"IF($E389<>\"\",IF(ISERROR($J$320+SUM($H$322:$H389)-SUM($I$322:$I389)),\"チェック\",$J$320+SUM($H$322:$H389)-SUM($I$322:$I389)),IF(OR(H389<>\"\",I389<>\"\"),\"科目入力\",\"\"))","v":""},{"$f":"IF(C389=\"\",\"\",IF(ISERROR(一月),\"\",一月+SUMIF($C$322:$C389,$C389,$H$322:$H389)-SUMIF($C$322:$C389,C389,$I$322:$I389)))","v":""}]
[null,null,null,null,null,null,null,null,null,{"$f":"IF($E390<>\"\",IF(ISERROR($J$320+SUM($H$322:$H390)-SUM($I$322:$I390)),\"チェック\",$J$320+SUM($H$322:$H390)-SUM($I$322:$I390)),IF(OR(H390<>\"\",I390<>\"\"),\"科目入力\",\"\"))","v":""},{"$f":"IF(C390=\"\",\"\",IF(ISERROR(一月),\"\",一月+SUMIF($C$322:$C390,$C390,$H$322:$H390)-SUMIF($C$322:$C390,C390,$I$322:$I390)))","v":""}]
[null,null,null,null,null,null,null,null,null,{"$f":"IF($E391<>\"\",IF(ISERROR($J$320+SUM($H$322:$H391)-SUM($I$322:$I391)),\"チェック\",$J$320+SUM($H$322:$H391)-SUM($I$322:$I391)),IF(OR(H391<>\"\",I391<>\"\"),\"科目入力\",\"\"))","v":""},{"$f":"IF(C391=\"\",\"\",IF(ISERROR(一月),\"\",一月+SUMIF($C$322:$C391,$C391,$H$322:$H391)-SUMIF($C$322:$C391,C391,$I$322:$I391)))","v":""}]
[null,null,null,null,null,null,null,null,null,{"$f":"IF($E392<>\"\",IF(ISERROR($J$320+SUM($H$322:$H392)-SUM($I$322:$I392)),\"チェック\",$J$320+SUM($H$322:$H392)-SUM($I$322:$I392)),IF(OR(H392<>\"\",I392<>\"\"),\"科目入力\",\"\"))","v":""},{"$f":"IF(C392=\"\",\"\",IF(ISERROR(一月),\"\",一月+SUMIF($C$322:$C392,$C392,$H$322:$H392)-SUMIF($C$322:$C392,C392,$I$322:$I392)))","v":""}]
[null,null,null,null,null,null,null,null,null,{"$f":"IF($E393<>\"\",IF(ISERROR($J$320+SUM($H$322:$H393)-SUM($I$322:$I393)),\"チェック\",$J$320+SUM($H$322:$H393)-SUM($I$322:$I393)),IF(OR(H393<>\"\",I393<>\"\"),\"科目入力\",\"\"))","v":""},{"$f":"IF(C393=\"\",\"\",IF(ISERROR(一月),\"\",一月+SUMIF($C$322:$C393,$C393,$H$322:$H393)-SUMIF($C$322:$C393,C393,$I$322:$I393)))","v":""}]
[null,null,null,null,null,null,null,null,null,{"$f":"IF($E394<>\"\",IF(ISERROR($J$320+SUM($H$322:$H394)-SUM($I$322:$I394)),\"チェック\",$J$320+SUM($H$322:$H394)-SUM($I$322:$I394)),IF(OR(H394<>\"\",I394<>\"\"),\"科目入力\",\"\"))","v":""},{"$f":"IF(C394=\"\",\"\",IF(ISERROR(一月),\"\",一月+SUMIF($C$322:$C394,$C394,$H$322:$H394)-SUMIF($C$322:$C394,C394,$I$322:$I394)))","v":""}]
[null,null,null,null,null,null,null,null,null,{"$f":"IF($E395<>\"\",IF(ISERROR($J$320+SUM($H$322:$H395)-SUM($I$322:$I395)),\"チェック\",$J$320+SUM($H$322:$H395)-SUM($I$322:$I395)),IF(OR(H395<>\"\",I395<>\"\"),\"科目入力\",\"\"))","v":""},{"$f":"IF(C395=\"\",\"\",IF(ISERROR(一月),\"\",一月+SUMIF($C$322:$C395,$C395,$H$322:$H395)-SUMIF($C$322:$C395,C395,$I$322:$I395)))","v":""}]
[null,null,null,null,null,null,null,null,null,{"$f":"IF($E396<>\"\",IF(ISERROR($J$320+SUM($H$322:$H396)-SUM($I$322:$I396)),\"チェック\",$J$320+SUM($H$322:$H396)-SUM($I$322:$I396)),IF(OR(H396<>\"\",I396<>\"\"),\"科目入力\",\"\"))","v":""},{"$f":"IF(C396=\"\",\"\",IF(ISERROR(一月),\"\",一月+SUMIF($C$322:$C396,$C396,$H$322:$H396)-SUMIF($C$322:$C396,C396,$I$322:$I396)))","v":""}]
[null,null,null,null,null,null,null,null,null,{"$f":"IF($E397<>\"\",IF(ISERROR($J$320+SUM($H$322:$H397)-SUM($I$322:$I397)),\"チェック\",$J$320+SUM($H$322:$H397)-SUM($I$322:$I397)),IF(OR(H397<>\"\",I397<>\"\"),\"科目入力\",\"\"))","v":""},{"$f":"IF(C397=\"\",\"\",IF(ISERROR(一月),\"\",一月+SUMIF($C$322:$C397,$C397,$H$322:$H397)-SUMIF($C$322:$C397,C397,$I$322:$I397)))","v":""}]
[null,null,null,null,null,null,null,null,null,{"$f":"IF($E398<>\"\",IF(ISERROR($J$320+SUM($H$322:$H398)-SUM($I$322:$I398)),\"チェック\",$J$320+SUM($H$322:$H398)-SUM($I$322:$I398)),IF(OR(H398<>\"\",I398<>\"\"),\"科目入力\",\"\"))","v":""},{"$f":"IF(C398=\"\",\"\",IF(ISERROR(一月),\"\",一月+SUMIF($C$322:$C398,$C398,$H$322:$H398)-SUMIF($C$322:$C398,C398,$I$322:$I398)))","v":""}]
[null,null,null,null,null,null,null,null,null,{"$f":"IF($E399<>\"\",IF(ISERROR($J$320+SUM($H$322:$H399)-SUM($I$322:$I399)),\"チェック\",$J$320+SUM($H$322:$H399)-SUM($I$322:$I399)),IF(OR(H399<>\"\",I399<>\"\"),\"科目入力\",\"\"))","v":""},{"$f":"IF(C399=\"\",\"\",IF(ISERROR(一月),\"\",一月+SUMIF($C$322:$C399,$C399,$H$322:$H399)-SUMIF($C$322:$C399,C399,$I$322:$I399)))","v":""}]
[null,null,null,null,null,null,null,null,null,{"$f":"IF($E400<>\"\",IF(ISERROR($J$320+SUM($H$322:$H400)-SUM($I$322:$I400)),\"チェック\",$J$320+SUM($H$322:$H400)-SUM($I$322:$I400)),IF(OR(H400<>\"\",I400<>\"\"),\"科目入力\",\"\"))","v":""},{"$f":"IF(C400=\"\",\"\",IF(ISERROR(一月),\"\",一月+SUMIF($C$322:$C400,$C400,$H$322:$H400)-SUMIF($C$322:$C400,C400,$I$322:$I400)))","v":""}]
[null,null,null,null,null,null,null,null,null,{"$f":"IF($E401<>\"\",IF(ISERROR($J$320+SUM($H$322:$H401)-SUM($I$322:$I401)),\"チェック\",$J$320+SUM($H$322:$H401)-SUM($I$322:$I401)),IF(OR(H401<>\"\",I401<>\"\"),\"科目入力\",\"\"))","v":""},{"$f":"IF(C401=\"\",\"\",IF(ISERROR(一月),\"\",一月+SUMIF($C$322:$C401,$C401,$H$322:$H401)-SUMIF($C$322:$C401,C401,$I$322:$I401)))","v":""}]
[null,null,null,null,null,null,null,null,null,{"$f":"IF($E402<>\"\",IF(ISERROR($J$320+SUM($H$322:$H402)-SUM($I$322:$I402)),\"チェック\",$J$320+SUM($H$322:$H402)-SUM($I$322:$I402)),IF(OR(H402<>\"\",I402<>\"\"),\"科目入力\",\"\"))","v":""},{"$f":"IF(C402=\"\",\"\",IF(ISERROR(一月),\"\",一月+SUMIF($C$322:$C402,$C402,$H$322:$H402)-SUMIF($C$322:$C402,C402,$I$322:$I402)))","v":""}]
[null,null,null,null,null,null,null,null,null,{"$f":"IF($E403<>\"\",IF(ISERROR($J$320+SUM($H$322:$H403)-SUM($I$322:$I403)),\"チェック\",$J$320+SUM($H$322:$H403)-SUM($I$322:$I403)),IF(OR(H403<>\"\",I403<>\"\"),\"科目入力\",\"\"))","v":""},{"$f":"IF(C403=\"\",\"\",IF(ISERROR(一月),\"\",一月+SUMIF($C$322:$C403,$C403,$H$322:$H403)-SUMIF($C$322:$C403,C403,$I$322:$I403)))","v":""}]
[null,null,null,null,null,null,null,null,null,{"$f":"IF($E404<>\"\",IF(ISERROR($J$320+SUM($H$322:$H404)-SUM($I$322:$I404)),\"チェック\",$J$320+SUM($H$322:$H404)-SUM($I$322:$I404)),IF(OR(H404<>\"\",I404<>\"\"),\"科目入力\",\"\"))","v":""},{"$f":"IF(C404=\"\",\"\",IF(ISERROR(一月),\"\",一月+SUMIF($C$322:$C404,$C404,$H$322:$H404)-SUMIF($C$322:$C404,C404,$I$322:$I404)))","v":""}]
[null,null,null,null,null,null,null,null,null,{"$f":"IF($E405<>\"\",IF(ISERROR($J$320+SUM($H$322:$H405)-SUM($I$322:$I405)),\"チェック\",$J$320+SUM($H$322:$H405)-SUM($I$322:$I405)),IF(OR(H405<>\"\",I405<>\"\"),\"科目入力\",\"\"))","v":""},{"$f":"IF(C405=\"\",\"\",IF(ISERROR(一月),\"\",一月+SUMIF($C$322:$C405,$C405,$H$322:$H405)-SUMIF($C$322:$C405,C405,$I$322:$I405)))","v":""}]
[null,null,null,null,null,null,null,null,null,{"$f":"IF($E406<>\"\",IF(ISERROR($J$320+SUM($H$322:$H406)-SUM($I$322:$I406)),\"チェック\",$J$320+SUM($H$322:$H406)-SUM($I$322:$I406)),IF(OR(H406<>\"\",I406<>\"\"),\"科目入力\",\"\"))","v":""},{"$f":"IF(C406=\"\",\"\",IF(ISERROR(一月),\"\",一月+SUMIF($C$322:$C406,$C406,$H$322:$H406)-SUMIF($C$322:$C406,C406,$I$322:$I406)))","v":""}]
[null,null,null,null,null,null,null,null,null,{"$f":"IF($E407<>\"\",IF(ISERROR($J$320+SUM($H$322:$H407)-SUM($I$322:$I407)),\"チェック\",$J$320+SUM($H$322:$H407)-SUM($I$322:$I407)),IF(OR(H407<>\"\",I407<>\"\"),\"科目入力\",\"\"))","v":""},{"$f":"IF(C407=\"\",\"\",IF(ISERROR(一月),\"\",一月+SUMIF($C$322:$C407,$C407,$H$322:$H407)-SUMIF($C$322:$C407,C407,$I$322:$I407)))","v":""}]
[null,null,null,null,null,null,null,null,null,{"$f":"IF($E408<>\"\",IF(ISERROR($J$320+SUM($H$322:$H408)-SUM($I$322:$I408)),\"チェック\",$J$320+SUM($H$322:$H408)-SUM($I$322:$I408)),IF(OR(H408<>\"\",I408<>\"\"),\"科目入力\",\"\"))","v":""},{"$f":"IF(C408=\"\",\"\",IF(ISERROR(一月),\"\",一月+SUMIF($C$322:$C408,$C408,$H$322:$H408)-SUMIF($C$322:$C408,C408,$I$322:$I408)))","v":""}]
[null,null,null,null,null,null,null,null,null,{"$f":"IF($E409<>\"\",IF(ISERROR($J$320+SUM($H$322:$H409)-SUM($I$322:$I409)),\"チェック\",$J$320+SUM($H$322:$H409)-SUM($I$322:$I409)),IF(OR(H409<>\"\",I409<>\"\"),\"科目入力\",\"\"))","v":""},{"$f":"IF(C409=\"\",\"\",IF(ISERROR(一月),\"\",一月+SUMIF($C$322:$C409,$C409,$H$322:$H409)-SUMIF($C$322:$C409,C409,$I$322:$I409)))","v":""}]
[null,null,null,null,null,null,null,null,null,{"$f":"IF($E410<>\"\",IF(ISERROR($J$320+SUM($H$322:$H410)-SUM($I$322:$I410)),\"チェック\",$J$320+SUM($H$322:$H410)-SUM($I$322:$I410)),IF(OR(H410<>\"\",I410<>\"\"),\"科目入力\",\"\"))","v":""},{"$f":"IF(C410=\"\",\"\",IF(ISERROR(一月),\"\",一月+SUMIF($C$322:$C410,$C410,$H$322:$H410)-SUMIF($C$322:$C410,C410,$I$322:$I410)))","v":""}]
[null,null,null,null,null,null,null,null,null,{"$f":"IF($E411<>\"\",IF(ISERROR($J$320+SUM($H$322:$H411)-SUM($I$322:$I411)),\"チェック\",$J$320+SUM($H$322:$H411)-SUM($I$322:$I411)),IF(OR(H411<>\"\",I411<>\"\"),\"科目入力\",\"\"))","v":""},{"$f":"IF(C411=\"\",\"\",IF(ISERROR(一月),\"\",一月+SUMIF($C$322:$C411,$C411,$H$322:$H411)-SUMIF($C$322:$C411,C411,$I$322:$I411)))","v":""}]
[null,null,null,null,null,null,"合　　　計　　",{"$f":"IF(SUM(H322:H411)=0,\"\",SUM(H322:H411))","v":""},{"$f":"IF(SUM(I322:I411)=0,\"\",SUM(I322:I411))","v":""},{"$f":"J320+SUM(H322:H411)-SUM(I322:I411)","v":0}]
[]
[null,null,null,null,null,null,null,"現金＋口座・その他残高",null,{"$f":"IF(集計表!E82+SUM(集計表!$C$14:$D14)-SUM(集計表!$C$76:$D76)=J315+J412,J315+J412,\"チェック\")","v":0},{"$f":"IF(J414=0,\"\",\" 円\")","v":""}]
[]
[]
[null,null,{"$f":"設定!H27","v":0},null,{"$f":"'日記(1)'!E417+SUMIF($C$322:$C$411,C417,$H$322:$H$411)-SUMIF($C$322:$C$411,C417,$I$322:$I$411)","v":0}]
[null,null,{"$f":"設定!H28","v":0},null,{"$f":"'日記(1)'!E418+SUMIF($C$322:$C$411,C418,$H$322:$H$411)-SUMIF($C$322:$C$411,C418,$I$322:$I$411)","v":0}]
[null,null,{"$f":"設定!H29","v":0},null,{"$f":"'日記(1)'!E419+SUMIF($C$322:$C$411,C419,$H$322:$H$411)-SUMIF($C$322:$C$411,C419,$I$322:$I$411)","v":0}]
[null,null,{"$f":"設定!H30","v":0},null,{"$f":"'日記(1)'!E420+SUMIF($C$322:$C$411,C420,$H$322:$H$411)-SUMIF($C$322:$C$411,C420,$I$322:$I$411)","v":0}]
[null,null,{"$f":"設定!H31","v":0},null,{"$f":"'日記(1)'!E421+SUMIF($C$322:$C$411,C421,$H$322:$H$411)-SUMIF($C$322:$C$411,C421,$I$322:$I$411)","v":0}]
[null,null,{"$f":"設定!H32","v":0},null,{"$f":"'日記(1)'!E422+SUMIF($C$322:$C$411,C422,$H$322:$H$411)-SUMIF($C$322:$C$411,C422,$I$322:$I$411)","v":0}]
[null,null,{"$f":"設定!H33","v":0},null,{"$f":"'日記(1)'!E423+SUMIF($C$322:$C$411,C423,$H$322:$H$411)-SUMIF($C$322:$C$411,C423,$I$322:$I$411)","v":0}]
[null,null,{"$f":"設定!H34","v":0},null,{"$f":"'日記(1)'!E424+SUMIF($C$322:$C$411,C424,$H$322:$H$411)-SUMIF($C$322:$C$411,C424,$I$322:$I$411)","v":0}]
[null,null,{"$f":"設定!H35","v":0},null,{"$f":"'日記(1)'!E425+SUMIF($C$322:$C$411,C425,$H$322:$H$411)-SUMIF($C$322:$C$411,C425,$I$322:$I$411)","v":0}]
[null,null,{"$f":"設定!H36","v":0},null,{"$f":"'日記(1)'!E426+SUMIF($C$322:$C$411,C426,$H$322:$H$411)-SUMIF($C$322:$C$411,C426,$I$322:$I$411)","v":0}]
[null,null,{"$f":"設定!H37","v":0},null,{"$f":"'日記(1)'!E427+SUMIF($C$322:$C$411,C427,$H$322:$H$411)-SUMIF($C$322:$C$411,C427,$I$322:$I$411)","v":0}]
[null,null,{"$f":"設定!H38","v":0},null,{"$f":"'日記(1)'!E428+SUMIF($C$322:$C$411,C428,$H$322:$H$411)-SUMIF($C$322:$C$411,C428,$I$322:$I$411)","v":0}]
[null,null,{"$f":"設定!H39","v":0},null,{"$f":"'日記(1)'!E429+SUMIF($C$322:$C$411,C429,$H$322:$H$411)-SUMIF($C$322:$C$411,C429,$I$322:$I$411)","v":0}]
[null,null,{"$f":"設定!H40","v":0},null,{"$f":"'日記(1)'!E430+SUMIF($C$322:$C$411,C430,$H$322:$H$411)-SUMIF($C$322:$C$411,C430,$I$322:$I$411)","v":0}]
[null,null,{"$f":"設定!H41","v":0},null,{"$f":"'日記(1)'!E431+SUMIF($C$322:$C$411,C431,$H$322:$H$411)-SUMIF($C$322:$C$411,C431,$I$322:$I$411)","v":0}]

{"sheet":"日記(3)","index":4,"n_rows":414,"n_cols":11,"rows_kept":414,"cut":false,"hidden":false,"merged":[[408,2,408,3],[409,2,409,3],[410,2,410,3],[393,2,393,3],[394,2,394,3],[395,2,395,3],[396,2,396,3],[397,2,397,3],[398,2,398,3],[399,2,399,3],[402,2,402,3],[403,2,403,3],[404,2,404,3],[405,2,405,3],[406,2,406,3],[407,2,407,3],[400,2,400,3],[401,2,401,3],[384,2,384,3],[385,2,385,3],[386,2,386,3],[387,2,387,3],[388,2,388,3],[389,2,389,3],[390,2,390,3],[391,2,391,3],[392,2,392,3],[375,2,375,3],[376,2,376,3],[377,2,377,3],[378,2,378,3],[379,2,379,3],[380,2,380,3],[381,2,381,3],[382,2,382,3],[383,2,383,3],[373,2,373,3],[374,2,374,3],[357,2,357,3],[358,2,358,3],[359,2,359,3],[360,2,360,3],[361,2,361,3],[362,2,362,3],[363,2,363,3],[366,2,366,3],[367,2,367,3],[368,2,368,3],[369,2,369,3],[370,2,370,3],[371,2,371,3],[364,2,364,3],[365,2,365,3],[326,2,326,3],[327,2,327,3],[330,2,330,3],[331,2,331,3],[332,2,332,3],[333,2,333,3],[334,2,334,3],[335,2,335,3],[372,2,372,3],[356,2,356,3],[339,2,339,3],[340,2,340,3],[341,2,341,3],[342,2,342,3],[343,2,343,3],[344,2,344,3],[345,2,345,3],[346,2,346,3],[347,2,347,3],[348,2,348,3],[349,2,349,3],[350,2,350,3],[351,2,351,3],[352,2,352,3],[353,2,353,3],[354,2,354,3],[355,2,355,3],[319,7,319,8],[413,7,413,8],[23,1,23,3],[5,1,5,3],[6,1,6,3],[7,1,7,3],[8,1,8,3],[9,1,9,3],[10,1,10,3],[11,1,11,3],[328,2,328,3],[329,2,329,3],[319,1,320,1],[319,2,320,3],[319,4,320,4],[319,5,320,6],[336,2,336,3],[337,2,337,3],[338,2,338,3],[321,2,321,3],[322,2,322,3],[323,2,323,3],[324,2,324,3],[325,2,325,3],[313,1,313,3],[293,1,293,3],[295,1,295,3],[296,1,296,3],[2,1,3,3],[15,1,15,3],[16,1,16,3],[17,1,17,3],[18,1,18,3],[19,1,19,3],[12,1,12,3],[13,1,13,3],[309,1,309,3],[310,1,310,3],[311,1,311,3],[312,1,312,3],[20,1,20,3],[21,1,21,3],[22,1,22,3],[299,1,299,3],[307,1,307,3],[308,1,308,3],[297,1,297,3],[298,1,298,3],[271,1,271,3],[272,1,272,3],[273,1,273,3],[275,1,275,3],[276,1,276,3],[277,1,277,3],[300,1,300,3],[301,1,301,3],[302,1,302,3],[283,1,283,3],[303,1,303,3],[305,1,305,3],[306,1,306,3],[291,1,291,3],[292,1,292,3],[286,1,286,3],[287,1,287,3],[288,1,288,3],[289,1,289,3],[290,1,290,3],[269,1,269,3],[270,1,270,3],[247,1,247,3],[248,1,248,3],[249,1,249,3],[250,1,250,3],[251,1,251,3],[252,1,252,3],[285,1,285,3],[278,1,278,3],[279,1,279,3],[280,1,280,3],[281,1,281,3],[282,1,282,3],[267,1,267,3],[268,1,268,3],[261,1,261,3],[262,1,262,3],[263,1,263,3],[265,1,265,3],[266,1,266,3],[243,1,243,3],[245,1,245,3],[246,1,246,3],[221,1,221,3],[222,1,222,3],[223,1,223,3],[225,1,225,3],[226,1,226,3],[260,1,260,3],[253,1,253,3],[255,1,255,3],[256,1,256,3],[257,1,257,3],[258,1,258,3],[259,1,259,3],[240,1,240,3],[241,1,241,3],[191,1,191,3],[192,1,192,3],[242,1,242,3],[219,1,219,3],[220,1,220,3],[197,1,197,3],[198,1,198,3],[199,1,199,3],[200,1,200,3],[201,1,201,3],[233,1,233,3],[235,1,235,3],[236,1,236,3],[237,1,237,3],[238,1,238,3],[239,1,239,3],[227,1,227,3],[228,1,228,3],[229,1,229,3],[230,1,230,3],[231,1,231,3],[232,1,232,3],[216,1,216,3],[217,1,217,3],[218,1,218,3],[193,1,193,3],[195,1,195,3],[196,1,196,3],[209,1,209,3],[210,1,210,3],[211,1,211,3],[212,1,212,3],[213,1,213,3],[215,1,215,3],[202,1,202,3],[203,1,203,3],[205,1,205,3],[206,1,206,3],[207,1,207,3],[208,1,208,3],[169,1,169,3],[170,1,170,3],[147,1,147,3],[148,1,148,3],[149,1,149,3],[150,1,150,3],[151,1,151,3],[152,1,152,3],[185,1,185,3],[171,1,171,3],[172,1,172,3],[167,1,167,3],[168,1,168,3],[161,1,161,3],[162,1,162,3],[163,1,163,3],[165,1,165,3],[166,1,166,3],[173,1,173,3],[175,1,175,3],[176,1,176,3],[177,1,177,3],[186,1,186,3],[187,1,187,3],[188,1,188,3],[189,1,189,3],[190,1,190,3],[178,1,178,3],[179,1,179,3],[180,1,180,3],[181,1,181,3],[182,1,182,3],[183,1,183,3],[145,1,145,3],[146,1,146,3],[121,1,121,3],[122,1,122,3],[123,1,123,3],[125,1,125,3],[126,1,126,3],[160,1,160,3],[153,1,153,3],[155,1,155,3],[156,1,156,3],[157,1,157,3],[158,1,158,3],[159,1,159,3],[140,1,140,3],[141,1,141,3],[142,1,142,3],[136,1,136,3],[137,1,137,3],[138,1,138,3],[139,1,139,3],[133,1,133,3],[135,1,135,3],[127,1,127,3],[128,1,128,3],[129,1,129,3],[130,1,130,3],[131,1,131,3],[132,1,132,3],[143,1,143,3],[91,1,91,3],[92,1,92,3],[119,1,119,3],[120,1,120,3],[97,1,97,3],[98,1,98,3],[99,1,99,3],[100,1,100,3],[101,1,101,3],[116,1,116,3],[117,1,117,3],[118,1,118,3],[93,1,93,3],[95,1,95,3],[96,1,96,3],[109,1,109,3],[110,1,110,3],[111,1,111,3],[112,1,112,3],[113,1,113,3],[115,1,115,3],[102,1,102,3],[103,1,103,3],[105,1,105,3],[106,1,106,3],[107,1,107,3],[108,1,108,3],[69,1,69,3],[70,1,70,3],[47,1,47,3],[48,1,48,3],[49,1,49,3],[50,1,50,3],[51,1,51,3],[52,1,52,3],[85,1,85,3],[71,1,71,3],[72,1,72,3],[67,1,67,3],[68,1,68,3],[73,1,73,3],[75,1,75,3],[76,1,76,3],[77,1,77,3],[86,1,86,3],[87,1,87,3],[88,1,88,3],[89,1,89,3],[90,1,90,3],[78,1,78,3],[79,1,79,3],[80,1,80,3],[81,1,81,3],[82,1,82,3],[83,1,83,3],[2,4,3,4],[2,5,3,6],[2,7,2,8],[43,1,43,3],[45,1,45,3],[46,1,46,3],[25,1,25,3],[60,1,60,3],[61,1,61,3],[53,1,53,3],[55,1,55,3],[56,1,56,3],[57,1,57,3],[58,1,58,3],[59,1,59,3],[26,1,26,3],[27,1,27,3],[28,1,28,3],[29,1,29,3],[30,1,30,3],[31,1,31,3],[0,2,0,3],[62,1,62,3],[63,1,63,3],[65,1,65,3],[66,1,66,3],[39,1,39,3],[40,1,40,3],[41,1,41,3],[42,1,42,3],[32,1,32,3],[33,1,33,3],[35,1,35,3],[36,1,36,3],[37,1,37,3],[38,1,38,3]]}
[null,{"$f":"IF(設定!$B$2=\"\",\"\",IF(OR(設定!$C$2=11,設定!$C$2=12),設定!$B$2+1,設定!$B$2))","v":""},{"$f":"\"年　　\"&IF(設定!$C$2=\"\",\"\",IF(設定!$C$2=11,\"1   月\",IF(設定!$C$2=12,2,設定!$C$2+2)&\"　月\"))","v":"年　　"},"年　　　月"]
[]
[null,"日　　　　　　記",null,null,"科　　目","摘　　　  　要",null,"　前　月　残　高",null,{"$f":"'日記(2)'!J315","v":0}]
[null,null,null,null,null,null,null,"収  入","支　出","残　高","確 認"]
[null,{"$f":"IF(設定BC,\"\",IF(設定!$C$2=12,来年N2,IF(設定!$C$2=11,来年N2,今年M2)))","v":""},null,null,null,null,null,null,null,{"$f":"IF(E5=\"\",\"\",IF(収支参照,\"\",IF(ISERROR(J3+H列-I列),\"チェック\",J3+H列-I列)))","v":""},{"$f":"IF(J14=\"\",\"\",IF(ISERROR(J14-J3),\"チェック\",J14-J3))","v":""}]
[null,null,null,null,null,null,null,null,null,{"$f":"IF(E6=\"\",\"\",IF(収支参照,\"\",IF(ISERROR(当日残高),\"チェック\",当日残高)))","v":""},{"$f":"IF(GH参照,IF(E5<>\"\",IF(ISERROR(確認),\"チェック\",確認),\"科目入力\"),\"\")","v":""}]
[null,null,null,null,null,null,null,null,null,"",""]
[null,null,null,null,null,null,null,null,null,"",""]
[null,null,null,null,null,null,null,null,null,"",""]
[null,null,null,null,null,null,null,null,null,"",""]
[null,null,null,null,null,null,null,null,null,"",""]
[null,null,null,null,null,null,null,null,null,"",""]
[null,null,null,null,null,null,null,null,null,"",""]
[null,null,null,null,null,null,null,null,null,null,{"$f":"IF(J14=\"\",\"\",IF(J13=J14,0,IF(GH参照,IF(E13<>\"\",IF(入出参照,IF(E14<>\"\",IF(再確認<>0,\"チェック\",再確認),\"科目入力\"),再確認),\"科目入力\"),\"\")))","v":""}]
[null,{"$f":"IF(設定BC,\"\",IF(設定!$C$2=12,来年N2,IF(設定!$C$2=11,来年N2,今年M2)))","v":""},null,null,null,null,null,null,null,{"$f":"IF(E15=\"\",\"\",IF(収支参照,\"\",IF(ISERROR(J列+H列-I列),\"チェック\",J列+H列-I列)))","v":""},{"$f":"IF(J24=\"\",\"\",J24-J14)","v":""}]
[null,null,null,null,null,null,null,null,null,{"$f":"IF(E16=\"\",\"\",IF(収支参照,\"\",IF(ISERROR(当日残高),\"チェック\",当日残高)))","v":""},{"$f":"IF(GH参照,IF(E15<>\"\",IF(ISERROR(確認),\"チェック\",確認),\"科目入力\"),\"\")","v":""}]
[null,null,null,null,null,null,null,null,null,"",""]
[null,null,null,null,null,null,null,null,null,"",""]
[null,null,null,null,null,null,null,null,null,"",""]
[null,null,null,null,null,null,null,null,null,"",""]
[null,null,null,null,null,null,null,null,null,"",""]
[null,null,null,null,null,null,null,null,null,"",""]
[null,null,null,null,null,null,null,null,null,"",""]
[null,null,null,null,null,null,null,null,null,null,{"$f":"IF(J24=\"\",\"\",IF(J23=J24,0,IF(GH参照,IF(E23<>\"\",IF(入出参照,IF(E24<>\"\",IF(再確認<>0,\"チェック\",再確認),\"科目入力\"),再確認),\"科目入力\"),\"\")))","v":""}]
[null,{"$f":"IF(設定BC,\"\",IF(設定!$C$2=12,来年N2,IF(設定!$C$2=11,来年N2,今年M2)))","v":""},null,null,null,null,null,null,null,{"$f":"IF(E25=\"\",\"\",IF(収支参照,\"\",IF(ISERROR(J列+H列-I列),\"チェック\",J列+H列-I列)))","v":""},{"$f":"IF(J34=\"\",\"\",J34-J24)","v":""}]
[null,null,null,null,null,null,null,null,null,{"$f":"IF(E26=\"\",\"\",IF(収支参照,\"\",IF(ISERROR(当日残高),\"チェック\",当日残高)))","v":""},{"$f":"IF(GH参照,IF(E25<>\"\",IF(ISERROR(確認),\"チェック\",確認),\"科目入力\"),\"\")","v":""}]
[null,null,null,null,null,null,null,null,null,"",""]
[null,null,null,null,null,null,null,null,null,"",""]
[null,null,null,null,null,null,null,null,null,"",""]
[null,null,null,null,null,null,null,null,null,"",""]
[null,null,null,null,null,null,null,null,null,"",""]
[null,null,null,null,null,null,null,null,null,"",""]
[null,null,null,null,null,null,null,null,null,"",""]
[null,null,null,null,null,null,null,null,null,null,{"$f":"IF(J34=\"\",\"\",IF(J33=J34,0,IF(GH参照,IF(E33<>\"\",IF(入出参照,IF(E34<>\"\",IF(再確認<>0,\"チェック\",再確認),\"科目入力\"),再確認),\"科目入力\"),\"\")))","v":""}]
[null,{"$f":"IF(設定BC,\"\",IF(設定!$C$2=12,来年N2,IF(設定!$C$2=11,来年N2,今年M2)))","v":""},null,null,null,null,null,null,null,{"$f":"IF(E35=\"\",\"\",IF(収支参照,\"\",IF(ISERROR(J列+H列-I列),\"チェック\",J列+H列-I列)))","v":""},{"$f":"IF(J44=\"\",\"\",J44-J34)","v":""}]
[null,null,null,null,null,null,null,null,null,"",""]
[null,null,null,null,null,null,null,null,null,"",""]
[null,null,null,null,null,null,null,null,null,"",""]
[null,null,null,null,null,null,null,null,null,"",""]
[null,null,null,null,null,null,null,null,null,"",""]
[null,null,null,null,null,null,null,null,null,"",""]
[null,null,null,null,null,null,null,null,null,"",""]
[null,null,null,null,null,null,null,null,null,"",""]
[null,null,null,null,null,null,null,null,null,null,{"$f":"IF(J44=\"\",\"\",IF(J43=J44,0,IF(GH参照,IF(E43<>\"\",IF(入出参照,IF(E44<>\"\",IF(再確認<>0,\"チェック\",再確認),\"科目入力\"),再確認),\"科目入力\"),\"\")))","v":""}]
[null,{"$f":"IF(設定BC,\"\",IF(設定!$C$2=12,来年N2,IF(設定!$C$2=11,来年N2,今年M2)))","v":""},null,null,null,null,null,null,null,{"$f":"IF(E45=\"\",\"\",IF(収支参照,\"\",IF(ISERROR(J列+H列-I列),\"チェック\",J列+H列-I列)))","v":""},{"$f":"IF(J54=\"\",\"\",J54-J44)","v":""}]
[null,null,null,null,null,null,null,null,null,"",""]
[null,null,null,null,null,null,null,null,null,"",""]
[null,null,null,null,null,null,null,null,null,"",""]
[null,null,null,null,null,null,null,null,null,"",""]
[null,null,null,null,null,null,null,null,null,"",""]
[null,null,null,null,null,null,null,null,null,"",""]
[null,null,null,null,null,null,null,null,null,"",""]
[null,null,null,null,null,null,null,null,null,"",""]
[null,null,null,null,null,null,null,null,null,null,{"$f":"IF(J54=\"\",\"\",IF(J53=J54,0,IF(GH参照,IF(E53<>\"\",IF(入出参照,IF(E54<>\"\",IF(再確認<>0,\"チェック\",再確認),\"科目入力\"),再確認),\"科目入力\"),\"\")))","v":""}]
[null,{"$f":"IF(設定BC,\"\",IF(設定!$C$2=12,来年N2,IF(設定!$C$2=11,来年N2,今年M2)))","v":""},null,null,null,null,null,null,null,{"$f":"IF(E55=\"\",\"\",IF(収支参照,\"\",IF(ISERROR(J列+H列-I列),\"チェック\",J列+H列-I列)))","v":""},{"$f":"IF(J64=\"\",\"\",J64-J54)","v":""}]
[null,null,null,null,null,null,null,null,null,"",""]
[null,null,null,null,null,null,null,null,null,"",""]
[null,null,null,null,null,null,null,null,null,"",""]
[null,null,null,null,null,null,null,null,null,"",""]
[null,null,null,null,null,null,null,null,null,"",""]
[null,null,null,null,null,null,null,null,null,"",""]
[null,null,null,null,null,null,null,null,null,"",""]
[null,null,null,null,null,null,null,null,null,"",""]
[null,null,null,null,null,null,null,null,null,null,{"$f":"IF(J64=\"\",\"\",IF(J63=J64,0,IF(GH参照,IF(E63<>\"\",IF(入出参照,IF(E64<>\"\",IF(再確認<>0,\"チェック\",再確認),\"科目入力\"),再確認),\"科目入力\"),\"\")))","v":""}]
[null,{"$f":"IF(設定BC,\"\",IF(設定!$C$2=12,来年N2,IF(設定!$C$2=11,来年N2,今年M2)))","v":""},null,null,null,null,null,null,null,{"$f":"IF(E65=\"\",\"\",IF(収支参照,\"\",IF(ISERROR(J列+H列-I列),\"チェック\",J列+H列-I列)))","v":""},{"$f":"IF(J74=\"\",\"\",J74-J64)","v":""}]
[null,null,null,null,null,null,null,null,null,"",""]
[null,null,null,null,null,null,null,null,null,"",""]
[null,null,null,null,null,null,null,null,null,"",""]
[null,null,null,null,null,null,null,null,null,"",""]
[null,null,null,null,null,null,null,null,null,"",""]
[null,null,null,null,null,null,null,null,null,"",""]
[null,null,null,null,null,null,null,null,null,"",""]
[null,null,null,null,null,null,null,null,null,"",""]
[null,null,null,null,null,null,null,null,null,null,{"$f":"IF(J74=\"\",\"\",IF(J73=J74,0,IF(GH参照,IF(E73<>\"\",IF(入出参照,IF(E74<>\"\",IF(再確認<>0,\"チェック\",再確認),\"科目入力\"),再確認),\"科目入力\"),\"\")))","v":""}]
[null,{"$f":"IF(設定BC,\"\",IF(設定!$C$2=12,来年N2,IF(設定!$C$2=11,来年N2,今年M2)))","v":""},null,null,null,null,null,null,null,{"$f":"IF(E75=\"\",\"\",IF(収支参照,\"\",IF(ISERROR(J列+H列-I列),\"チェック\",J列+H列-I列)))","v":""},{"$f":"IF(J84=\"\",\"\",J84-J74)","v":""}]
[null,null,null,null,null,null,null,null,null,"",""]
[null,null,null,null,null,null,null,null,null,"",""]
[null,null,null,null,null,null,null,null,null,"",""]
[null,null,null,null,null,null,null,null,null,"",""]
[null,null,null,null,null,null,null,null,null,"",""]
[null,null,null,null,null,null,null,null,null,"",""]
[null,null,null,null,null,null,null,null,null,"",""]
[null,null,null,null,null,null,null,null,null,"",""]
[null,null,null,null,null,null,null,null,null,null,{"$f":"IF(J84=\"\",\"\",IF(J83=J84,0,IF(GH参照,IF(E83<>\"\",IF(入出参照,IF(E84<>\"\",IF(再確認<>0,\"チェック\",再確認),\"科目入力\"),再確認),\"科目入力\"),\"\")))","v":""}]
[null,{"$f":"IF(設定BC,\"\",IF(設定!$C$2=12,来年N2,IF(設定!$C$2=11,来年N2,今年M2)))","v":""},null,null,null,null,null,null,null,{"$f":"IF(E85=\"\",\"\",IF(収支参照,\"\",IF(ISERROR(J列+H列-I列),\"チェック\",J列+H列-I列)))","v":""},{"$f":"IF(J94=\"\",\"\",J94-J84)","v":""}]
[null,null,null,null,null,null,null,null,null,"",""]
[null,null,null,null,null,null,null,null,null,"",""]
[null,null,null,null,null,null,null,null,null,"",""]
[null,null,null,null,null,null,null,null,null,"",""]
[null,null,null,null,null,null,null,null,null,{"$f":"IF(E90=\"\",\"\",IF(収支参照,\"\",IF(ISERROR(当日残高),\"チェック\",当日残高)))","v":""},{"$f":"IF(GH参照,IF(E89<>\"\",IF(ISERROR(確認),\"チェック\",確認),\"科目入力\"),\"\")","v":""}]
[null,null,null,null,null,null,null,null,null,"",""]
[null,null,null,null,null,null,null,null,null,"",""]
[null,null,null,null,null,null,null,null,null,"",""]
[null,null,null,null,null,null,null,null,null,null,{"$f":"IF(J94=\"\",\"\",IF(J93=J94,0,IF(GH参照,IF(E93<>\"\",IF(入出参照,IF(E94<>\"\",IF(再確認<>0,\"チェック\",再確認),\"科目入力\"),再確認),\"科目入力\"),\"\")))","v":""}]
[null,{"$f":"IF(設定BC,\"\",IF(設定!$C$2=12,来年N2,IF(設定!$C$2=11,来年N2,今年M2)))","v":""},null,null,null,null,null,null,null,{"$f":"IF(E95=\"\",\"\",IF(収支参照,\"\",IF(ISERROR(J列+H列-I列),\"チェック\",J列+H列-I列)))","v":""},{"$f":"IF(J104=\"\",\"\",J104-J94)","v":""}]
[null,null,null,null,null,null,null,null,null,"",""]
[null,null,null,null,null,null,null,null,null,"",""]
[null,null,null,null,null,null,null,null,null,"",""]
[null,null,null,null,null,null,null,null,null,"",""]
[null,null,null,null,null,null,null,null,null,"",""]
[null,null,null,null,null,null,null,null,null,"",""]
[null,null,null,null,null,null,null,null,null,"",""]
[null,null,null,null,null,null,null,null,null,"",""]
[null,null,null,null,null,null,null,null,null,null,{"$f":"IF(J104=\"\",\"\",IF(J103=J104,0,IF(GH参照,IF(E103<>\"\",IF(入出参照,IF(E104<>\"\",IF(再確認<>0,\"チェック\",再確認),\"科目入力\"),再確認),\"科目入力\"),\"\")))","v":""}]
[null,{"$f":"IF(設定BC,\"\",IF(設定!$C$2=12,来年N2,IF(設定!$C$2=11,来年N2,今年M2)))","v":""},null,null,null,null,null,null,null,{"$f":"IF(E105=\"\",\"\",IF(収支参照,\"\",IF(ISERROR(J列+H列-I列),\"チェック\",J列+H列-I列)))","v":""},{"$f":"IF(J114=\"\",\"\",J114-J104)","v":""}]
[null,null,null,null,null,null,null,null,null,"",""]
[null,null,null,null,null,null,null,null,null,"",""]
[null,null,null,null,null,null,null,null,null,"",""]
[null,null,null,null,null,null,null,null,null,"",""]
[null,null,null,null,null,null,null,null,null,"",""]
[null,null,null,null,null,null,null,null,null,"",""]
[null,null,null,null,null,null,null,null,null,"",""]
[null,null,null,null,null,null,null,null,null,"",""]
[null,null,null,null,null,null,null,null,null,null,{"$f":"IF(J114=\"\",\"\",IF(J113=J114,0,IF(GH参照,IF(E113<>\"\",IF(入出参照,IF(E114<>\"\",IF(再確認<>0,\"チェック\",再確認),\"科目入力\"),再確認),\"科目入力\"),\"\")))","v":""}]
[null,{"$f":"IF(設定BC,\"\",IF(設定!$C$2=12,来年N2,IF(設定!$C$2=11,来年N2,今年M2)))","v":""},null,null,null,null,null,null,null,{"$f":"IF(E115=\"\",\"\",IF(収支参照,\"\",IF(ISERROR(J列+H列-I列),\"チェック\",J列+H列-I列)))","v":""},{"$f":"IF(J124=\"\",\"\",J124-J114)","v":""}]
[null,null,null,null,null,null,null,null,null,"",""]
[null,null,null,null,null,null,null,null,null,"",""]
[null,null,null,null,null,null,null,null,null,"",""]
[null,null,null,null,null,null,null,null,null,"",""]
[null,null,null,null,null,null,null,null,null,"",""]
[null,null,null,null,null,null,null,null,null,"",""]
[null,null,null,null,null,null,null,null,null,"",""]
[null,null,null,null,null,null,null,null,null,"",""]
[null,null,null,null,null,null,null,null,null,null,{"$f":"IF(J124=\"\",\"\",IF(J123=J124,0,IF(GH参照,IF(E123<>\"\",IF(入出参照,IF(E124<>\"\",IF(再確認<>0,\"チェック\",再確認),\"科目入力\"),再確認),\"科目入力\"),\"\")))","v":""}]
[null,{"$f":"IF(設定BC,\"\",IF(設定!$C$2=12,来年N2,IF(設定!$C$2=11,来年N2,今年M2)))","v":""},null,null,null,null,null,null,null,{"$f":"IF(E125=\"\",\"\",IF(収支参照,\"\",IF(ISERROR(J列+H列-I列),\"チェック\",J列+H列-I列)))","v":""},{"$f":"IF(J134=\"\",\"\",J134-J124)","v":""}]
[null,null,null,null,null,null,null,null,null,"",""]
[null,null,null,null,null,null,null,null,null,"",""]
[null,null,null,null,null,null,null,null,null,"",""]
[null,null,null,null,null,null,null,null,null,"",""]
[null,null,null,null,null,null,null,null,null,"",""]
[null,null,null,null,null,null,null,null,null,"",""]
[null,null,null,null,null,null,null,null,null,"",""]
[null,null,null,null,null,null,null,null,null,"",""]
[null,null,null,null,null,null,null,null,null,null,{"$f":"IF(J134=\"\",\"\",IF(J133=J134,0,IF(GH参照,IF(E133<>\"\",IF(入出参照,IF(E134<>\"\",IF(再確認<>0,\"チェック\",再確認),\"科目入力\"),再確認),\"科目入力\"),\"\")))","v":""}]
[null,{"$f":"IF(設定BC,\"\",IF(設定!$C$2=12,来年N2,IF(設定!$C$2=11,来年N2,今年M2)))","v":""},null,null,null,null,null,null,null,{"$f":"IF(E135=\"\",\"\",IF(収支参照,\"\",IF(ISERROR(J列+H列-I列),\"チェック\",J列+H列-I列)))","v":""},{"$f":"IF(J144=\"\",\"\",J144-J134)","v":""}]
[null,null,null,null,null,null,null,null,null,"",""]
[null,null,null,null,null,null,null,null,null,"",""]
[null,null,null,null,null,null,null,null,null,"",""]
[null,null,null,null,null,null,null,null,null,"",""]
[null,null,null,null,null,null,null,null,null,"",""]
[null,null,null,null,null,null,null,null,null,"",""]
[null,null,null,null,null,null,null,null,null,"",""]
[null,null,null,null,null,null,null,null,null,"",""]
[null,null,null,null,null,null,null,null,null,null,{"$f":"IF(J144=\"\",\"\",IF(J143=J144,0,IF(GH参照,IF(E143<>\"\",IF(入出参照,IF(E144<>\"\",IF(再確認<>0,\"チェック\",再確認),\"科目入力\"),再確認),\"科目入力\"),\"\")))","v":""}]
[null,{"$f":"IF(設定BC,\"\",IF(設定!$C$2=12,来年N2,IF(設定!$C$2=11,来年N2,今年M2)))","v":""},null,null,null,null,null,null,null,{"$f":"IF(E145=\"\",\"\",IF(収支参照,\"\",IF(ISERROR(J列+H列-I列),\"チェック\",J列+H列-I列)))","v":""},{"$f":"IF(J154=\"\",\"\",J154-J144)","v":""}]
[null,null,null,null,null,null,null,null,null,"",""]
[null,null,null,null,null,null,null,null,null,"",""]
[null,null,null,null,null,null,null,null,null,"",""]
[null,null,null,null,null,null,null,null,null,"",""]
[null,null,null,null,null,null,null,null,null,"",""]
[null,null,null,null,null,null,null,null,null,"",""]
[null,null,null,null,null,null,null,null,null,"",""]
[null,null,null,null,null,null,null,null,null,"",""]
[null,null,null,null,null,null,null,null,null,null,{"$f":"IF(J154=\"\",\"\",IF(J153=J154,0,IF(GH参照,IF(E153<>\"\",IF(入出参照,IF(E154<>\"\",IF(再確認<>0,\"チェック\",再確認),\"科目入力\"),再確認),\"科目入力\"),\"\")))","v":""}]
[null,{"$f":"IF(設定BC,\"\",IF(設定!$C$2=12,来年N2,IF(設定!$C$2=11,来年N2,今年M2)))","v":""},null,null,null,null,null,null,null,{"$f":"IF(E155=\"\",\"\",IF(収支参照,\"\",IF(ISERROR(J列+H列-I列),\"チェック\",J列+H列-I列)))","v":""},{"$f":"IF(J164=\"\",\"\",J164-J154)","v":""}]
[null,null,null,null,null,null,null,null,null,{"$f":"IF(E156=\"\",\"\",IF(収支参照,\"\",IF(ISERROR(当日残高),\"チェック\",当日残高)))","v":""},{"$f":"IF(GH参照,IF(E155<>\"\",IF(ISERROR(確認),\"チェック\",確認),\"科目入力\"),\"\")","v":""}]
[null,null,null,null,null,null,null,null,null,"",""]
[null,null,null,null,null,null,null,null,null,"",""]
[null,null,null,null,null,null,null,null,null,"",""]
[null,null,null,null,null,null,null,null,null,"",""]
[null,null,null,null,null,null,null,null,null,"",""]
[null,null,null,null,null,null,null,null,null,"",""]
[null,null,null,null,null,null,null,null,null,"",""]
[null,null,null,null,null,null,null,null,null,null,{"$f":"IF(J164=\"\",\"\",IF(J163=J164,0,IF(GH参照,IF(E163<>\"\",IF(入出参照,IF(E164<>\"\",IF(再確認<>0,\"チェック\",再確認),\"科目入力\"),再確認),\"科目入力\"),\"\")))","v":""}]
[null,{"$f":"IF(設定BC,\"\",IF(設定!$C$2=12,来年N2,IF(設定!$C$2=11,来年N2,今年M2)))","v":""},null,null,null,null,null,null,null,{"$f":"IF(E165=\"\",\"\",IF(収支参照,\"\",IF(ISERROR(J列+H列-I列),\"チェック\",J列+H列-I列)))","v":""},{"$f":"IF(J174=\"\",\"\",J174-J164)","v":""}]
[null,null,null,null,null,null,null,null,null,"",""]
[null,null,null,null,null,null,null,null,null,"",""]
[null,null,null,null,null,null,null,null,null,"",""]
[null,null,null,null,null,null,null,null,null,"",""]
[null,null,null,null,null,null,null,null,null,"",""]
[null,null,null,null,null,null,null,null,null,"",""]
[null,null,null,null,null,null,null,null,null,"",""]
[null,null,null,null,null,null,null,null,null,"",""]
[null,null,null,null,null,null,null,null,null,null,{"$f":"IF(J174=\"\",\"\",IF(J173=J174,0,IF(GH参照,IF(E173<>\"\",IF(入出参照,IF(E174<>\"\",IF(再確認<>0,\"チェック\",再確認),\"科目入力\"),再確認),\"科目入力\"),\"\")))","v":""}]
[null,{"$f":"IF(設定BC,\"\",IF(設定!$C$2=12,来年N2,IF(設定!$C$2=11,来年N2,今年M2)))","v":""},null,null,null,null,null,null,null,{"$f":"IF(E175=\"\",\"\",IF(収支参照,\"\",IF(ISERROR(J列+H列-I列),\"チェック\",J列+H列-I列)))","v":""},{"$f":"IF(J184=\"\",\"\",J184-J174)","v":""}]
[null,null,null,null,null,null,null,null,null,"",""]
[null,null,null,null,null,null,null,null,null,"",""]
[null,null,null,null,null,null,null,null,null,"",""]
[null,null,null,null,null,null,null,null,null,"",""]
[null,null,null,null,null,null,null,null,null,"",""]
[null,null,null,null,null,null,null,null,null,"",""]
[null,null,null,null,null,null,null,null,null,"",""]
[null,null,null,null,null,null,null,null,null,"",""]
[null,null,null,null,null,null,null,null,null,null,{"$f":"IF(J184=\"\",\"\",IF(J183=J184,0,IF(GH参照,IF(E183<>\"\",IF(入出参照,IF(E184<>\"\",IF(再確認<>0,\"チェック\",再確認),\"科目入力\"),再確認),\"科目入力\"),\"\")))","v":""}]
[null,{"$f":"IF(設定BC,\"\",IF(設定!$C$2=12,来年N2,IF(設定!$C$2=11,来年N2,今年M2)))","v":""},null,null,null,null,null,null,null,{"$f":"IF(E185=\"\",\"\",IF(収支参照,\"\",IF(ISERROR(J列+H列-I列),\"チェック\",J列+H列-I列)))","v":""},{"$f":"IF(J194=\"\",\"\",J194-J184)","v":""}]
[null,null,null,null,null,null,null,null,null,"",""]
[null,null,null,null,null,null,null,null,null,"",""]
[null,null,null,null,null,null,null,null,null,"",""]
[null,null,null,null,null,null,null,null,null,"",""]
[null,null,null,null,null,null,null,null,null,"",""]
[null,null,null,null,null,null,null,null,null,"",""]
[null,null,null,null,null,null,null,null,null,"",""]
[null,null,null,null,null,null,null,null,null,"",""]
[null,null,null,null,null,null,null,null,null,null,{"$f":"IF(J194=\"\",\"\",IF(J193=J194,0,IF(GH参照,IF(E193<>\"\",IF(入出参照,IF(E194<>\"\",IF(再確認<>0,\"チェック\",再確認),\"科目入力\"),再確認),\"科目入力\"),\"\")))","v":""}]
[null,{"$f":"IF(設定BC,\"\",IF(設定!$C$2=12,来年N2,IF(設定!$C$2=11,来年N2,今年M2)))","v":""},null,null,null,null,null,null,null,{"$f":"IF(E195=\"\",\"\",IF(収支参照,\"\",IF(ISERROR(J列+H列-I列),\"チェック\",J列+H列-I列)))","v":""},{"$f":"IF(J204=\"\",\"\",J204-J194)","v":""}]
[null,null,null,null,null,null,null,null,null,"",""]
[null,null,null,null,null,null,null,null,null,"",""]
[null,null,null,null,null,null,null,null,null,"",""]
[null,null,null,null,null,null,null,null,null,"",""]
[null,null,null,null,null,null,null,null,null,"",""]
[null,null,null,null,null,null,null,null,null,"",""]
[null,null,null,null,null,null,null,null,null,"",""]
[null,null,null,null,null,null,null,null,null,"",""]
[null,null,null,null,null,null,null,null,null,null,{"$f":"IF(J204=\"\",\"\",IF(J203=J204,0,IF(GH参照,IF(E203<>\"\",IF(入出参照,IF(E204<>\"\",IF(再確認<>0,\"チェック\",再確認),\"科目入力\"),再確認),\"科目入力\"),\"\")))","v":""}]
[null,{"$f":"IF(設定BC,\"\",IF(設定!$C$2=12,来年N2,IF(設定!$C$2=11,来年N2,今年M2)))","v":""},null,null,null,null,null,null,null,{"$f":"IF(E205=\"\",\"\",IF(収支参照,\"\",IF(ISERROR(J列+H列-I列),\"チェック\",J列+H列-I列)))","v":""},{"$f":"IF(J214=\"\",\"\",J214-J204)","v":""}]
[null,null,null,null,null,null,null,null,null,"",""]
[null,null,null,null,null,null,null,null,null,"",""]
[null,null,null,null,null,null,null,null,null,"",""]
[null,null,null,null,null,null,null,null,null,"",""]
[null,null,null,null,null,null,null,null,null,"",""]
[null,null,null,null,null,null,null,null,null,"",""]
[null,null,null,null,null,null,null,null,null,"",""]
[null,null,null,null,null,null,null,null,null,"",""]
[null,null,null,null,null,null,null,null,null,null,{"$f":"IF(J214=\"\",\"\",IF(J213=J214,0,IF(GH参照,IF(E213<>\"\",IF(入出参照,IF(E214<>\"\",IF(再確認<>0,\"チェック\",再確認),\"科目入力\"),再確認),\"科目入力\"),\"\")))","v":""}]
[null,{"$f":"IF(設定BC,\"\",IF(設定!$C$2=12,来年N2,IF(設定!$C$2=11,来年N2,今年M2)))","v":""},null,null,null,null,null,null,null,{"$f":"IF(E215=\"\",\"\",IF(収支参照,\"\",IF(ISERROR(J列+H列-I列),\"チェック\",J列+H列-I列)))","v":""},{"$f":"IF(J224=\"\",\"\",J224-J214)","v":""}]
[null,null,null,null,null,null,null,null,null,"",""]
[null,null,null,null,null,null,null,null,null,"",""]
[null,null,null,null,null,null,null,null,null,"",""]
[null,null,null,null,null,null,null,null,null,"",""]
[null,null,null,null,null,null,null,null,null,{"$f":"IF(E220=\"\",\"\",IF(収支参照,\"\",IF(ISERROR(当日残高),\"チェック\",当日残高)))","v":""},{"$f":"IF(GH参照,IF(E219<>\"\",IF(ISERROR(確認),\"チェック\",確認),\"科目入力\"),\"\")","v":""}]
[null,null,null,null,null,null,null,null,null,"",""]
[null,null,null,null,null,null,null,null,null,"",""]
[null,null,null,null,null,null,null,null,null,"",""]
[null,null,null,null,null,null,null,null,null,null,{"$f":"IF(J224=\"\",\"\",IF(J223=J224,0,IF(GH参照,IF(E223<>\"\",IF(入出参照,IF(E224<>\"\",IF(再確認<>0,\"チェック\",再確認),\"科目入力\"),再確認),\"科目入力\"),\"\")))","v":""}]
[null,{"$f":"IF(設定BC,\"\",IF(設定!$C$2=12,来年N2,IF(設定!$C$2=11,来年N2,今年M2)))","v":""},null,null,null,null,null,null,null,{"$f":"IF(E225=\"\",\"\",IF(収支参照,\"\",IF(ISERROR(J列+H列-I列),\"チェック\",J列+H列-I列)))","v":""},{"$f":"IF(J234=\"\",\"\",J234-J224)","v":""}]
[null,null,null,null,null,null,null,null,null,"",""]
[null,null,null,null,null,null,null,null,null,"",""]
[null,null,null,null,null,null,null,null,null,"",""]
[null,null,null,null,null,null,null,null,null,"",""]
[null,null,null,null,null,null,null,null,null,"",""]
[null,null,null,null,null,null,null,null,null,"",""]
[null,null,null,null,null,null,null,null,null,"",""]
[null,null,null,null,null,null,null,null,null,"",""]
[null,null,null,null,null,null,null,null,null,null,{"$f":"IF(J234=\"\",\"\",IF(J233=J234,0,IF(GH参照,IF(E233<>\"\",IF(入出参照,IF(E234<>\"\",IF(再確認<>0,\"チェック\",再確認),\"科目入力\"),再確認),\"科目入力\"),\"\")))","v":""}]
[null,{"$f":"IF(設定BC,\"\",IF(設定!$C$2=12,来年N2,IF(設定!$C$2=11,来年N2,今年M2)))","v":""},null,null,null,null,null,null,null,{"$f":"IF(E235=\"\",\"\",IF(収支参照,\"\",IF(ISERROR(J列+H列-I列),\"チェック\",J列+H列-I列)))","v":""},{"$f":"IF(J244=\"\",\"\",J244-J234)","v":""}]
[null,null,null,null,null,null,null,null,null,"",""]
[null,null,null,null,null,null,null,null,null,"",""]
[null,null,null,null,null,null,null,null,null,"",""]
[null,null,null,null,null,null,null,null,null,"",""]
[null,null,null,null,null,null,null,null,null,"",""]
[null,null,null,null,null,null,null,null,null,"",""]
[null,null,null,null,null,null,null,null,null,"",""]
[null,null,null,null,null,null,null,null,null,"",""]
[null,null,null,null,null,null,null,null,null,null,{"$f":"IF(J244=\"\",\"\",IF(J243=J244,0,IF(GH参照,IF(E243<>\"\",IF(入出参照,IF(E244<>\"\",IF(再確認<>0,\"チェック\",再確認),\"科目入力\"),再確認),\"科目入力\"),\"\")))","v":""}]
[null,{"$f":"IF(設定BC,\"\",IF(設定!$C$2=12,来年N2,IF(設定!$C$2=11,来年N2,今年M2)))","v":""},null,null,null,null,null,null,null,{"$f":"IF(E245=\"\",\"\",IF(収支参照,\"\",IF(ISERROR(J列+H列-I列),\"チェック\",J列+H列-I列)))","v":""},{"$f":"IF(J254=\"\",\"\",J254-J244)","v":""}]
[null,null,null,null,null,null,null,null,null,"",""]
[null,null,null,null,null,null,null,null,null,"",""]
[null,null,null,null,null,null,null,null,null,"",""]
[null,null,null,null,null,null,null,null,null,"",""]
[null,null,null,null,null,null,null,null,null,"",""]
[null,null,null,null,null,null,null,null,null,"",""]
[null,null,null,null,null,null,null,null,null,"",""]
[null,null,null,null,null,null,null,null,null,"",""]
[null,null,null,null,null,null,null,null,null,null,{"$f":"IF(J254=\"\",\"\",IF(J253=J254,0,IF(GH参照,IF(E253<>\"\",IF(入出参照,IF(E254<>\"\",IF(再確認<>0,\"チェック\",再確認),\"科目入力\"),再確認),\"科目入力\"),\"\")))","v":""}]
[null,{"$f":"IF(設定BC,\"\",IF(設定!$C$2=12,来年N2,IF(設定!$C$2=11,来年N2,今年M2)))","v":""},null,null,null,null,null,null,null,{"$f":"IF(E255=\"\",\"\",IF(収支参照,\"\",IF(ISERROR(J列+H列-I列),\"チェック\",J列+H列-I列)))","v":""},{"$f":"IF(J264=\"\",\"\",J264-J254)","v":""}]
[null,null,null,null,null,null,null,null,null,"",""]
[null,null,null,null,null,null,null,null,null,"",""]
[null,null,null,null,null,null,null,null,null,"",""]
[null,null,null,null,null,null,null,null,null,"",""]
[null,null,null,null,null,null,null,null,null,"",""]
[null,null,null,null,null,null,null,null,null,"",""]
[null,null,null,null,null,null,null,null,null,"",""]
[null,null,null,null,null,null,null,null,null,"",""]
[null,null,null,null,null,null,null,null,null,null,{"$f":"IF(J264=\"\",\"\",IF(J263=J264,0,IF(GH参照,IF(E263<>\"\",IF(入出参照,IF(E264<>\"\",IF(再確認<>0,\"チェック\",再確認),\"科目入力\"),再確認),\"科目入力\"),\"\")))","v":""}]
[null,{"$f":"IF(設定BC,\"\",IF(設定!$C$2=12,来年N2,IF(設定!$C$2=11,来年N2,今年M2)))","v":""},null,null,null,null,null,null,null,{"$f":"IF(E265=\"\",\"\",IF(収支参照,\"\",IF(ISERROR(J列+H列-I列),\"チェック\",J列+H列-I列)))","v":""},{"$f":"IF(J274=\"\",\"\",J274-J264)","v":""}]
[null,null,null,null,null,null,null,null,null,"",""]
[null,null,null,null,null,null,null,null,null,"",""]
[null,null,null,null,null,null,null,null,null,"",""]
[null,null,null,null,null,null,null,null,null,"",""]
[null,null,null,null,null,null,null,null,null,"",""]
[null,null,null,null,null,null,null,null,null,"",""]
[null,null,null,null,null,null,null,null,null,"",""]
[null,null,null,null,null,null,null,null,null,"",""]
[null,null,null,null,null,null,null,null,null,null,{"$f":"IF(J274=\"\",\"\",IF(J273=J274,0,IF(GH参照,IF(E273<>\"\",IF(入出参照,IF(E274<>\"\",IF(再確認<>0,\"チェック\",再確認),\"科目入力\"),再確認),\"科目入力\"),\"\")))","v":""}]
[null,{"$f":"IF(設定BC,\"\",IF(設定!$C$2=12,来年N2,IF(設定!$C$2=11,来年N2,今年M2)))","v":""},null,null,null,null,null,null,null,{"$f":"IF(E275=\"\",\"\",IF(収支参照,\"\",IF(ISERROR(J列+H列-I列),\"チェック\",J列+H列-I列)))","v":""},{"$f":"IF(J284=\"\",\"\",J284-J274)","v":""}]
[null,null,null,null,null,null,null,null,null,"",""]
[null,null,null,null,null,null,null,null,null,"",""]
[null,null,null,null,null,null,null,null,null,"",""]
[null,null,null,null,null,null,null,null,null,"",""]
[null,null,null,null,null,null,null,null,null,"",""]
[null,null,null,null,null,null,null,null,null,"",""]
[null,null,null,null,null,null,null,null,null,"",""]
[null,null,null,null,null,null,null,null,null,"",""]
[null,null,null,null,null,null,null,null,null,null,{"$f":"IF(J284=\"\",\"\",IF(J283=J284,0,IF(GH参照,IF(E283<>\"\",IF(入出参照,IF(E284<>\"\",IF(再確認<>0,\"チェック\",再確認),\"科目入力\"),再確認),\"科目入力\"),\"\")))","v":""}]
[null,{"$f":"IF(設定BC,\"\",IF(AND(余翌年=0,設定!$C$2=12),来年N2,IF(設定!$C$2=11,来年N2,IF(AND(余翌年<>0,設定!$C$2=12),\"\",今年M2))))","v":""},null,null,null,null,null,null,null,{"$f":"IF(E285=\"\",\"\",IF(収支参照,\"\",IF(ISERROR(J列+H列-I列),\"チェック\",J列+H列-I列)))","v":""},{"$f":"IF(J294=\"\",\"\",J294-J284)","v":""}]
[null,null,null,null,null,null,null,null,null,{"$f":"IF(E286=\"\",\"\",IF(収支参照,\"\",IF(ISERROR(当日残高),\"チェック\",当日残高)))","v":""},{"$f":"IF(GH参照,IF(E285<>\"\",IF(ISERROR(確認),\"チェック\",確認),\"科目入力\"),\"\")","v":""}]
[null,null,null,null,null,null,null,null,null,"",""]
[null,null,null,null,null,null,null,null,null,"",""]
[null,null,null,null,null,null,null,null,null,"",""]
[null,null,null,null,null,null,null,null,null,"",""]
[null,null,null,null,null,null,null,null,null,"",""]
[null,null,null,null,null,null,null,null,null,"",""]
[null,null,null,null,null,null,null,null,null,"",""]
[null,null,null,null,null,null,null,null,null,null,{"$f":"IF(J294=\"\",\"\",IF(J293=J294,0,IF(GH参照,IF(E293<>\"\",IF(入出参照,IF(E294<>\"\",IF(再確認<>0,\"チェック\",再確認),\"科目入力\"),再確認),\"科目入力\"),\"\")))","v":""}]
[null,{"$f":"IF(設定BC,\"\",IF(AND(余翌年=0,設定!$C$2=12),\"\",IF(AND(余り=0,設定!$C$2=12),\"\",IF(設定!$C$2=11,来年N2,IF(設定!$C$2=12,\"\",今年M2)))))","v":""},null,null,null,null,null,null,null,{"$f":"IF(E295=\"\",\"\",IF(収支参照,\"\",IF(ISERROR(J列+H列-I列),\"チェック\",J列+H列-I列)))","v":""},{"$f":"IF(J304=\"\",\"\",J304-J294)","v":""}]
[null,null,null,null,null,null,null,null,null,"",""]
[null,null,null,null,null,null,null,null,null,"",""]
[null,null,null,null,null,null,null,null,null,"",""]
[null,null,null,null,null,null,null,null,null,"",""]
[null,null,null,null,null,null,null,null,null,"",""]
[null,null,null,null,null,null,null,null,null,"",""]
[null,null,null,null,null,null,null,null,null,"",""]
[null,null,null,null,null,null,null,null,null,"",""]
[null,null,null,null,null,null,null,null,null,null,{"$f":"IF(J304=\"\",\"\",IF(J303=J304,0,IF(GH参照,IF(E303<>\"\",IF(入出参照,IF(E304<>\"\",IF(再確認<>0,\"チェック\",再確認),\"科目入力\"),再確認),\"科目入力\"),\"\")))","v":""}]
[null,{"$f":"IF(設定BC,\"\",IF(AND(余り<>0,設定!$C$2=12),\"\",IF(月選択3,\"\",IF(設定!$C$2=11,来年N2,IF(設定!$C$2=12,\"\",今年M2)))))","v":""},null,null,null,null,null,null,null,{"$f":"IF(E305=\"\",\"\",IF(収支参照,\"\",IF(ISERROR(J列+H列-I列),\"チェック\",J列+H列-I列)))","v":""},{"$f":"IF(J314=\"\",\"\",J314-J304)","v":""}]
[null,null,null,null,null,null,null,null,null,"",""]
[null,null,null,null,null,null,null,null,null,"",""]
[null,null,null,null,null,null,null,null,null,"",""]
[null,null,null,null,null,null,null,null,null,"",""]
[null,null,null,null,null,null,null,null,null,"",""]
[null,null,null,null,null,null,null,null,null,"",""]
[null,null,null,null,null,null,null,null,null,"",""]
[null,null,null,null,null,null,null,null,null,"",""]
[null,null,null,null,null,null,null,null,null,null,{"$f":"IF(J314=\"\",\"\",IF(J313=J314,0,IF(GH参照,IF(E313<>\"\",IF(入出参照,IF(E314<>\"\",IF(再確認<>0,\"チェック\",再確認),\"科目入力\"),再確認),\"科目入力\"),\"\")))","v":""}]
[null,null,null,null,"x",null,"合　　　　計",{"$f":"IF(AND(SUM($H$5:$H$314)=0,SUM($I$5:$I$314)=0),\"\",SUM($H$5:$H$314))","v":""},{"$f":"IF(AND(SUM($H$5:$H$314)=0,SUM($I$5:$I$314)=0),\"\",SUM($I$5:$I$314))","v":""},{"$f":"SUM(H5:H314)+J3-SUM(I5:I314)","v":0}]
[]
[]
[]
[null,null,"銀行　その他　　　口座の入力表"]
[null,"月 ・日　（曜 ）","口　座　・　通帳名",null,"科　　目","摘　  　　　要",null,"　前　月　残　高",null,{"$f":"'日記(2)'!J412","v":0}]
[null,null,null,null,null,null,null,"収　入","支　出","総合残高","現在高"]
[null,null,null,null,null,null,null,null,null,{"$f":"IF($E322<>\"\",IF(ISERROR($J$320+SUM($H$322:$H322)-SUM($I$322:$I322)),\"チェック\",$J$320+SUM($H$322:$H322)-SUM($I$322:$I322)),IF(OR(H322<>\"\",I322<>\"\"),\"科目入力\",\"\"))","v":""},{"$f":"IF(C322=\"\",\"\",IF(ISERROR(二月),\"\",二月+SUMIF($C$322:$C322,$C322,$H$322:$H322)-SUMIF($C$322:$C322,C322,$I$322:$I322)))","v":""}]
[null,null,null,null,null,null,null,null,null,{"$f":"IF($E323<>\"\",IF(ISERROR($J$320+SUM($H$322:$H323)-SUM($I$322:$I323)),\"チェック\",$J$320+SUM($H$322:$H323)-SUM($I$322:$I323)),IF(OR(H323<>\"\",I323<>\"\"),\"科目入力\",\"\"))","v":""},{"$f":"IF(C323=\"\",\"\",IF(ISERROR(二月),\"\",二月+SUMIF($C$322:$C323,$C323,$H$322:$H323)-SUMIF($C$322:$C323,C323,$I$322:$I323)))","v":""}]
[null,null,null,null,null,null,null,null,null,{"$f":"IF($E324<>\"\",IF(ISERROR($J$320+SUM($H$322:$H324)-SUM($I$322:$I324)),\"チェック\",$J$320+SUM($H$322:$H324)-SUM($I$322:$I324)),IF(OR(H324<>\"\",I324<>\"\"),\"科目入力\",\"\"))","v":""},{"$f":"IF(C324=\"\",\"\",IF(ISERROR(二月),\"\",二月+SUMIF($C$322:$C324,$C324,$H$322:$H324)-SUMIF($C$322:$C324,C324,$I$322:$I324)))","v":""}]
[null,null,null,null,null,null,null,null,null,{"$f":"IF($E325<>\"\",IF(ISERROR($J$320+SUM($H$322:$H325)-SUM($I$322:$I325)),\"チェック\",$J$320+SUM($H$322:$H325)-SUM($I$322:$I325)),IF(OR(H325<>\"\",I325<>\"\"),\"科目入力\",\"\"))","v":""},{"$f":"IF(C325=\"\",\"\",IF(ISERROR(二月),\"\",二月+SUMIF($C$322:$C325,$C325,$H$322:$H325)-SUMIF($C$322:$C325,C325,$I$322:$I325)))","v":""}]
[null,null,null,null,null,null,null,null,null,{"$f":"IF($E326<>\"\",IF(ISERROR($J$320+SUM($H$322:$H326)-SUM($I$322:$I326)),\"チェック\",$J$320+SUM($H$322:$H326)-SUM($I$322:$I326)),IF(OR(H326<>\"\",I326<>\"\"),\"科目入力\",\"\"))","v":""},{"$f":"IF(C326=\"\",\"\",IF(ISERROR(二月),\"\",二月+SUMIF($C$322:$C326,$C326,$H$322:$H326)-SUMIF($C$322:$C326,C326,$I$322:$I326)))","v":""}]
[null,null,null,null,null,null,null,null,null,{"$f":"IF($E327<>\"\",IF(ISERROR($J$320+SUM($H$322:$H327)-SUM($I$322:$I327)),\"チェック\",$J$320+SUM($H$322:$H327)-SUM($I$322:$I327)),IF(OR(H327<>\"\",I327<>\"\"),\"科目入力\",\"\"))","v":""},{"$f":"IF(C327=\"\",\"\",IF(ISERROR(二月),\"\",二月+SUMIF($C$322:$C327,$C327,$H$322:$H327)-SUMIF($C$322:$C327,C327,$I$322:$I327)))","v":""}]
[null,null,null,null,null,null,null,null,null,{"$f":"IF($E328<>\"\",IF(ISERROR($J$320+SUM($H$322:$H328)-SUM($I$322:$I328)),\"チェック\",$J$320+SUM($H$322:$H328)-SUM($I$322:$I328)),IF(OR(H328<>\"\",I328<>\"\"),\"科目入力\",\"\"))","v":""},{"$f":"IF(C328=\"\",\"\",IF(ISERROR(二月),\"\",二月+SUMIF($C$322:$C328,$C328,$H$322:$H328)-SUMIF($C$322:$C328,C328,$I$322:$I328)))","v":""}]
[null,null,null,null,null,null,null,null,null,{"$f":"IF($E329<>\"\",IF(ISERROR($J$320+SUM($H$322:$H329)-SUM($I$322:$I329)),\"チェック\",$J$320+SUM($H$322:$H329)-SUM($I$322:$I329)),IF(OR(H329<>\"\",I329<>\"\"),\"科目入力\",\"\"))","v":""},{"$f":"IF(C329=\"\",\"\",IF(ISERROR(二月),\"\",二月+SUMIF($C$322:$C329,$C329,$H$322:$H329)-SUMIF($C$322:$C329,C329,$I$322:$I329)))","v":""}]
[null,null,null,null,null,null,null,null,null,{"$f":"IF($E330<>\"\",IF(ISERROR($J$320+SUM($H$322:$H330)-SUM($I$322:$I330)),\"チェック\",$J$320+SUM($H$322:$H330)-SUM($I$322:$I330)),IF(OR(H330<>\"\",I330<>\"\"),\"科目入力\",\"\"))","v":""},{"$f":"IF(C330=\"\",\"\",IF(ISERROR(二月),\"\",二月+SUMIF($C$322:$C330,$C330,$H$322:$H330)-SUMIF($C$322:$C330,C330,$I$322:$I330)))","v":""}]
[null,null,null,null,null,null,null,null,null,{"$f":"IF($E331<>\"\",IF(ISERROR($J$320+SUM($H$322:$H331)-SUM($I$322:$I331)),\"チェック\",$J$320+SUM($H$322:$H331)-SUM($I$322:$I331)),IF(OR(H331<>\"\",I331<>\"\"),\"科目入力\",\"\"))","v":""},{"$f":"IF(C331=\"\",\"\",IF(ISERROR(二月),\"\",二月+SUMIF($C$322:$C331,$C331,$H$322:$H331)-SUMIF($C$322:$C331,C331,$I$322:$I331)))","v":""}]
[null,null,null,null,null,null,null,null,null,{"$f":"IF($E332<>\"\",IF(ISERROR($J$320+SUM($H$322:$H332)-SUM($I$322:$I332)),\"チェック\",$J$320+SUM($H$322:$H332)-SUM($I$322:$I332)),IF(OR(H332<>\"\",I332<>\"\"),\"科目入力\",\"\"))","v":""},{"$f":"IF(C332=\"\",\"\",IF(ISERROR(二月),\"\",二月+SUMIF($C$322:$C332,$C332,$H$322:$H332)-SUMIF($C$322:$C332,C332,$I$322:$I332)))","v":""}]
[null,null,null,null,null,null,null,null,null,{"$f":"IF($E333<>\"\",IF(ISERROR($J$320+SUM($H$322:$H333)-SUM($I$322:$I333)),\"チェック\",$J$320+SUM($H$322:$H333)-SUM($I$322:$I333)),IF(OR(H333<>\"\",I333<>\"\"),\"科目入力\",\"\"))","v":""},{"$f":"IF(C333=\"\",\"\",IF(ISERROR(二月),\"\",二月+SUMIF($C$322:$C333,$C333,$H$322:$H333)-SUMIF($C$322:$C333,C333,$I$322:$I333)))","v":""}]
[null,null,null,null,null,null,null,null,null,{"$f":"IF($E334<>\"\",IF(ISERROR($J$320+SUM($H$322:$H334)-SUM($I$322:$I334)),\"チェック\",$J$320+SUM($H$322:$H334)-SUM($I$322:$I334)),IF(OR(H334<>\"\",I334<>\"\"),\"科目入力\",\"\"))","v":""},{"$f":"IF(C334=\"\",\"\",IF(ISERROR(二月),\"\",二月+SUMIF($C$322:$C334,$C334,$H$322:$H334)-SUMIF($C$322:$C334,C334,$I$322:$I334)))","v":""}]
[null,null,null,null,null,null,null,null,null,{"$f":"IF($E335<>\"\",IF(ISERROR($J$320+SUM($H$322:$H335)-SUM($I$322:$I335)),\"チェック\",$J$320+SUM($H$322:$H335)-SUM($I$322:$I335)),IF(OR(H335<>\"\",I335<>\"\"),\"科目入力\",\"\"))","v":""},{"$f":"IF(C335=\"\",\"\",IF(ISERROR(二月),\"\",二月+SUMIF($C$322:$C335,$C335,$H$322:$H335)-SUMIF($C$322:$C335,C335,$I$322:$I335)))","v":""}]
[null,null,null,null,null,null,null,null,null,{"$f":"IF($E336<>\"\",IF(ISERROR($J$320+SUM($H$322:$H336)-SUM($I$322:$I336)),\"チェック\",$J$320+SUM($H$322:$H336)-SUM($I$322:$I336)),IF(OR(H336<>\"\",I336<>\"\"),\"科目入力\",\"\"))","v":""},{"$f":"IF(C336=\"\",\"\",IF(ISERROR(二月),\"\",二月+SUMIF($C$322:$C336,$C336,$H$322:$H336)-SUMIF($C$322:$C336,C336,$I$322:$I336)))","v":""}]
[null,null,null,null,null,null,null,null,null,{"$f":"IF($E337<>\"\",IF(ISERROR($J$320+SUM($H$322:$H337)-SUM($I$322:$I337)),\"チェック\",$J$320+SUM($H$322:$H337)-SUM($I$322:$I337)),IF(OR(H337<>\"\",I337<>\"\"),\"科目入力\",\"\"))","v":""},{"$f":"IF(C337=\"\",\"\",IF(ISERROR(二月),\"\",二月+SUMIF($C$322:$C337,$C337,$H$322:$H337)-SUMIF($C$322:$C337,C337,$I$322:$I337)))","v":""}]
[null,null,null,null,null,null,null,null,null,{"$f":"IF($E338<>\"\",IF(ISERROR($J$320+SUM($H$322:$H338)-SUM($I$322:$I338)),\"チェック\",$J$320+SUM($H$322:$H338)-SUM($I$322:$I338)),IF(OR(H338<>\"\",I338<>\"\"),\"科目入力\",\"\"))","v":""},{"$f":"IF(C338=\"\",\"\",IF(ISERROR(二月),\"\",二月+SUMIF($C$322:$C338,$C338,$H$322:$H338)-SUMIF($C$322:$C338,C338,$I$322:$I338)))","v":""}]
[null,null,null,null,null,null,null,null,null,{"$f":"IF($E339<>\"\",IF(ISERROR($J$320+SUM($H$322:$H339)-SUM($I$322:$I339)),\"チェック\",$J$320+SUM($H$322:$H339)-SUM($I$322:$I339)),IF(OR(H339<>\"\",I339<>\"\"),\"科目入力\",\"\"))","v":""},{"$f":"IF(C339=\"\",\"\",IF(ISERROR(二月),\"\",二月+SUMIF($C$322:$C339,$C339,$H$322:$H339)-SUMIF($C$322:$C339,C339,$I$322:$I339)))","v":""}]
[null,null,null,null,null,null,null,null,null,{"$f":"IF($E340<>\"\",IF(ISERROR($J$320+SUM($H$322:$H340)-SUM($I$322:$I340)),\"チェック\",$J$320+SUM($H$322:$H340)-SUM($I$322:$I340)),IF(OR(H340<>\"\",I340<>\"\"),\"科目入力\",\"\"))","v":""},{"$f":"IF(C340=\"\",\"\",IF(ISERROR(二月),\"\",二月+SUMIF($C$322:$C340,$C340,$H$322:$H340)-SUMIF($C$322:$C340,C340,$I$322:$I340)))","v":""}]
[null,null,null,null,null,null,null,null,null,{"$f":"IF($E341<>\"\",IF(ISERROR($J$320+SUM($H$322:$H341)-SUM($I$322:$I341)),\"チェック\",$J$320+SUM($H$322:$H341)-SUM($I$322:$I341)),IF(OR(H341<>\"\",I341<>\"\"),\"科目入力\",\"\"))","v":""},{"$f":"IF(C341=\"\",\"\",IF(ISERROR(二月),\"\",二月+SUMIF($C$322:$C341,$C341,$H$322:$H341)-SUMIF($C$322:$C341,C341,$I$322:$I341)))","v":""}]
[null,null,null,null,null,null,null,null,null,{"$f":"IF($E342<>\"\",IF(ISERROR($J$320+SUM($H$322:$H342)-SUM($I$322:$I342)),\"チェック\",$J$320+SUM($H$322:$H342)-SUM($I$322:$I342)),IF(OR(H342<>\"\",I342<>\"\"),\"科目入力\",\"\"))","v":""},{"$f":"IF(C342=\"\",\"\",IF(ISERROR(二月),\"\",二月+SUMIF($C$322:$C342,$C342,$H$322:$H342)-SUMIF($C$322:$C342,C342,$I$322:$I342)))","v":""}]
[null,null,null,null,null,null,null,null,null,{"$f":"IF($E343<>\"\",IF(ISERROR($J$320+SUM($H$322:$H343)-SUM($I$322:$I343)),\"チェック\",$J$320+SUM($H$322:$H343)-SUM($I$322:$I343)),IF(OR(H343<>\"\",I343<>\"\"),\"科目入力\",\"\"))","v":""},{"$f":"IF(C343=\"\",\"\",IF(ISERROR(二月),\"\",二月+SUMIF($C$322:$C343,$C343,$H$322:$H343)-SUMIF($C$322:$C343,C343,$I$322:$I343)))","v":""}]
[null,null,null,null,null,null,null,null,null,{"$f":"IF($E344<>\"\",IF(ISERROR($J$320+SUM($H$322:$H344)-SUM($I$322:$I344)),\"チェック\",$J$320+SUM($H$322:$H344)-SUM($I$322:$I344)),IF(OR(H344<>\"\",I344<>\"\"),\"科目入力\",\"\"))","v":""},{"$f":"IF(C344=\"\",\"\",IF(ISERROR(二月),\"\",二月+SUMIF($C$322:$C344,$C344,$H$322:$H344)-SUMIF($C$322:$C344,C344,$I$322:$I344)))","v":""}]
[null,null,null,null,null,null,null,null,null,{"$f":"IF($E345<>\"\",IF(ISERROR($J$320+SUM($H$322:$H345)-SUM($I$322:$I345)),\"チェック\",$J$320+SUM($H$322:$H345)-SUM($I$322:$I345)),IF(OR(H345<>\"\",I345<>\"\"),\"科目入力\",\"\"))","v":""},{"$f":"IF(C345=\"\",\"\",IF(ISERROR(二月),\"\",二月+SUMIF($C$322:$C345,$C345,$H$322:$H345)-SUMIF($C$322:$C345,C345,$I$322:$I345)))","v":""}]
[null,null,null,null,null,null,null,null,null,{"$f":"IF($E346<>\"\",IF(ISERROR($J$320+SUM($H$322:$H346)-SUM($I$322:$I346)),\"チェック\",$J$320+SUM($H$322:$H346)-SUM($I$322:$I346)),IF(OR(H346<>\"\",I346<>\"\"),\"科目入力\",\"\"))","v":""},{"$f":"IF(C346=\"\",\"\",IF(ISERROR(二月),\"\",二月+SUMIF($C$322:$C346,$C346,$H$322:$H346)-SUMIF($C$322:$C346,C346,$I$322:$I346)))","v":""}]
[null,null,null,null,null,null,null,null,null,{"$f":"IF($E347<>\"\",IF(ISERROR($J$320+SUM($H$322:$H347)-SUM($I$322:$I347)),\"チェック\",$J$320+SUM($H$322:$H347)-SUM($I$322:$I347)),IF(OR(H347<>\"\",I347<>\"\"),\"科目入力\",\"\"))","v":""},{"$f":"IF(C347=\"\",\"\",IF(ISERROR(二月),\"\",二月+SUMIF($C$322:$C347,$C347,$H$322:$H347)-SUMIF($C$322:$C347,C347,$I$322:$I347)))","v":""}]
[null,null,null,null,null,null,null,null,null,{"$f":"IF($E348<>\"\",IF(ISERROR($J$320+SUM($H$322:$H348)-SUM($I$322:$I348)),\"チェック\",$J$320+SUM($H$322:$H348)-SUM($I$322:$I348)),IF(OR(H348<>\"\",I348<>\"\"),\"科目入力\",\"\"))","v":""},{"$f":"IF(C348=\"\",\"\",IF(ISERROR(二月),\"\",二月+SUMIF($C$322:$C348,$C348,$H$322:$H348)-SUMIF($C$322:$C348,C348,$I$322:$I348)))","v":""}]
[null,null,null,null,null,null,null,null,null,{"$f":"IF($E349<>\"\",IF(ISERROR($J$320+SUM($H$322:$H349)-SUM($I$322:$I349)),\"チェック\",$J$320+SUM($H$322:$H349)-SUM($I$322:$I349)),IF(OR(H349<>\"\",I349<>\"\"),\"科目入力\",\"\"))","v":""},{"$f":"IF(C349=\"\",\"\",IF(ISERROR(二月),\"\",二月+SUMIF($C$322:$C349,$C349,$H$322:$H349)-SUMIF($C$322:$C349,C349,$I$322:$I349)))","v":""}]
[null,null,null,null,null,null,null,null,null,{"$f":"IF($E350<>\"\",IF(ISERROR($J$320+SUM($H$322:$H350)-SUM($I$322:$I350)),\"チェック\",$J$320+SUM($H$322:$H350)-SUM($I$322:$I350)),IF(OR(H350<>\"\",I350<>\"\"),\"科目入力\",\"\"))","v":""},{"$f":"IF(C350=\"\",\"\",IF(ISERROR(二月),\"\",二月+SUMIF($C$322:$C350,$C350,$H$322:$H350)-SUMIF($C$322:$C350,C350,$I$322:$I350)))","v":""}]
[null,null,null,null,null,null,null,null,null,{"$f":"IF($E351<>\"\",IF(ISERROR($J$320+SUM($H$322:$H351)-SUM($I$322:$I351)),\"チェック\",$J$320+SUM($H$322:$H351)-SUM($I$322:$I351)),IF(OR(H351<>\"\",I351<>\"\"),\"科目入力\",\"\"))","v":""},{"$f":"IF(C351=\"\",\"\",IF(ISERROR(二月),\"\",二月+SUMIF($C$322:$C351,$C351,$H$322:$H351)-SUMIF($C$322:$C351,C351,$I$322:$I351)))","v":""}]
[null,null,null,null,null,null,null,null,null,{"$f":"IF($E352<>\"\",IF(ISERROR($J$320+SUM($H$322:$H352)-SUM($I$322:$I352)),\"チェック\",$J$320+SUM($H$322:$H352)-SUM($I$322:$I352)),IF(OR(H352<>\"\",I352<>\"\"),\"科目入力\",\"\"))","v":""},{"$f":"IF(C352=\"\",\"\",IF(ISERROR(二月),\"\",二月+SUMIF($C$322:$C352,$C352,$H$322:$H352)-SUMIF($C$322:$C352,C352,$I$322:$I352)))","v":""}]
[null,null,null,null,null,null,null,null,null,{"$f":"IF($E353<>\"\",IF(ISERROR($J$320+SUM($H$322:$H353)-SUM($I$322:$I353)),\"チェック\",$J$320+SUM($H$322:$H353)-SUM($I$322:$I353)),IF(OR(H353<>\"\",I353<>\"\"),\"科目入力\",\"\"))","v":""},{"$f":"IF(C353=\"\",\"\",IF(ISERROR(二月),\"\",二月+SUMIF($C$322:$C353,$C353,$H$322:$H353)-SUMIF($C$322:$C353,C353,$I$322:$I353)))","v":""}]
[null,null,null,null,null,null,null,null,null,{"$f":"IF($E354<>\"\",IF(ISERROR($J$320+SUM($H$322:$H354)-SUM($I$322:$I354)),\"チェック\",$J$320+SUM($H$322:$H354)-SUM($I$322:$I354)),IF(OR(H354<>\"\",I354<>\"\"),\"科目入力\",\"\"))","v":""},{"$f":"IF(C354=\"\",\"\",IF(ISERROR(二月),\"\",二月+SUMIF($C$322:$C354,$C354,$H$322:$H354)-SUMIF($C$322:$C354,C354,$I$322:$I354)))","v":""}]
[null,null,null,null,null,null,null,null,null,{"$f":"IF($E355<>\"\",IF(ISERROR($J$320+SUM($H$322:$H355)-SUM($I$322:$I355)),\"チェック\",$J$320+SUM($H$322:$H355)-SUM($I$322:$I355)),IF(OR(H355<>\"\",I355<>\"\"),\"科目入力\",\"\"))","v":""},{"$f":"IF(C355=\"\",\"\",IF(ISERROR(二月),\"\",二月+SUMIF($C$322:$C355,$C355,$H$322:$H355)-SUMIF($C$322:$C355,C355,$I$322:$I355)))","v":""}]
[null,null,null,null,null,null,null,null,null,{"$f":"IF($E356<>\"\",IF(ISERROR($J$320+SUM($H$322:$H356)-SUM($I$322:$I356)),\"チェック\",$J$320+SUM($H$322:$H356)-SUM($I$322:$I356)),IF(OR(H356<>\"\",I356<>\"\"),\"科目入力\",\"\"))","v":""},{"$f":"IF(C356=\"\",\"\",IF(ISERROR(二月),\"\",二月+SUMIF($C$322:$C356,$C356,$H$322:$H356)-SUMIF($C$322:$C356,C356,$I$322:$I356)))","v":""}]
[null,null,null,null,null,null,null,null,null,{"$f":"IF($E357<>\"\",IF(ISERROR($J$320+SUM($H$322:$H357)-SUM($I$322:$I357)),\"チェック\",$J$320+SUM($H$322:$H357)-SUM($I$322:$I357)),IF(OR(H357<>\"\",I357<>\"\"),\"科目入力\",\"\"))","v":""},{"$f":"IF(C357=\"\",\"\",IF(ISERROR(二月),\"\",二月+SUMIF($C$322:$C357,$C357,$H$322:$H357)-SUMIF($C$322:$C357,C357,$I$322:$I357)))","v":""}]
[null,null,null,null,null,null,null,null,null,{"$f":"IF($E358<>\"\",IF(ISERROR($J$320+SUM($H$322:$H358)-SUM($I$322:$I358)),\"チェック\",$J$320+SUM($H$322:$H358)-SUM($I$322:$I358)),IF(OR(H358<>\"\",I358<>\"\"),\"科目入力\",\"\"))","v":""},{"$f":"IF(C358=\"\",\"\",IF(ISERROR(二月),\"\",二月+SUMIF($C$322:$C358,$C358,$H$322:$H358)-SUMIF($C$322:$C358,C358,$I$322:$I358)))","v":""}]
[null,null,null,null,null,null,null,null,null,{"$f":"IF($E359<>\"\",IF(ISERROR($J$320+SUM($H$322:$H359)-SUM($I$322:$I359)),\"チェック\",$J$320+SUM($H$322:$H359)-SUM($I$322:$I359)),IF(OR(H359<>\"\",I359<>\"\"),\"科目入力\",\"\"))","v":""},{"$f":"IF(C359=\"\",\"\",IF(ISERROR(二月),\"\",二月+SUMIF($C$322:$C359,$C359,$H$322:$H359)-SUMIF($C$322:$C359,C359,$I$322:$I359)))","v":""}]
[null,null,null,null,null,null,null,null,null,{"$f":"IF($E360<>\"\",IF(ISERROR($J$320+SUM($H$322:$H360)-SUM($I$322:$I360)),\"チェック\",$J$320+SUM($H$322:$H360)-SUM($I$322:$I360)),IF(OR(H360<>\"\",I360<>\"\"),\"科目入力\",\"\"))","v":""},{"$f":"IF(C360=\"\",\"\",IF(ISERROR(二月),\"\",二月+SUMIF($C$322:$C360,$C360,$H$322:$H360)-SUMIF($C$322:$C360,C360,$I$322:$I360)))","v":""}]
[null,null,null,null,null,null,null,null,null,{"$f":"IF($E361<>\"\",IF(ISERROR($J$320+SUM($H$322:$H361)-SUM($I$322:$I361)),\"チェック\",$J$320+SUM($H$322:$H361)-SUM($I$322:$I361)),IF(OR(H361<>\"\",I361<>\"\"),\"科目入力\",\"\"))","v":""},{"$f":"IF(C361=\"\",\"\",IF(ISERROR(二月),\"\",二月+SUMIF($C$322:$C361,$C361,$H$322:$H361)-SUMIF($C$322:$C361,C361,$I$322:$I361)))","v":""}]
[null,null,null,null,null,null,null,null,null,{"$f":"IF($E362<>\"\",IF(ISERROR($J$320+SUM($H$322:$H362)-SUM($I$322:$I362)),\"チェック\",$J$320+SUM($H$322:$H362)-SUM($I$322:$I362)),IF(OR(H362<>\"\",I362<>\"\"),\"科目入力\",\"\"))","v":""},{"$f":"IF(C362=\"\",\"\",IF(ISERROR(二月),\"\",二月+SUMIF($C$322:$C362,$C362,$H$322:$H362)-SUMIF($C$322:$C362,C362,$I$322:$I362)))","v":""}]
[null,null,null,null,null,null,null,null,null,{"$f":"IF($E363<>\"\",IF(ISERROR($J$320+SUM($H$322:$H363)-SUM($I$322:$I363)),\"チェック\",$J$320+SUM($H$322:$H363)-SUM($I$322:$I363)),IF(OR(H363<>\"\",I363<>\"\"),\"科目入力\",\"\"))","v":""},{"$f":"IF(C363=\"\",\"\",IF(ISERROR(二月),\"\",二月+SUMIF($C$322:$C363,$C363,$H$322:$H363)-SUMIF($C$322:$C363,C363,$I$322:$I363)))","v":""}]
[null,null,null,null,null,null,null,null,null,{"$f":"IF($E364<>\"\",IF(ISERROR($J$320+SUM($H$322:$H364)-SUM($I$322:$I364)),\"チェック\",$J$320+SUM($H$322:$H364)-SUM($I$322:$I364)),IF(OR(H364<>\"\",I364<>\"\"),\"科目入力\",\"\"))","v":""},{"$f":"IF(C364=\"\",\"\",IF(ISERROR(二月),\"\",二月+SUMIF($C$322:$C364,$C364,$H$322:$H364)-SUMIF($C$322:$C364,C364,$I$322:$I364)))","v":""}]
[null,null,null,null,null,null,null,null,null,{"$f":"IF($E365<>\"\",IF(ISERROR($J$320+SUM($H$322:$H365)-SUM($I$322:$I365)),\"チェック\",$J$320+SUM($H$322:$H365)-SUM($I$322:$I365)),IF(OR(H365<>\"\",I365<>\"\"),\"科目入力\",\"\"))","v":""},{"$f":"IF(C365=\"\",\"\",IF(ISERROR(二月),\"\",二月+SUMIF($C$322:$C365,$C365,$H$322:$H365)-SUMIF($C$322:$C365,C365,$I$322:$I365)))","v":""}]
[null,null,null,null,null,null,null,null,null,{"$f":"IF($E366<>\"\",IF(ISERROR($J$320+SUM($H$322:$H366)-SUM($I$322:$I366)),\"チェック\",$J$320+SUM($H$322:$H366)-SUM($I$322:$I366)),IF(OR(H366<>\"\",I366<>\"\"),\"科目入力\",\"\"))","v":""},{"$f":"IF(C366=\"\",\"\",IF(ISERROR(二月),\"\",二月+SUMIF($C$322:$C366,$C366,$H$322:$H366)-SUMIF($C$322:$C366,C366,$I$322:$I366)))","v":""}]
[null,null,null,null,null,null,null,null,null,{"$f":"IF($E367<>\"\",IF(ISERROR($J$320+SUM($H$322:$H367)-SUM($I$322:$I367)),\"チェック\",$J$320+SUM($H$322:$H367)-SUM($I$322:$I367)),IF(OR(H367<>\"\",I367<>\"\"),\"科目入力\",\"\"))","v":""},{"$f":"IF(C367=\"\",\"\",IF(ISERROR(二月),\"\",二月+SUMIF($C$322:$C367,$C367,$H$322:$H367)-SUMIF($C$322:$C367,C367,$I$322:$I367)))","v":""}]
[null,null,null,null,null,null,null,null,null,{"$f":"IF($E368<>\"\",IF(ISERROR($J$320+SUM($H$322:$H368)-SUM($I$322:$I368)),\"チェック\",$J$320+SUM($H$322:$H368)-SUM($I$322:$I368)),IF(OR(H368<>\"\",I368<>\"\"),\"科目入力\",\"\"))","v":""},{"$f":"IF(C368=\"\",\"\",IF(ISERROR(二月),\"\",二月+SUMIF($C$322:$C368,$C368,$H$322:$H368)-SUMIF($C$322:$C368,C368,$I$322:$I368)))","v":""}]
[null,null,null,null,null,null,null,null,null,{"$f":"IF($E369<>\"\",IF(ISERROR($J$320+SUM($H$322:$H369)-SUM($I$322:$I369)),\"チェック\",$J$320+SUM($H$322:$H369)-SUM($I$322:$I369)),IF(OR(H369<>\"\",I369<>\"\"),\"科目入力\",\"\"))","v":""},{"$f":"IF(C369=\"\",\"\",IF(ISERROR(二月),\"\",二月+SUMIF($C$322:$C369,$C369,$H$322:$H369)-SUMIF($C$322:$C369,C369,$I$322:$I369)))","v":""}]
[null,null,null,null,null,null,null,null,null,{"$f":"IF($E370<>\"\",IF(ISERROR($J$320+SUM($H$322:$H370)-SUM($I$322:$I370)),\"チェック\",$J$320+SUM($H$322:$H370)-SUM($I$322:$I370)),IF(OR(H370<>\"\",I370<>\"\"),\"科目入力\",\"\"))","v":""},{"$f":"IF(C370=\"\",\"\",IF(ISERROR(二月),\"\",二月+SUMIF($C$322:$C370,$C370,$H$322:$H370)-SUMIF($C$322:$C370,C370,$I$322:$I370)))","v":""}]
[null,null,null,null,null,null,null,null,null,{"$f":"IF($E371<>\"\",IF(ISERROR($J$320+SUM($H$322:$H371)-SUM($I$322:$I371)),\"チェック\",$J$320+SUM($H$322:$H371)-SUM($I$322:$I371)),IF(OR(H371<>\"\",I371<>\"\"),\"科目入力\",\"\"))","v":""},{"$f":"IF(C371=\"\",\"\",IF(ISERROR(二月),\"\",二月+SUMIF($C$322:$C371,$C371,$H$322:$H371)-SUMIF($C$322:$C371,C371,$I$322:$I371)))","v":""}]
[null,null,null,null,null,null,null,null,null,{"$f":"IF($E372<>\"\",IF(ISERROR($J$320+SUM($H$322:$H372)-SUM($I$322:$I372)),\"チェック\",$J$320+SUM($H$322:$H372)-SUM($I$322:$I372)),IF(OR(H372<>\"\",I372<>\"\"),\"科目入力\",\"\"))","v":""},{"$f":"IF(C372=\"\",\"\",IF(ISERROR(二月),\"\",二月+SUMIF($C$322:$C372,$C372,$H$322:$H372)-SUMIF($C$322:$C372,C372,$I$322:$I372)))","v":""}]
[null,null,null,null,null,null,null,null,null,{"$f":"IF($E373<>\"\",IF(ISERROR($J$320+SUM($H$322:$H373)-SUM($I$322:$I373)),\"チェック\",$J$320+SUM($H$322:$H373)-SUM($I$322:$I373)),IF(OR(H373<>\"\",I373<>\"\"),\"科目入力\",\"\"))","v":""},{"$f":"IF(C373=\"\",\"\",IF(ISERROR(二月),\"\",二月+SUMIF($C$322:$C373,$C373,$H$322:$H373)-SUMIF($C$322:$C373,C373,$I$322:$I373)))","v":""}]
[null,null,null,null,null,null,null,null,null,{"$f":"IF($E374<>\"\",IF(ISERROR($J$320+SUM($H$322:$H374)-SUM($I$322:$I374)),\"チェック\",$J$320+SUM($H$322:$H374)-SUM($I$322:$I374)),IF(OR(H374<>\"\",I374<>\"\"),\"科目入力\",\"\"))","v":""},{"$f":"IF(C374=\"\",\"\",IF(ISERROR(二月),\"\",二月+SUMIF($C$322:$C374,$C374,$H$322:$H374)-SUMIF($C$322:$C374,C374,$I$322:$I374)))","v":""}]
[null,null,null,null,null,null,null,null,null,{"$f":"IF($E375<>\"\",IF(ISERROR($J$320+SUM($H$322:$H375)-SUM($I$322:$I375)),\"チェック\",$J$320+SUM($H$322:$H375)-SUM($I$322:$I375)),IF(OR(H375<>\"\",I375<>\"\"),\"科目入力\",\"\"))","v":""},{"$f":"IF(C375=\"\",\"\",IF(ISERROR(二月),\"\",二月+SUMIF($C$322:$C375,$C375,$H$322:$H375)-SUMIF($C$322:$C375,C375,$I$322:$I375)))","v":""}]
[null,null,null,null,null,null,null,null,null,{"$f":"IF($E376<>\"\",IF(ISERROR($J$320+SUM($H$322:$H376)-SUM($I$322:$I376)),\"チェック\",$J$320+SUM($H$322:$H376)-SUM($I$322:$I376)),IF(OR(H376<>\"\",I376<>\"\"),\"科目入力\",\"\"))","v":""},{"$f":"IF(C376=\"\",\"\",IF(ISERROR(二月),\"\",二月+SUMIF($C$322:$C376,$C376,$H$322:$H376)-SUMIF($C$322:$C376,C376,$I$322:$I376)))","v":""}]
[null,null,null,null,null,null,null,null,null,{"$f":"IF($E377<>\"\",IF(ISERROR($J$320+SUM($H$322:$H377)-SUM($I$322:$I377)),\"チェック\",$J$320+SUM($H$322:$H377)-SUM($I$322:$I377)),IF(OR(H377<>\"\",I377<>\"\"),\"科目入力\",\"\"))","v":""},{"$f":"IF(C377=\"\",\"\",IF(ISERROR(二月),\"\",二月+SUMIF($C$322:$C377,$C377,$H$322:$H377)-SUMIF($C$322:$C377,C377,$I$322:$I377)))","v":""}]
[null,null,null,null,null,null,null,null,null,{"$f":"IF($E378<>\"\",IF(ISERROR($J$320+SUM($H$322:$H378)-SUM($I$322:$I378)),\"チェック\",$J$320+SUM($H$322:$H378)-SUM($I$322:$I378)),IF(OR(H378<>\"\",I378<>\"\"),\"科目入力\",\"\"))","v":""},{"$f":"IF(C378=\"\",\"\",IF(ISERROR(二月),\"\",二月+SUMIF($C$322:$C378,$C378,$H$322:$H378)-SUMIF($C$322:$C378,C378,$I$322:$I378)))","v":""}]
[null,null,null,null,null,null,null,null,null,{"$f":"IF($E379<>\"\",IF(ISERROR($J$320+SUM($H$322:$H379)-SUM($I$322:$I379)),\"チェック\",$J$320+SUM($H$322:$H379)-SUM($I$322:$I379)),IF(OR(H379<>\"\",I379<>\"\"),\"科目入力\",\"\"))","v":""},{"$f":"IF(C379=\"\",\"\",IF(ISERROR(二月),\"\",二月+SUMIF($C$322:$C379,$C379,$H$322:$H379)-SUMIF($C$322:$C379,C379,$I$322:$I379)))","v":""}]
[null,null,null,null,null,null,null,null,null,{"$f":"IF($E380<>\"\",IF(ISERROR($J$320+SUM($H$322:$H380)-SUM($I$322:$I380)),\"チェック\",$J$320+SUM($H$322:$H380)-SUM($I$322:$I380)),IF(OR(H380<>\"\",I380<>\"\"),\"科目入力\",\"\"))","v":""},{"$f":"IF(C380=\"\",\"\",IF(ISERROR(二月),\"\",二月+SUMIF($C$322:$C380,$C380,$H$322:$H380)-SUMIF($C$322:$C380,C380,$I$322:$I380)))","v":""}]
[null,null,null,null,null,null,null,null,null,{"$f":"IF($E381<>\"\",IF(ISERROR($J$320+SUM($H$322:$H381)-SUM($I$322:$I381)),\"チェック\",$J$320+SUM($H$322:$H381)-SUM($I$322:$I381)),IF(OR(H381<>\"\",I381<>\"\"),\"科目入力\",\"\"))","v":""},{"$f":"IF(C381=\"\",\"\",IF(ISERROR(二月),\"\",二月+SUMIF($C$322:$C381,$C381,$H$322:$H381)-SUMIF($C$322:$C381,C381,$I$322:$I381)))","v":""}]
[null,null,null,null,null,null,null,null,null,{"$f":"IF($E382<>\"\",IF(ISERROR($J$320+SUM($H$322:$H382)-SUM($I$322:$I382)),\"チェック\",$J$320+SUM($H$322:$H382)-SUM($I$322:$I382)),IF(OR(H382<>\"\",I382<>\"\"),\"科目入力\",\"\"))","v":""},{"$f":"IF(C382=\"\",\"\",IF(ISERROR(二月),\"\",二月+SUMIF($C$322:$C382,$C382,$H$322:$H382)-SUMIF($C$322:$C382,C382,$I$322:$I382)))","v":""}]
[null,null,null,null,null,null,null,null,null,{"$f":"IF($E383<>\"\",IF(ISERROR($J$320+SUM($H$322:$H383)-SUM($I$322:$I383)),\"チェック\",$J$320+SUM($H$322:$H383)-SUM($I$322:$I383)),IF(OR(H383<>\"\",I383<>\"\"),\"科目入力\",\"\"))","v":""},{"$f":"IF(C383=\"\",\"\",IF(ISERROR(二月),\"\",二月+SUMIF($C$322:$C383,$C383,$H$322:$H383)-SUMIF($C$322:$C383,C383,$I$322:$I383)))","v":""}]
[null,null,null,null,null,null,null,null,null,{"$f":"IF($E384<>\"\",IF(ISERROR($J$320+SUM($H$322:$H384)-SUM($I$322:$I384)),\"チェック\",$J$320+SUM($H$322:$H384)-SUM($I$322:$I384)),IF(OR(H384<>\"\",I384<>\"\"),\"科目入力\",\"\"))","v":""},{"$f":"IF(C384=\"\",\"\",IF(ISERROR(二月),\"\",二月+SUMIF($C$322:$C384,$C384,$H$322:$H384)-SUMIF($C$322:$C384,C384,$I$322:$I384)))","v":""}]
[null,null,null,null,null,null,null,null,null,{"$f":"IF($E385<>\"\",IF(ISERROR($J$320+SUM($H$322:$H385)-SUM($I$322:$I385)),\"チェック\",$J$320+SUM($H$322:$H385)-SUM($I$322:$I385)),IF(OR(H385<>\"\",I385<>\"\"),\"科目入力\",\"\"))","v":""},{"$f":"IF(C385=\"\",\"\",IF(ISERROR(二月),\"\",二月+SUMIF($C$322:$C385,$C385,$H$322:$H385)-SUMIF($C$322:$C385,C385,$I$322:$I385)))","v":""}]
[null,null,null,null,null,null,null,null,null,{"$f":"IF($E386<>\"\",IF(ISERROR($J$320+SUM($H$322:$H386)-SUM($I$322:$I386)),\"チェック\",$J$320+SUM($H$322:$H386)-SUM($I$322:$I386)),IF(OR(H386<>\"\",I386<>\"\"),\"科目入力\",\"\"))","v":""},{"$f":"IF(C386=\"\",\"\",IF(ISERROR(二月),\"\",二月+SUMIF($C$322:$C386,$C386,$H$322:$H386)-SUMIF($C$322:$C386,C386,$I$322:$I386)))","v":""}]
[null,null,null,null,null,null,null,null,null,{"$f":"IF($E387<>\"\",IF(ISERROR($J$320+SUM($H$322:$H387)-SUM($I$322:$I387)),\"チェック\",$J$320+SUM($H$322:$H387)-SUM($I$322:$I387)),IF(OR(H387<>\"\",I387<>\"\"),\"科目入力\",\"\"))","v":""},{"$f":"IF(C387=\"\",\"\",IF(ISERROR(二月),\"\",二月+SUMIF($C$322:$C387,$C387,$H$322:$H387)-SUMIF($C$322:$C387,C387,$I$322:$I387)))","v":""}]
[null,null,null,null,null,null,null,null,null,{"$f":"IF($E388<>\"\",IF(ISERROR($J$320+SUM($H$322:$H388)-SUM($I$322:$I388)),\"チェック\",$J$320+SUM($H$322:$H388)-SUM($I$322:$I388)),IF(OR(H388<>\"\",I388<>\"\"),\"科目入力\",\"\"))","v":""},{"$f":"IF(C388=\"\",\"\",IF(ISERROR(二月),\"\",二月+SUMIF($C$322:$C388,$C388,$H$322:$H388)-SUMIF($C$322:$C388,C388,$I$322:$I388)))","v":""}]
[null,null,null,null,null,null,null,null,null,{"$f":"IF($E389<>\"\",IF(ISERROR($J$320+SUM($H$322:$H389)-SUM($I$322:$I389)),\"チェック\",$J$320+SUM($H$322:$H389)-SUM($I$322:$I389)),IF(OR(H389<>\"\",I389<>\"\"),\"科目入力\",\"\"))","v":""},{"$f":"IF(C389=\"\",\"\",IF(ISERROR(二月),\"\",二月+SUMIF($C$322:$C389,$C389,$H$322:$H389)-SUMIF($C$322:$C389,C389,$I$322:$I389)))","v":""}]
[null,null,null,null,null,null,null,null,null,{"$f":"IF($E390<>\"\",IF(ISERROR($J$320+SUM($H$322:$H390)-SUM($I$322:$I390)),\"チェック\",$J$320+SUM($H$322:$H390)-SUM($I$322:$I390)),IF(OR(H390<>\"\",I390<>\"\"),\"科目入力\",\"\"))","v":""},{"$f":"IF(C390=\"\",\"\",IF(ISERROR(二月),\"\",二月+SUMIF($C$322:$C390,$C390,$H$322:$H390)-SUMIF($C$322:$C390,C390,$I$322:$I390)))","v":""}]
[null,null,null,null,null,null,null,null,null,{"$f":"IF($E391<>\"\",IF(ISERROR($J$320+SUM($H$322:$H391)-SUM($I$322:$I391)),\"チェック\",$J$320+SUM($H$322:$H391)-SUM($I$322:$I391)),IF(OR(H391<>\"\",I391<>\"\"),\"科目入力\",\"\"))","v":""},{"$f":"IF(C391=\"\",\"\",IF(ISERROR(二月),\"\",二月+SUMIF($C$322:$C391,$C391,$H$322:$H391)-SUMIF($C$322:$C391,C391,$I$322:$I391)))","v":""}]
[null,null,null,null,null,null,null,null,null,{"$f":"IF($E392<>\"\",IF(ISERROR($J$320+SUM($H$322:$H392)-SUM($I$322:$I392)),\"チェック\",$J$320+SUM($H$322:$H392)-SUM($I$322:$I392)),IF(OR(H392<>\"\",I392<>\"\"),\"科目入力\",\"\"))","v":""},{"$f":"IF(C392=\"\",\"\",IF(ISERROR(二月),\"\",二月+SUMIF($C$322:$C392,$C392,$H$322:$H392)-SUMIF($C$322:$C392,C392,$I$322:$I392)))","v":""}]
[null,null,null,null,null,null,null,null,null,{"$f":"IF($E393<>\"\",IF(ISERROR($J$320+SUM($H$322:$H393)-SUM($I$322:$I393)),\"チェック\",$J$320+SUM($H$322:$H393)-SUM($I$322:$I393)),IF(OR(H393<>\"\",I393<>\"\"),\"科目入力\",\"\"))","v":""},{"$f":"IF(C393=\"\",\"\",IF(ISERROR(二月),\"\",二月+SUMIF($C$322:$C393,$C393,$H$322:$H393)-SUMIF($C$322:$C393,C393,$I$322:$I393)))","v":""}]
[null,null,null,null,null,null,null,null,null,{"$f":"IF($E394<>\"\",IF(ISERROR($J$320+SUM($H$322:$H394)-SUM($I$322:$I394)),\"チェック\",$J$320+SUM($H$322:$H394)-SUM($I$322:$I394)),IF(OR(H394<>\"\",I394<>\"\"),\"科目入力\",\"\"))","v":""},{"$f":"IF(C394=\"\",\"\",IF(ISERROR(二月),\"\",二月+SUMIF($C$322:$C394,$C394,$H$322:$H394)-SUMIF($C$322:$C394,C394,$I$322:$I394)))","v":""}]
[null,null,null,null,null,null,null,null,null,{"$f":"IF($E395<>\"\",IF(ISERROR($J$320+SUM($H$322:$H395)-SUM($I$322:$I395)),\"チェック\",$J$320+SUM($H$322:$H395)-SUM($I$322:$I395)),IF(OR(H395<>\"\",I395<>\"\"),\"科目入力\",\"\"))","v":""},{"$f":"IF(C395=\"\",\"\",IF(ISERROR(二月),\"\",二月+SUMIF($C$322:$C395,$C395,$H$322:$H395)-SUMIF($C$322:$C395,C395,$I$322:$I395)))","v":""}]
[null,null,null,null,null,null,null,null,null,{"$f":"IF($E396<>\"\",IF(ISERROR($J$320+SUM($H$322:$H396)-SUM($I$322:$I396)),\"チェック\",$J$320+SUM($H$322:$H396)-SUM($I$322:$I396)),IF(OR(H396<>\"\",I396<>\"\"),\"科目入力\",\"\"))","v":""},{"$f":"IF(C396=\"\",\"\",IF(ISERROR(二月),\"\",二月+SUMIF($C$322:$C396,$C396,$H$322:$H396)-SUMIF($C$322:$C396,C396,$I$322:$I396)))","v":""}]
[null,null,null,null,null,null,null,null,null,{"$f":"IF($E397<>\"\",IF(ISERROR($J$320+SUM($H$322:$H397)-SUM($I$322:$I397)),\"チェック\",$J$320+SUM($H$322:$H397)-SUM($I$322:$I397)),IF(OR(H397<>\"\",I397<>\"\"),\"科目入力\",\"\"))","v":""},{"$f":"IF(C397=\"\",\"\",IF(ISERROR(二月),\"\",二月+SUMIF($C$322:$C397,$C397,$H$322:$H397)-SUMIF($C$322:$C397,C397,$I$322:$I397)))","v":""}]
[null,null,null,null,null,null,null,null,null,{"$f":"IF($E398<>\"\",IF(ISERROR($J$320+SUM($H$322:$H398)-SUM($I$322:$I398)),\"チェック\",$J$320+SUM($H$322:$H398)-SUM($I$322:$I398)),IF(OR(H398<>\"\",I398<>\"\"),\"科目入力\",\"\"))","v":""},{"$f":"IF(C398=\"\",\"\",IF(ISERROR(二月),\"\",二月+SUMIF($C$322:$C398,$C398,$H$322:$H398)-SUMIF($C$322:$C398,C398,$I$322:$I398)))","v":""}]
[null,null,null,null,null,null,null,null,null,{"$f":"IF($E399<>\"\",IF(ISERROR($J$320+SUM($H$322:$H399)-SUM($I$322:$I399)),\"チェック\",$J$320+SUM($H$322:$H399)-SUM($I$322:$I399)),IF(OR(H399<>\"\",I399<>\"\"),\"科目入力\",\"\"))","v":""},{"$f":"IF(C399=\"\",\"\",IF(ISERROR(二月),\"\",二月+SUMIF($C$322:$C399,$C399,$H$322:$H399)-SUMIF($C$322:$C399,C399,$I$322:$I399)))","v":""}]
[null,null,null,null,null,null,null,null,null,{"$f":"IF($E400<>\"\",IF(ISERROR($J$320+SUM($H$322:$H400)-SUM($I$322:$I400)),\"チェック\",$J$320+SUM($H$322:$H400)-SUM($I$322:$I400)),IF(OR(H400<>\"\",I400<>\"\"),\"科目入力\",\"\"))","v":""},{"$f":"IF(C400=\"\",\"\",IF(ISERROR(二月),\"\",二月+SUMIF($C$322:$C400,$C400,$H$322:$H400)-SUMIF($C$322:$C400,C400,$I$322:$I400)))","v":""}]
[null,null,null,null,null,null,null,null,null,{"$f":"IF($E401<>\"\",IF(ISERROR($J$320+SUM($H$322:$H401)-SUM($I$322:$I401)),\"チェック\",$J$320+SUM($H$322:$H401)-SUM($I$322:$I401)),IF(OR(H401<>\"\",I401<>\"\"),\"科目入力\",\"\"))","v":""},{"$f":"IF(C401=\"\",\"\",IF(ISERROR(二月),\"\",二月+SUMIF($C$322:$C401,$C401,$H$322:$H401)-SUMIF($C$322:$C401,C401,$I$322:$I401)))","v":""}]
[null,null,null,null,null,null,null,null,null,{"$f":"IF($E402<>\"\",IF(ISERROR($J$320+SUM($H$322:$H402)-SUM($I$322:$I402)),\"チェック\",$J$320+SUM($H$322:$H402)-SUM($I$322:$I402)),IF(OR(H402<>\"\",I402<>\"\"),\"科目入力\",\"\"))","v":""},{"$f":"IF(C402=\"\",\"\",IF(ISERROR(二月),\"\",二月+SUMIF($C$322:$C402,$C402,$H$322:$H402)-SUMIF($C$322:$C402,C402,$I$322:$I402)))","v":""}]
[null,null,null,null,null,null,null,null,null,{"$f":"IF($E403<>\"\",IF(ISERROR($J$320+SUM($H$322:$H403)-SUM($I$322:$I403)),\"チェック\",$J$320+SUM($H$322:$H403)-SUM($I$322:$I403)),IF(OR(H403<>\"\",I403<>\"\"),\"科目入力\",\"\"))","v":""},{"$f":"IF(C403=\"\",\"\",IF(ISERROR(二月),\"\",二月+SUMIF($C$322:$C403,$C403,$H$322:$H403)-SUMIF($C$322:$C403,C403,$I$322:$I403)))","v":""}]
[null,null,null,null,null,null,null,null,null,{"$f":"IF($E404<>\"\",IF(ISERROR($J$320+SUM($H$322:$H404)-SUM($I$322:$I404)),\"チェック\",$J$320+SUM($H$322:$H404)-SUM($I$322:$I404)),IF(OR(H404<>\"\",I404<>\"\"),\"科目入力\",\"\"))","v":""},{"$f":"IF(C404=\"\",\"\",IF(ISERROR(二月),\"\",二月+SUMIF($C$322:$C404,$C404,$H$322:$H404)-SUMIF($C$322:$C404,C404,$I$322:$I404)))","v":""}]
[null,null,null,null,null,null,null,null,null,{"$f":"IF($E405<>\"\",IF(ISERROR($J$320+SUM($H$322:$H405)-SUM($I$322:$I405)),\"チェック\",$J$320+SUM($H$322:$H405)-SUM($I$322:$I405)),IF(OR(H405<>\"\",I405<>\"\"),\"科目入力\",\"\"))","v":""},{"$f":"IF(C405=\"\",\"\",IF(ISERROR(二月),\"\",二月+SUMIF($C$322:$C405,$C405,$H$322:$H405)-SUMIF($C$322:$C405,C405,$I$322:$I405)))","v":""}]
[null,null,null,null,null,null,null,null,null,{"$f":"IF($E406<>\"\",IF(ISERROR($J$320+SUM($H$322:$H406)-SUM($I$322:$I406)),\"チェック\",$J$320+SUM($H$322:$H406)-SUM($I$322:$I406)),IF(OR(H406<>\"\",I406<>\"\"),\"科目入力\",\"\"))","v":""},{"$f":"IF(C406=\"\",\"\",IF(ISERROR(二月),\"\",二月+SUMIF($C$322:$C406,$C406,$H$322:$H406)-SUMIF($C$322:$C406,C406,$I$322:$I406)))","v":""}]
[null,null,null,null,null,null,null,null,null,{"$f":"IF($E407<>\"\",IF(ISERROR($J$320+SUM($H$322:$H407)-SUM($I$322:$I407)),\"チェック\",$J$320+SUM($H$322:$H407)-SUM($I$322:$I407)),IF(OR(H407<>\"\",I407<>\"\"),\"科目入力\",\"\"))","v":""},{"$f":"IF(C407=\"\",\"\",IF(ISERROR(二月),\"\",二月+SUMIF($C$322:$C407,$C407,$H$322:$H407)-SUMIF($C$322:$C407,C407,$I$322:$I407)))","v":""}]
[null,null,null,null,null,null,null,null,null,{"$f":"IF($E408<>\"\",IF(ISERROR($J$320+SUM($H$322:$H408)-SUM($I$322:$I408)),\"チェック\",$J$320+SUM($H$322:$H408)-SUM($I$322:$I408)),IF(OR(H408<>\"\",I408<>\"\"),\"科目入力\",\"\"))","v":""},{"$f":"IF(C408=\"\",\"\",IF(ISERROR(二月),\"\",二月+SUMIF($C$322:$C408,$C408,$H$322:$H408)-SUMIF($C$322:$C408,C408,$I$322:$I408)))","v":""}]
[null,null,null,null,null,null,null,null,null,{"$f":"IF($E409<>\"\",IF(ISERROR($J$320+SUM($H$322:$H409)-SUM($I$322:$I409)),\"チェック\",$J$320+SUM($H$322:$H409)-SUM($I$322:$I409)),IF(OR(H409<>\"\",I409<>\"\"),\"科目入力\",\"\"))","v":""},{"$f":"IF(C409=\"\",\"\",IF(ISERROR(二月),\"\",二月+SUMIF($C$322:$C409,$C409,$H$322:$H409)-SUMIF($C$322:$C409,C409,$I$322:$I409)))","v":""}]
[null,null,null,null,null,null,null,null,null,{"$f":"IF($E410<>\"\",IF(ISERROR($J$320+SUM($H$322:$H410)-SUM($I$322:$I410)),\"チェック\",$J$320+SUM($H$322:$H410)-SUM($I$322:$I410)),IF(OR(H410<>\"\",I410<>\"\"),\"科目入力\",\"\"))","v":""},{"$f":"IF(C410=\"\",\"\",IF(ISERROR(二月),\"\",二月+SUMIF($C$322:$C410,$C410,$H$322:$H410)-SUMIF($C$322:$C410,C410,$I$322:$I410)))","v":""}]
[null,null,null,null,null,null,null,null,null,{"$f":"IF($E411<>\"\",IF(ISERROR($J$320+SUM($H$322:$H411)-SUM($I$322:$I411)),\"チェック\",$J$320+SUM($H$322:$H411)-SUM($I$322:$I411)),IF(OR(H411<>\"\",I411<>\"\"),\"科目入力\",\"\"))","v":""},{"$f":"IF(C411=\"\",\"\",IF(ISERROR(二月),\"\",二月+SUMIF($C$322:$C411,$C411,$H$322:$H411)-SUMIF($C$322:$C411,C411,$I$322:$I411)))","v":""}]
[null,null,null,null,null,null,"合　　　計　　",{"$f":"IF(SUM(H322:H411)=0,\"\",SUM(H322:H411))","v":""},{"$f":"IF(SUM(I322:I411)=0,\"\",SUM(I322:I411))","v":""},{"$f":"J320+SUM(H322:H411)-SUM(I322:I411)","v":0}]
[]
[null,null,null,null,null,null,null,"現金＋口座・その他残高",null,{"$f":"IF(集計表!E82+SUM(集計表!$C$14:$E14)-SUM(集計表!$C$76:$E76)=J315+J412,J315+J412,\"チェック\")","v":0},{"$f":"IF(J414=0,\"\",\" 円\")","v":""}]

{"sheet":"集計表","index":5,"n_rows":88,"n_cols":7,"rows_kept":88,"cut":false,"hidden":false,"merged":[[1,4,1,5],[87,2,87,3],[81,2,81,3],[83,2,83,3],[84,2,84,3],[85,2,85,3]]}
[]
[null,"令　和",{"$f":"IF(設定!$B$2=\"\",\"\",設定!$B$2-2018)","v":""},"年","　集　　　計　　　表"]
[null,"収　　　　入"]
[null,"　科　　　目",{"$f":"設定!C2&\"　　月\"","v":"　　月"},{"$f":"IF(設定!C2=12,\"1   月\",設定!C2+1&\"　　月\")","v":"1　　月"},{"$f":"IF(設定!C2=11,\"1    月\",IF(設定!C2=12,\"2   月\",設定!C2+2&\"　　月\"))","v":"2　　月"},"月平均","合　　　計"]
[null,{"$f":"IF(設定!D6=\"\",\"\",設定!D6)","v":""},{"$f":"SUM(IF('日記(1)'!$E$5:$E$411=$B5,'日記(1)'!$H$5:$H$411))","v":0},{"$f":"SUM(IF('日記(2)'!$E$5:$E$411=$B5,'日記(2)'!$H$5:$H$411))","v":0},{"$f":"SUM(IF('日記(3)'!$E$5:$E$411=$B5,'日記(3)'!$H$5:$H$411))","v":0},{"$f":"IF(ISERROR(SUM(C5:E5)/COUNTIF($C$76:$E$76,\">=1\")),\"\",SUM(C5:E5)/COUNTIF($C$76:$E$76,\">=1\"))","v":""},{"$f":"SUM(C5:E5)","v":0}]
[null,{"$f":"IF(設定!D7=\"\",\"\",設定!D7)","v":""},{"$f":"SUM(IF('日記(1)'!$E$5:$E$411=$B6,'日記(1)'!$H$5:$H$411))","v":0},{"$f":"SUM(IF('日記(2)'!$E$5:$E$411=$B6,'日記(2)'!$H$5:$H$411))","v":0},{"$f":"SUM(IF('日記(3)'!$E$5:$E$411=$B6,'日記(3)'!$H$5:$H$411))","v":0},"",0]
[null,{"$f":"IF(設定!D8=\"\",\"\",設定!D8)","v":""},{"$f":"SUM(IF('日記(1)'!$E$5:$E$411=$B7,'日記(1)'!$H$5:$H$411))","v":0},{"$f":"SUM(IF('日記(2)'!$E$5:$E$411=$B7,'日記(2)'!$H$5:$H$411))","v":0},{"$f":"SUM(IF('日記(3)'!$E$5:$E$411=$B7,'日記(3)'!$H$5:$H$411))","v":0},"",0]
[null,{"$f":"IF(設定!D9=\"\",\"\",設定!D9)","v":""},{"$f":"SUM(IF('日記(1)'!$E$5:$E$411=$B8,'日記(1)'!$H$5:$H$411))","v":0},{"$f":"SUM(IF('日記(2)'!$E$5:$E$411=$B8,'日記(2)'!$H$5:$H$411))","v":0},{"$f":"SUM(IF('日記(3)'!$E$5:$E$411=$B8,'日記(3)'!$H$5:$H$411))","v":0},"",0]
[null,{"$f":"IF(設定!D10=\"\",\"\",設定!D10)","v":""},{"$f":"SUM(IF('日記(1)'!$E$5:$E$411=$B9,'日記(1)'!$H$5:$H$411))","v":0},{"$f":"SUM(IF('日記(2)'!$E$5:$E$411=$B9,'日記(2)'!$H$5:$H$411))","v":0},{"$f":"SUM(IF('日記(3)'!$E$5:$E$411=$B9,'日記(3)'!$H$5:$H$411))","v":0},"",0]
[null,{"$f":"IF(設定!D11=\"\",\"\",設定!D11)","v":""},{"$f":"SUM(IF('日記(1)'!$E$5:$E$411=$B10,'日記(1)'!$H$5:$H$411))","v":0},{"$f":"SUM(IF('日記(2)'!$E$5:$E$411=$B10,'日記(2)'!$H$5:$H$411))","v":0},{"$f":"SUM(IF('日記(3)'!$E$5:$E$411=$B10,'日記(3)'!$H$5:$H$411))","v":0},"",0]
[null,{"$f":"IF(設定!D12=\"\",\"\",設定!D12)","v":""},{"$f":"SUM(IF('日記(1)'!$E$5:$E$411=$B11,'日記(1)'!$H$5:$H$411))","v":0},{"$f":"SUM(IF('日記(2)'!$E$5:$E$411=$B11,'日記(2)'!$H$5:$H$411))","v":0},{"$f":"SUM(IF('日記(3)'!$E$5:$E$411=$B11,'日記(3)'!$H$5:$H$411))","v":0},"",0]
[null,{"$f":"IF(設定!D13=\"\",\"\",設定!D13)","v":""},{"$f":"SUM(IF('日記(1)'!$E$5:$E$411=$B12,'日記(1)'!$H$5:$H$411))","v":0},{"$f":"SUM(IF('日記(2)'!$E$5:$E$411=$B12,'日記(2)'!$H$5:$H$411))","v":0},{"$f":"SUM(IF('日記(3)'!$E$5:$E$411=$B12,'日記(3)'!$H$5:$H$411))","v":0},"",0]
[null,{"$f":"IF(設定!D14=\"\",\"\",設定!D14)","v":""},{"$f":"SUM(IF('日記(1)'!$E$5:$E$411=$B13,'日記(1)'!$H$5:$H$411))","v":0},{"$f":"SUM(IF('日記(2)'!$E$5:$E$411=$B13,'日記(2)'!$H$5:$H$411))","v":0},{"$f":"SUM(IF('日記(3)'!$E$5:$E$411=$B13,'日記(3)'!$H$5:$H$411))","v":0},"",0]
[null,"合　　　計",{"$f":"SUM(C5:C13)","v":0},{"$f":"SUM(D5:D13)","v":0},{"$f":"SUM(E5:E13)","v":0},{"$f":"SUM(F5:F13)","v":0},{"$f":"SUM(G5:G13)","v":0}]
[]
[null,"支　　　　出"]
[null,{"$f":"IF(設定!D18=\"\",\"\",設定!D18)","v":""},{"$f":"SUM(IF('日記(1)'!$E$5:$E$411=$B17,'日記(1)'!$I$5:$I$411))","v":0},{"$f":"SUM(IF('日記(2)'!$E$5:$E$411=$B17,'日記(2)'!$I$5:$I$411))","v":0},{"$f":"SUM(IF('日記(3)'!$E$5:$E$411=$B17,'日記(3)'!$I$5:$I$411))","v":0},{"$f":"IF(ISERROR(SUM(C17:E17)/COUNTIF($C$76:$E$76,\">=1\")),\"\",SUM(C17:E17)/COUNTIF($C$76:$E$76,\">=1\"))","v":""},{"$f":"SUM(C17:E17)","v":0}]
[null,{"$f":"IF(設定!D19=\"\",\"\",設定!D19)","v":""},{"$f":"SUM(IF('日記(1)'!$E$5:$E$411=$B18,'日記(1)'!$I$5:$I$411))","v":0},{"$f":"SUM(IF('日記(2)'!$E$5:$E$411=$B18,'日記(2)'!$I$5:$I$411))","v":0},{"$f":"SUM(IF('日記(3)'!$E$5:$E$411=$B18,'日記(3)'!$I$5:$I$411))","v":0},"",0]
[null,{"$f":"IF(設定!D20=\"\",\"\",設定!D20)","v":""},{"$f":"SUM(IF('日記(1)'!$E$5:$E$411=$B19,'日記(1)'!$I$5:$I$411))","v":0},{"$f":"SUM(IF('日記(2)'!$E$5:$E$411=$B19,'日記(2)'!$I$5:$I$411))","v":0},{"$f":"SUM(IF('日記(3)'!$E$5:$E$411=$B19,'日記(3)'!$I$5:$I$411))","v":0},"",0]
[null,{"$f":"IF(設定!D21=\"\",\"\",設定!D21)","v":""},{"$f":"SUM(IF('日記(1)'!$E$5:$E$411=$B20,'日記(1)'!$I$5:$I$411))","v":0},{"$f":"SUM(IF('日記(2)'!$E$5:$E$411=$B20,'日記(2)'!$I$5:$I$411))","v":0},{"$f":"SUM(IF('日記(3)'!$E$5:$E$411=$B20,'日記(3)'!$I$5:$I$411))","v":0},"",0]
[null,{"$f":"IF(設定!D22=\"\",\"\",設定!D22)","v":""},{"$f":"SUM(IF('日記(1)'!$E$5:$E$411=$B21,'日記(1)'!$I$5:$I$411))","v":0},{"$f":"SUM(IF('日記(2)'!$E$5:$E$411=$B21,'日記(2)'!$I$5:$I$411))","v":0},{"$f":"SUM(IF('日記(3)'!$E$5:$E$411=$B21,'日記(3)'!$I$5:$I$411))","v":0},"",0]
[null,{"$f":"IF(設定!D23=\"\",\"\",設定!D23)","v":""},{"$f":"SUM(IF('日記(1)'!$E$5:$E$411=$B22,'日記(1)'!$I$5:$I$411))","v":0},{"$f":"SUM(IF('日記(2)'!$E$5:$E$411=$B22,'日記(2)'!$I$5:$I$411))","v":0},{"$f":"SUM(IF('日記(3)'!$E$5:$E$411=$B22,'日記(3)'!$I$5:$I$411))","v":0},"",0]
[null,{"$f":"IF(設定!D24=\"\",\"\",設定!D24)","v":""},{"$f":"SUM(IF('日記(1)'!$E$5:$E$411=$B23,'日記(1)'!$I$5:$I$411))","v":0},{"$f":"SUM(IF('日記(2)'!$E$5:$E$411=$B23,'日記(2)'!$I$5:$I$411))","v":0},{"$f":"SUM(IF('日記(3)'!$E$5:$E$411=$B23,'日記(3)'!$I$5:$I$411))","v":0},"",0]
[null,{"$f":"IF(設定!D25=\"\",\"\",設定!D25)","v":""},{"$f":"SUM(IF('日記(1)'!$E$5:$E$411=$B24,'日記(1)'!$I$5:$I$411))","v":0},{"$f":"SUM(IF('日記(2)'!$E$5:$E$411=$B24,'日記(2)'!$I$5:$I$411))","v":0},{"$f":"SUM(IF('日記(3)'!$E$5:$E$411=$B24,'日記(3)'!$I$5:$I$411))","v":0},"",0]
[null,{"$f":"IF(設定!D26=\"\",\"\",設定!D26)","v":""},{"$f":"SUM(IF('日記(1)'!$E$5:$E$411=$B25,'日記(1)'!$I$5:$I$411))","v":0},{"$f":"SUM(IF('日記(2)'!$E$5:$E$411=$B25,'日記(2)'!$I$5:$I$411))","v":0},{"$f":"SUM(IF('日記(3)'!$E$5:$E$411=$B25,'日記(3)'!$I$5:$I$411))","v":0},"",0]
[null,{"$f":"IF(設定!D27=\"\",\"\",設定!D27)","v":""},{"$f":"SUM(IF('日記(1)'!$E$5:$E$411=$B26,'日記(1)'!$I$5:$I$411))","v":0},{"$f":"SUM(IF('日記(2)'!$E$5:$E$411=$B26,'日記(2)'!$I$5:$I$411))","v":0},{"$f":"SUM(IF('日記(3)'!$E$5:$E$411=$B26,'日記(3)'!$I$5:$I$411))","v":0},"",0]
[null,{"$f":"IF(設定!D28=\"\",\"\",設定!D28)","v":""},{"$f":"SUM(IF('日記(1)'!$E$5:$E$411=$B27,'日記(1)'!$I$5:$I$411))","v":0},{"$f":"SUM(IF('日記(2)'!$E$5:$E$411=$B27,'日記(2)'!$I$5:$I$411))","v":0},{"$f":"SUM(IF('日記(3)'!$E$5:$E$411=$B27,'日記(3)'!$I$5:$I$411))","v":0},"",0]
[null,{"$f":"IF(設定!D29=\"\",\"\",設定!D29)","v":""},{"$f":"SUM(IF('日記(1)'!$E$5:$E$411=$B28,'日記(1)'!$I$5:$I$411))","v":0},{"$f":"SUM(IF('日記(2)'!$E$5:$E$411=$B28,'日記(2)'!$I$5:$I$411))","v":0},{"$f":"SUM(IF('日記(3)'!$E$5:$E$411=$B28,'日記(3)'!$I$5:$I$411))","v":0},"",0]
[null,{"$f":"IF(設定!D30=\"\",\"\",設定!D30)","v":""},{"$f":"SUM(IF('日記(1)'!$E$5:$E$411=$B29,'日記(1)'!$I$5:$I$411))","v":0},{"$f":"SUM(IF('日記(2)'!$E$5:$E$411=$B29,'日記(2)'!$I$5:$I$411))","v":0},{"$f":"SUM(IF('日記(3)'!$E$5:$E$411=$B29,'日記(3)'!$I$5:$I$411))","v":0},"",0]
[null,{"$f":"IF(設定!D31=\"\",\"\",設定!D31)","v":""},{"$f":"SUM(IF('日記(1)'!$E$5:$E$411=$B30,'日記(1)'!$I$5:$I$411))","v":0},{"$f":"SUM(IF('日記(2)'!$E$5:$E$411=$B30,'日記(2)'!$I$5:$I$411))","v":0},{"$f":"SUM(IF('日記(3)'!$E$5:$E$411=$B30,'日記(3)'!$I$5:$I$411))","v":0},"",0]
[null,{"$f":"IF(設定!D32=\"\",\"\",設定!D32)","v":""},{"$f":"SUM(IF('日記(1)'!$E$5:$E$411=$B31,'日記(1)'!$I$5:$I$411))","v":0},{"$f":"SUM(IF('日記(2)'!$E$5:$E$411=$B31,'日記(2)'!$I$5:$I$411))","v":0},{"$f":"SUM(IF('日記(3)'!$E$5:$E$411=$B31,'日記(3)'!$I$5:$I$411))","v":0},"",0]
[null,{"$f":"IF(設定!D33=\"\",\"\",設定!D33)","v":""},{"$f":"SUM(IF('日記(1)'!$E$5:$E$411=$B32,'日記(1)'!$I$5:$I$411))","v":0},{"$f":"SUM(IF('日記(2)'!$E$5:$E$411=$B32,'日記(2)'!$I$5:$I$411))","v":0},{"$f":"SUM(IF('日記(3)'!$E$5:$E$411=$B32,'日記(3)'!$I$5:$I$411))","v":0},"",0]
[null,{"$f":"IF(設定!D34=\"\",\"\",設定!D34)","v":""},{"$f":"SUM(IF('日記(1)'!$E$5:$E$411=$B33,'日記(1)'!$I$5:$I$411))","v":0},{"$f":"SUM(IF('日記(2)'!$E$5:$E$411=$B33,'日記(2)'!$I$5:$I$411))","v":0},{"$f":"SUM(IF('日記(3)'!$E$5:$E$411=$B33,'日記(3)'!$I$5:$I$411))","v":0},"",0]
[null,{"$f":"IF(設定!D35=\"\",\"\",設定!D35)","v":""},{"$f":"SUM(IF('日記(1)'!$E$5:$E$411=$B34,'日記(1)'!$I$5:$I$411))","v":0},{"$f":"SUM(IF('日記(2)'!$E$5:$E$411=$B34,'日記(2)'!$I$5:$I$411))","v":0},{"$f":"SUM(IF('日記(3)'!$E$5:$E$411=$B34,'日記(3)'!$I$5:$I$411))","v":0},"",0]
[null,{"$f":"IF(設定!D36=\"\",\"\",設定!D36)","v":""},{"$f":"SUM(IF('日記(1)'!$E$5:$E$411=$B35,'日記(1)'!$I$5:$I$411))","v":0},{"$f":"SUM(IF('日記(2)'!$E$5:$E$411=$B35,'日記(2)'!$I$5:$I$411))","v":0},{"$f":"SUM(IF('日記(3)'!$E$5:$E$411=$B35,'日記(3)'!$I$5:$I$411))","v":0},"",0]
[null,{"$f":"IF(設定!D37=\"\",\"\",設定!D37)","v":""},{"$f":"SUM(IF('日記(1)'!$E$5:$E$411=$B36,'日記(1)'!$I$5:$I$411))","v":0},{"$f":"SUM(IF('日記(2)'!$E$5:$E$411=$B36,'日記(2)'!$I$5:$I$411))","v":0},{"$f":"SUM(IF('日記(3)'!$E$5:$E$411=$B36,'日記(3)'!$I$5:$I$411))","v":0},"",0]
[null,{"$f":"IF(設定!D38=\"\",\"\",設定!D38)","v":""},{"$f":"SUM(IF('日記(1)'!$E$5:$E$411=$B37,'日記(1)'!$I$5:$I$411))","v":0},{"$f":"SUM(IF('日記(2)'!$E$5:$E$411=$B37,'日記(2)'!$I$5:$I$411))","v":0},{"$f":"SUM(IF('日記(3)'!$E$5:$E$411=$B37,'日記(3)'!$I$5:$I$411))","v":0},"",0]
[null,{"$f":"IF(設定!D39=\"\",\"\",設定!D39)","v":""},{"$f":"SUM(IF('日記(1)'!$E$5:$E$411=$B38,'日記(1)'!$I$5:$I$411))","v":0},{"$f":"SUM(IF('日記(2)'!$E$5:$E$411=$B38,'日記(2)'!$I$5:$I$411))","v":0},{"$f":"SUM(IF('日記(3)'!$E$5:$E$411=$B38,'日記(3)'!$I$5:$I$411))","v":0},"",0]
[null,{"$f":"IF(設定!D40=\"\",\"\",設定!D40)","v":""},{"$f":"SUM(IF('日記(1)'!$E$5:$E$411=$B39,'日記(1)'!$I$5:$I$411))","v":0},{"$f":"SUM(IF('日記(2)'!$E$5:$E$411=$B39,'日記(2)'!$I$5:$I$411))","v":0},{"$f":"SUM(IF('日記(3)'!$E$5:$E$411=$B39,'日記(3)'!$I$5:$I$411))","v":0},"",0]
[null,{"$f":"IF(設定!D41=\"\",\"\",設定!D41)","v":""},{"$f":"SUM(IF('日記(1)'!$E$5:$E$411=$B40,'日記(1)'!$I$5:$I$411))","v":0},{"$f":"SUM(IF('日記(2)'!$E$5:$E$411=$B40,'日記(2)'!$I$5:$I$411))","v":0},{"$f":"SUM(IF('日記(3)'!$E$5:$E$411=$B40,'日記(3)'!$I$5:$I$411))","v":0},"",0]
[null,{"$f":"IF(設定!D42=\"\",\"\",設定!D42)","v":""},{"$f":"SUM(IF('日記(1)'!$E$5:$E$411=$B41,'日記(1)'!$I$5:$I$411))","v":0},{"$f":"SUM(IF('日記(2)'!$E$5:$E$411=$B41,'日記(2)'!$I$5:$I$411))","v":0},{"$f":"SUM(IF('日記(3)'!$E$5:$E$411=$B41,'日記(3)'!$I$5:$I$411))","v":0},"",0]
[null,{"$f":"IF(設定!D43=\"\",\"\",設定!D43)","v":""},{"$f":"SUM(IF('日記(1)'!$E$5:$E$411=$B42,'日記(1)'!$I$5:$I$411))","v":0},{"$f":"SUM(IF('日記(2)'!$E$5:$E$411=$B42,'日記(2)'!$I$5:$I$411))","v":0},{"$f":"SUM(IF('日記(3)'!$E$5:$E$411=$B42,'日記(3)'!$I$5:$I$411))","v":0},"",0]
[null,{"$f":"IF(設定!D44=\"\",\"\",設定!D44)","v":""},{"$f":"SUM(IF('日記(1)'!$E$5:$E$411=$B43,'日記(1)'!$I$5:$I$411))","v":0},{"$f":"SUM(IF('日記(2)'!$E$5:$E$411=$B43,'日記(2)'!$I$5:$I$411))","v":0},{"$f":"SUM(IF('日記(3)'!$E$5:$E$411=$B43,'日記(3)'!$I$5:$I$411))","v":0},"",0]
[null,{"$f":"IF(設定!D45=\"\",\"\",設定!D45)","v":""},{"$f":"SUM(IF('日記(1)'!$E$5:$E$411=$B44,'日記(1)'!$I$5:$I$411))","v":0},{"$f":"SUM(IF('日記(2)'!$E$5:$E$411=$B44,'日記(2)'!$I$5:$I$411))","v":0},{"$f":"SUM(IF('日記(3)'!$E$5:$E$411=$B44,'日記(3)'!$I$5:$I$411))","v":0},"",0]
[null,{"$f":"IF(設定!D46=\"\",\"\",設定!D46)","v":""},{"$f":"SUM(IF('日記(1)'!$E$5:$E$411=$B45,'日記(1)'!$I$5:$I$411))","v":0},{"$f":"SUM(IF('日記(2)'!$E$5:$E$411=$B45,'日記(2)'!$I$5:$I$411))","v":0},{"$f":"SUM(IF('日記(3)'!$E$5:$E$411=$B45,'日記(3)'!$I$5:$I$411))","v":0},"",0]
[null,{"$f":"IF(設定!D47=\"\",\"\",設定!D47)","v":""},{"$f":"SUM(IF('日記(1)'!$E$5:$E$411=$B46,'日記(1)'!$I$5:$I$411))","v":0},{"$f":"SUM(IF('日記(2)'!$E$5:$E$411=$B46,'日記(2)'!$I$5:$I$411))","v":0},{"$f":"SUM(IF('日記(3)'!$E$5:$E$411=$B46,'日記(3)'!$I$5:$I$411))","v":0},"",0]
[null,{"$f":"IF(設定!D48=\"\",\"\",設定!D48)","v":""},{"$f":"SUM(IF('日記(1)'!$E$5:$E$411=$B47,'日記(1)'!$I$5:$I$411))","v":0},{"$f":"SUM(IF('日記(2)'!$E$5:$E$411=$B47,'日記(2)'!$I$5:$I$411))","v":0},{"$f":"SUM(IF('日記(3)'!$E$5:$E$411=$B47,'日記(3)'!$I$5:$I$411))","v":0},"",0]
[null,{"$f":"IF(設定!D49=\"\",\"\",設定!D49)","v":""},{"$f":"SUM(IF('日記(1)'!$E$5:$E$411=$B48,'日記(1)'!$I$5:$I$411))","v":0},{"$f":"SUM(IF('日記(2)'!$E$5:$E$411=$B48,'日記(2)'!$I$5:$I$411))","v":0},{"$f":"SUM(IF('日記(3)'!$E$5:$E$411=$B48,'日記(3)'!$I$5:$I$411))","v":0},"",0]
[null,{"$f":"IF(設定!D50=\"\",\"\",設定!D50)","v":""},{"$f":"SUM(IF('日記(1)'!$E$5:$E$411=$B49,'日記(1)'!$I$5:$I$411))","v":0},{"$f":"SUM(IF('日記(2)'!$E$5:$E$411=$B49,'日記(2)'!$I$5:$I$411))","v":0},{"$f":"SUM(IF('日記(3)'!$E$5:$E$411=$B49,'日記(3)'!$I$5:$I$411))","v":0},{"$f":"IF(ISERROR(SUM(C49:E49)/COUNTIF($C$76:$E$76,\">=1\")),\"\",SUM(C49:E49)/COUNTIF($C$76:$E$76,\">=1\"))","v":""},{"$f":"SUM(C49:E49)","v":0}]
[null,{"$f":"IF(設定!D51=\"\",\"\",設定!D51)","v":""},{"$f":"SUM(IF('日記(1)'!$E$5:$E$411=$B50,'日記(1)'!$I$5:$I$411))","v":0},{"$f":"SUM(IF('日記(2)'!$E$5:$E$411=$B50,'日記(2)'!$I$5:$I$411))","v":0},{"$f":"SUM(IF('日記(3)'!$E$5:$E$411=$B50,'日記(3)'!$I$5:$I$411))","v":0},"",0]
[null,{"$f":"IF(設定!D52=\"\",\"\",設定!D52)","v":""},{"$f":"SUM(IF('日記(1)'!$E$5:$E$411=$B51,'日記(1)'!$I$5:$I$411))","v":0},{"$f":"SUM(IF('日記(2)'!$E$5:$E$411=$B51,'日記(2)'!$I$5:$I$411))","v":0},{"$f":"SUM(IF('日記(3)'!$E$5:$E$411=$B51,'日記(3)'!$I$5:$I$411))","v":0},"",0]
[null,{"$f":"IF(設定!D53=\"\",\"\",設定!D53)","v":""},{"$f":"SUM(IF('日記(1)'!$E$5:$E$411=$B52,'日記(1)'!$I$5:$I$411))","v":0},{"$f":"SUM(IF('日記(2)'!$E$5:$E$411=$B52,'日記(2)'!$I$5:$I$411))","v":0},{"$f":"SUM(IF('日記(3)'!$E$5:$E$411=$B52,'日記(3)'!$I$5:$I$411))","v":0},"",0]
[null,{"$f":"IF(設定!D54=\"\",\"\",設定!D54)","v":""},{"$f":"SUM(IF('日記(1)'!$E$5:$E$411=$B53,'日記(1)'!$I$5:$I$411))","v":0},{"$f":"SUM(IF('日記(2)'!$E$5:$E$411=$B53,'日記(2)'!$I$5:$I$411))","v":0},{"$f":"SUM(IF('日記(3)'!$E$5:$E$411=$B53,'日記(3)'!$I$5:$I$411))","v":0},"",0]
[null,{"$f":"IF(設定!D55=\"\",\"\",設定!D55)","v":""},{"$f":"SUM(IF('日記(1)'!$E$5:$E$411=$B54,'日記(1)'!$I$5:$I$411))","v":0},{"$f":"SUM(IF('日記(2)'!$E$5:$E$411=$B54,'日記(2)'!$I$5:$I$411))","v":0},{"$f":"SUM(IF('日記(3)'!$E$5:$E$411=$B54,'日記(3)'!$I$5:$I$411))","v":0},"",0]
[null,{"$f":"IF(設定!D56=\"\",\"\",設定!D56)","v":""},{"$f":"SUM(IF('日記(1)'!$E$5:$E$411=$B55,'日記(1)'!$I$5:$I$411))","v":0},{"$f":"SUM(IF('日記(2)'!$E$5:$E$411=$B55,'日記(2)'!$I$5:$I$411))","v":0},{"$f":"SUM(IF('日記(3)'!$E$5:$E$411=$B55,'日記(3)'!$I$5:$I$411))","v":0},"",0]
[null,{"$f":"IF(設定!D57=\"\",\"\",設定!D57)","v":""},{"$f":"SUM(IF('日記(1)'!$E$5:$E$411=$B56,'日記(1)'!$I$5:$I$411))","v":0},{"$f":"SUM(IF('日記(2)'!$E$5:$E$411=$B56,'日記(2)'!$I$5:$I$411))","v":0},{"$f":"SUM(IF('日記(3)'!$E$5:$E$411=$B56,'日記(3)'!$I$5:$I$411))","v":0},"",0]
[null,{"$f":"IF(設定!D58=\"\",\"\",設定!D58)","v":""},{"$f":"SUM(IF('日記(1)'!$E$5:$E$411=$B57,'日記(1)'!$I$5:$I$411))","v":0},{"$f":"SUM(IF('日記(2)'!$E$5:$E$411=$B57,'日記(2)'!$I$5:$I$411))","v":0},{"$f":"SUM(IF('日記(3)'!$E$5:$E$411=$B57,'日記(3)'!$I$5:$I$411))","v":0},"",0]
[null,{"$f":"IF(設定!D59=\"\",\"\",設定!D59)","v":""},{"$f":"SUM(IF('日記(1)'!$E$5:$E$411=$B58,'日記(1)'!$I$5:$I$411))","v":0},{"$f":"SUM(IF('日記(2)'!$E$5:$E$411=$B58,'日記(2)'!$I$5:$I$411))","v":0},{"$f":"SUM(IF('日記(3)'!$E$5:$E$411=$B58,'日記(3)'!$I$5:$I$411))","v":0},"",0]
[null,{"$f":"IF(設定!D60=\"\",\"\",設定!D60)","v":""},{"$f":"SUM(IF('日記(1)'!$E$5:$E$411=$B59,'日記(1)'!$I$5:$I$411))","v":0},{"$f":"SUM(IF('日記(2)'!$E$5:$E$411=$B59,'日記(2)'!$I$5:$I$411))","v":0},{"$f":"SUM(IF('日記(3)'!$E$5:$E$411=$B59,'日記(3)'!$I$5:$I$411))","v":0},"",0]
[null,{"$f":"IF(設定!D61=\"\",\"\",設定!D61)","v":""},{"$f":"SUM(IF('日記(1)'!$E$5:$E$411=$B60,'日記(1)'!$I$5:$I$411))","v":0},{"$f":"SUM(IF('日記(2)'!$E$5:$E$411=$B60,'日記(2)'!$I$5:$I$411))","v":0},{"$f":"SUM(IF('日記(3)'!$E$5:$E$411=$B60,'日記(3)'!$I$5:$I$411))","v":0},"",0]
[null,{"$f":"IF(設定!D62=\"\",\"\",設定!D62)","v":""},{"$f":"SUM(IF('日記(1)'!$E$5:$E$411=$B61,'日記(1)'!$I$5:$I$411))","v":0},{"$f":"SUM(IF('日記(2)'!$E$5:$E$411=$B61,'日記(2)'!$I$5:$I$411))","v":0},{"$f":"SUM(IF('日記(3)'!$E$5:$E$411=$B61,'日記(3)'!$I$5:$I$411))","v":0},"",0]
[null,{"$f":"IF(設定!D63=\"\",\"\",設定!D63)","v":""},{"$f":"SUM(IF('日記(1)'!$E$5:$E$411=$B62,'日記(1)'!$I$5:$I$411))","v":0},{"$f":"SUM(IF('日記(2)'!$E$5:$E$411=$B62,'日記(2)'!$I$5:$I$411))","v":0},{"$f":"SUM(IF('日記(3)'!$E$5:$E$411=$B62,'日記(3)'!$I$5:$I$411))","v":0},"",0]
[null,{"$f":"IF(設定!D64=\"\",\"\",設定!D64)","v":""},{"$f":"SUM(IF('日記(1)'!$E$5:$E$411=$B63,'日記(1)'!$I$5:$I$411))","v":0},{"$f":"SUM(IF('日記(2)'!$E$5:$E$411=$B63,'日記(2)'!$I$5:$I$411))","v":0},{"$f":"SUM(IF('日記(3)'!$E$5:$E$411=$B63,'日記(3)'!$I$5:$I$411))","v":0},"",0]
[null,{"$f":"IF(設定!D65=\"\",\"\",設定!D65)","v":""},{"$f":"SUM(IF('日記(1)'!$E$5:$E$411=$B64,'日記(1)'!$I$5:$I$411))","v":0},{"$f":"SUM(IF('日記(2)'!$E$5:$E$411=$B64,'日記(2)'!$I$5:$I$411))","v":0},{"$f":"SUM(IF('日記(3)'!$E$5:$E$411=$B64,'日記(3)'!$I$5:$I$411))","v":0},"",0]
[null,{"$f":"IF(設定!D66=\"\",\"\",設定!D66)","v":""},{"$f":"SUM(IF('日記(1)'!$E$5:$E$411=$B65,'日記(1)'!$I$5:$I$411))","v":0},{"$f":"SUM(IF('日記(2)'!$E$5:$E$411=$B65,'日記(2)'!$I$5:$I$411))","v":0},{"$f":"SUM(IF('日記(3)'!$E$5:$E$411=$B65,'日記(3)'!$I$5:$I$411))","v":0},"",0]
[null,{"$f":"IF(設定!D67=\"\",\"\",設定!D67)","v":""},{"$f":"SUM(IF('日記(1)'!$E$5:$E$411=$B66,'日記(1)'!$I$5:$I$411))","v":0},{"$f":"SUM(IF('日記(2)'!$E$5:$E$411=$B66,'日記(2)'!$I$5:$I$411))","v":0},{"$f":"SUM(IF('日記(3)'!$E$5:$E$411=$B66,'日記(3)'!$I$5:$I$411))","v":0},"",0]
[null,{"$f":"IF(設定!D68=\"\",\"\",設定!D68)","v":""},{"$f":"SUM(IF('日記(1)'!$E$5:$E$411=$B67,'日記(1)'!$I$5:$I$411))","v":0},{"$f":"SUM(IF('日記(2)'!$E$5:$E$411=$B67,'日記(2)'!$I$5:$I$411))","v":0},{"$f":"SUM(IF('日記(3)'!$E$5:$E$411=$B67,'日記(3)'!$I$5:$I$411))","v":0},"",0]
[null,{"$f":"IF(設定!D69=\"\",\"\",設定!D69)","v":""},{"$f":"SUM(IF('日記(1)'!$E$5:$E$411=$B68,'日記(1)'!$I$5:$I$411))","v":0},{"$f":"SUM(IF('日記(2)'!$E$5:$E$411=$B68,'日記(2)'!$I$5:$I$411))","v":0},{"$f":"SUM(IF('日記(3)'!$E$5:$E$411=$B68,'日記(3)'!$I$5:$I$411))","v":0},"",0]
[null,{"$f":"IF(設定!D70=\"\",\"\",設定!D70)","v":""},{"$f":"SUM(IF('日記(1)'!$E$5:$E$411=$B69,'日記(1)'!$I$5:$I$411))","v":0},{"$f":"SUM(IF('日記(2)'!$E$5:$E$411=$B69,'日記(2)'!$I$5:$I$411))","v":0},{"$f":"SUM(IF('日記(3)'!$E$5:$E$411=$B69,'日記(3)'!$I$5:$I$411))","v":0},"",0]
[null,{"$f":"IF(設定!D71=\"\",\"\",設定!D71)","v":""},{"$f":"SUM(IF('日記(1)'!$E$5:$E$411=$B70,'日記(1)'!$I$5:$I$411))","v":0},{"$f":"SUM(IF('日記(2)'!$E$5:$E$411=$B70,'日記(2)'!$I$5:$I$411))","v":0},{"$f":"SUM(IF('日記(3)'!$E$5:$E$411=$B70,'日記(3)'!$I$5:$I$411))","v":0},"",0]
[null,{"$f":"IF(設定!D72=\"\",\"\",設定!D72)","v":""},{"$f":"SUM(IF('日記(1)'!$E$5:$E$411=$B71,'日記(1)'!$I$5:$I$411))","v":0},{"$f":"SUM(IF('日記(2)'!$E$5:$E$411=$B71,'日記(2)'!$I$5:$I$411))","v":0},{"$f":"SUM(IF('日記(3)'!$E$5:$E$411=$B71,'日記(3)'!$I$5:$I$411))","v":0},"",0]
[null,{"$f":"IF(設定!D73=\"\",\"\",設定!D73)","v":""},{"$f":"SUM(IF('日記(1)'!$E$5:$E$411=$B72,'日記(1)'!$I$5:$I$411))","v":0},{"$f":"SUM(IF('日記(2)'!$E$5:$E$411=$B72,'日記(2)'!$I$5:$I$411))","v":0},{"$f":"SUM(IF('日記(3)'!$E$5:$E$411=$B72,'日記(3)'!$I$5:$I$411))","v":0},"",0]
[null,{"$f":"IF(設定!D74=\"\",\"\",設定!D74)","v":""},{"$f":"SUM(IF('日記(1)'!$E$5:$E$411=$B73,'日記(1)'!$I$5:$I$411))","v":0},{"$f":"SUM(IF('日記(2)'!$E$5:$E$411=$B73,'日記(2)'!$I$5:$I$411))","v":0},{"$f":"SUM(IF('日記(3)'!$E$5:$E$411=$B73,'日記(3)'!$I$5:$I$411))","v":0},"",0]
[null,{"$f":"IF(設定!D75=\"\",\"\",設定!D75)","v":""},{"$f":"SUM(IF('日記(1)'!$E$5:$E$411=$B74,'日記(1)'!$I$5:$I$411))","v":0},{"$f":"SUM(IF('日記(2)'!$E$5:$E$411=$B74,'日記(2)'!$I$5:$I$411))","v":0},{"$f":"SUM(IF('日記(3)'!$E$5:$E$411=$B74,'日記(3)'!$I$5:$I$411))","v":0},"",0]
[null,{"$f":"IF(設定!D76=\"\",\"\",設定!D76)","v":""},{"$f":"SUM(IF('日記(1)'!$E$5:$E$411=$B75,'日記(1)'!$I$5:$I$411))","v":0},{"$f":"SUM(IF('日記(2)'!$E$5:$E$411=$B75,'日記(2)'!$I$5:$I$411))","v":0},{"$f":"SUM(IF('日記(3)'!$E$5:$E$411=$B75,'日記(3)'!$I$5:$I$411))","v":0},"",0]
[null," 合　　計",{"$f":"SUM(C17:C75)","v":0},{"$f":"SUM(D17:D75)","v":0},{"$f":"SUM(E17:E75)","v":0},{"$f":"SUM(F17:F75)","v":0},{"$f":"SUM(G17:G75)","v":0}]
[]
[null,{"$f":"設定!D15","v":0},{"$f":"SUM(IF('日記(1)'!$E$5:$E$411=$B78,'日記(1)'!$H$5:$H$411))","v":0},{"$f":"SUM(IF('日記(2)'!$E$5:$E$411=$B78,'日記(2)'!$H$5:$H$411))","v":0},{"$f":"SUM(IF('日記(3)'!$E$5:$E$411=$B78,'日記(3)'!$H$5:$H$411))","v":0},null,{"$f":"SUM(C78:E78)","v":0}]
[null,{"$f":"設定!D77","v":0},{"$f":"SUM(IF('日記(1)'!$E$5:$E$411=$B79,'日記(1)'!$I$5:$I$411))","v":0},{"$f":"SUM(IF('日記(2)'!$E$5:$E$411=$B79,'日記(2)'!$I$5:$I$411))","v":0},{"$f":"SUM(IF('日記(3)'!$E$5:$E$411=$B79,'日記(3)'!$I$5:$I$411))","v":0},null,{"$f":"SUM(C79:E79)","v":0}]
[null,"確　　認",{"$f":"IF(AND(C78=0,C79=0),\"\",IF(C78=C79,\"0\",\"チェック\"))","v":""},{"$f":"IF(AND(D78=0,D79=0),\"\",IF(D78=D79,\"0\",\"チェック\"))","v":""},{"$f":"IF(AND(E78=0,E79=0),\"\",IF(E78=E79,\"0\",\"チェック\"))","v":""},null,{"$f":"IF(AND(G78=0,G79=0),\"\",IF(G78=G79,\"0\",\"チェック\"))","v":""}]
[]
[null,null,"前月繰越金",null,{"$f":"設定!I46","v":0},{"$f":"IF(E82=0,\"\",\"円\")","v":""}]
[]
[null,null,"収 入 合 計",null,{"$f":"G14","v":0},{"$f":"IF(E84=0,\"\",\"円\")","v":""}]
[null,null,"支 出 合 計",null,{"$f":"G76","v":0},{"$f":"IF(E85=0,\"\",\"円\")","v":""}]
[null,null,null,null,{"$f":"IF(G78=G79,E84-E85,\"チェック\")","v":0},{"$f":"IF(E86=0,\"\",\"円\")","v":""}]
[]
[null,null,"翌月繰越金",null,{"$f":"IF(G78=G79,E82+E86,\"チェック\")","v":0},{"$f":"IF(E88=0,\"\",\"円\")","v":""}]

{"sheet":"グラフ","index":6,"n_rows":0,"n_cols":0,"rows_kept":0,"cut":false,"hidden":false,"merged":[]}

{"sheet":"参照","index":7,"n_rows":77,"n_cols":10,"rows_kept":77,"cut":false,"hidden":true,"merged":[]}
[]
[]
[]
[]
[]
[null,{"$f":"IF(設定!D6=\"\",\"\",設定!D6)","v":""},null,{"$f":"IF(設定!D6=\"\",\"\",ROW()-5)","v":""},null,{"$f":"IF(ISERROR(INDEX($B$6:$B$77,SMALL(D:D,ROW()-5))),\"\",INDEX($B$6:$B$77,SMALL(D:D,ROW()-5)))","v":"*"},{"$f":"IF(設定!G6=\"\",\" \",設定!G6)","v":" "},null,null,{"$f":"IF(設定!H27=\"\",\" \",設定!H27)","v":" "}]
[null,{"$f":"IF(設定!D7=\"\",\"\",設定!D7)","v":""},null,{"$f":"IF(設定!D7=\"\",\"\",ROW()-5)","v":""},null,{"$f":"IF(ISERROR(INDEX($B$6:$B$77,SMALL(D:D,ROW()-5))),\"\",INDEX($B$6:$B$77,SMALL(D:D,ROW()-5)))","v":"*"},{"$f":"IF(設定!G7=\"\",\" \",設定!G7)","v":" "},null,null,{"$f":"IF(設定!H28=\"\",\" \",設定!H28)","v":" "}]
[null,{"$f":"IF(設定!D8=\"\",\"\",設定!D8)","v":""},null,{"$f":"IF(設定!D8=\"\",\"\",ROW()-5)","v":""},null,"",{"$f":"IF(設定!G8=\"\",\" \",設定!G8)","v":" "},null,null,{"$f":"IF(設定!H29=\"\",\" \",設定!H29)","v":" "}]
[null,{"$f":"IF(設定!D9=\"\",\"\",設定!D9)","v":""},null,{"$f":"IF(設定!D9=\"\",\"\",ROW()-5)","v":""},null,"",{"$f":"IF(設定!G9=\"\",\" \",設定!G9)","v":" "},null,null,{"$f":"IF(設定!H30=\"\",\" \",設定!H30)","v":" "}]
[null,{"$f":"IF(設定!D10=\"\",\"\",設定!D10)","v":""},null,{"$f":"IF(設定!D10=\"\",\"\",ROW()-5)","v":""},null,"",{"$f":"IF(設定!G10=\"\",\" \",設定!G10)","v":" "},null,null,{"$f":"IF(設定!H31=\"\",\" \",設定!H31)","v":" "}]
[null,{"$f":"IF(設定!D11=\"\",\"\",設定!D11)","v":""},null,{"$f":"IF(設定!D11=\"\",\"\",ROW()-5)","v":""},null,"",{"$f":"IF(設定!G11=\"\",\" \",設定!G11)","v":" "},null,null,{"$f":"IF(設定!H32=\"\",\" \",設定!H32)","v":" "}]
[null,{"$f":"IF(設定!D12=\"\",\"\",設定!D12)","v":""},null,{"$f":"IF(設定!D12=\"\",\"\",ROW()-5)","v":""},null,"",{"$f":"IF(設定!G12=\"\",\" \",設定!G12)","v":" "},null,null,{"$f":"IF(設定!H33=\"\",\" \",設定!H33)","v":" "}]
[null,{"$f":"IF(設定!D13=\"\",\"\",設定!D13)","v":""},null,{"$f":"IF(設定!D13=\"\",\"\",ROW()-5)","v":""},null,"",{"$f":"IF(設定!G13=\"\",\" \",設定!G13)","v":" "},null,null,{"$f":"IF(設定!H34=\"\",\" \",設定!H34)","v":" "}]
[null,{"$f":"IF(設定!D14=\"\",\"\",設定!D14)","v":""},null,{"$f":"IF(設定!D14=\"\",\"\",ROW()-5)","v":""},null,"",null,null,null,{"$f":"IF(設定!H35=\"\",\" \",設定!H35)","v":" "}]
[null,{"$f":"IF(設定!D15=\"\",\"\",設定!D15)","v":""},null,{"$f":"IF(設定!D15=\"\",\"\",ROW()-5)","v":""},null,"",null,null,null,{"$f":"IF(設定!H36=\"\",\" \",設定!H36)","v":" "}]
[null,"*",null,11,null,"",null,null,null,{"$f":"IF(設定!H37=\"\",\" \",設定!H37)","v":" "}]
[null,"*",null,12,null,"",null,null,null,{"$f":"IF(設定!H38=\"\",\" \",設定!H38)","v":" "}]
[null,{"$f":"IF(設定!D18=\"\",\"\",設定!D18)","v":""},null,{"$f":"IF(設定!D18=\"\",\"\",ROW()-5)","v":""},null,"",null,null,null,{"$f":"IF(設定!H39=\"\",\" \",設定!H39)","v":" "}]
[null,{"$f":"IF(設定!D19=\"\",\"\",設定!D19)","v":""},null,{"$f":"IF(設定!D19=\"\",\"\",ROW()-5)","v":""},null,"",null,null,null,{"$f":"IF(設定!H40=\"\",\" \",設定!H40)","v":" "}]
[null,{"$f":"IF(設定!D20=\"\",\"\",設定!D20)","v":""},null,{"$f":"IF(設定!D20=\"\",\"\",ROW()-5)","v":""},null,"",null,null,null,{"$f":"IF(設定!H41=\"\",\" \",設定!H41)","v":" "}]
[null,{"$f":"IF(設定!D21=\"\",\"\",設定!D21)","v":""},null,{"$f":"IF(設定!D21=\"\",\"\",ROW()-5)","v":""},null,""]
[null,{"$f":"IF(設定!D22=\"\",\"\",設定!D22)","v":""},null,{"$f":"IF(設定!D22=\"\",\"\",ROW()-5)","v":""},null,""]
[null,{"$f":"IF(設定!D23=\"\",\"\",設定!D23)","v":""},null,{"$f":"IF(設定!D23=\"\",\"\",ROW()-5)","v":""},null,""]
[null,{"$f":"IF(設定!D24=\"\",\"\",設定!D24)","v":""},null,{"$f":"IF(設定!D24=\"\",\"\",ROW()-5)","v":""},null,""]
[null,{"$f":"IF(設定!D25=\"\",\"\",設定!D25)","v":""},null,{"$f":"IF(設定!D25=\"\",\"\",ROW()-5)","v":""},null,""]
[null,{"$f":"IF(設定!D26=\"\",\"\",設定!D26)","v":""},null,{"$f":"IF(設定!D26=\"\",\"\",ROW()-5)","v":""},null,""]
[null,{"$f":"IF(設定!D27=\"\",\"\",設定!D27)","v":""},null,{"$f":"IF(設定!D27=\"\",\"\",ROW()-5)","v":""},null,""]
[null,{"$f":"IF(設定!D28=\"\",\"\",設定!D28)","v":""},null,{"$f":"IF(設定!D28=\"\",\"\",ROW()-5)","v":""},null,""]
[null,{"$f":"IF(設定!D29=\"\",\"\",設定!D29)","v":""},null,{"$f":"IF(設定!D29=\"\",\"\",ROW()-5)","v":""},null,""]
[null,{"$f":"IF(設定!D30=\"\",\"\",設定!D30)","v":""},null,{"$f":"IF(設定!D30=\"\",\"\",ROW()-5)","v":""},null,""]
[null,{"$f":"IF(設定!D31=\"\",\"\",設定!D31)","v":""},null,{"$f":"IF(設定!D31=\"\",\"\",ROW()-5)","v":""},null,""]
[null,{"$f":"IF(設定!D32=\"\",\"\",設定!D32)","v":""},null,{"$f":"IF(設定!D32=\"\",\"\",ROW()-5)","v":""},null,""]
[null,{"$f":"IF(設定!D33=\"\",\"\",設定!D33)","v":""},null,{"$f":"IF(設定!D33=\"\",\"\",ROW()-5)","v":""},null,""]
[null,{"$f":"IF(設定!D34=\"\",\"\",設定!D34)","v":""},null,{"$f":"IF(設定!D34=\"\",\"\",ROW()-5)","v":""},null,""]
[null,{"$f":"IF(設定!D35=\"\",\"\",設定!D35)","v":""},null,{"$f":"IF(設定!D35=\"\",\"\",ROW()-5)","v":""},null,""]
[null,{"$f":"IF(設定!D36=\"\",\"\",設定!D36)","v":""},null,{"$f":"IF(設定!D36=\"\",\"\",ROW()-5)","v":""},null,""]
[null,{"$f":"IF(設定!D37=\"\",\"\",設定!D37)","v":""},null,{"$f":"IF(設定!D37=\"\",\"\",ROW()-5)","v":""},null,""]
[null,{"$f":"IF(設定!D38=\"\",\"\",設定!D38)","v":""},null,{"$f":"IF(設定!D38=\"\",\"\",ROW()-5)","v":""},null,""]
[null,{"$f":"IF(設定!D39=\"\",\"\",設定!D39)","v":""},null,{"$f":"IF(設定!D39=\"\",\"\",ROW()-5)","v":""},null,""]
[null,{"$f":"IF(設定!D40=\"\",\"\",設定!D40)","v":""},null,{"$f":"IF(設定!D40=\"\",\"\",ROW()-5)","v":""},null,""]
[null,{"$f":"IF(設定!D41=\"\",\"\",設定!D41)","v":""},null,{"$f":"IF(設定!D41=\"\",\"\",ROW()-5)","v":""},null,""]
[null,{"$f":"IF(設定!D42=\"\",\"\",設定!D42)","v":""},null,{"$f":"IF(設定!D42=\"\",\"\",ROW()-5)","v":""},null,""]
[null,{"$f":"IF(設定!D43=\"\",\"\",設定!D43)","v":""},null,{"$f":"IF(設定!D43=\"\",\"\",ROW()-5)","v":""},null,""]
[null,{"$f":"IF(設定!D44=\"\",\"\",設定!D44)","v":""},null,{"$f":"IF(設定!D44=\"\",\"\",ROW()-5)","v":""},null,""]
[null,{"$f":"IF(設定!D45=\"\",\"\",設定!D45)","v":""},null,{"$f":"IF(設定!D45=\"\",\"\",ROW()-5)","v":""},null,""]
[null,{"$f":"IF(設定!D46=\"\",\"\",設定!D46)","v":""},null,{"$f":"IF(設定!D46=\"\",\"\",ROW()-5)","v":""},null,""]
[null,{"$f":"IF(設定!D47=\"\",\"\",設定!D47)","v":""},null,{"$f":"IF(設定!D47=\"\",\"\",ROW()-5)","v":""},null,""]
[null,{"$f":"IF(設定!D48=\"\",\"\",設定!D48)","v":""},null,{"$f":"IF(設定!D48=\"\",\"\",ROW()-5)","v":""},null,""]
[null,{"$f":"IF(設定!D49=\"\",\"\",設定!D49)","v":""},null,{"$f":"IF(設定!D49=\"\",\"\",ROW()-5)","v":""},null,""]
[null,{"$f":"IF(設定!D50=\"\",\"\",設定!D50)","v":""},null,{"$f":"IF(設定!D50=\"\",\"\",ROW()-5)","v":""},null,""]
[null,{"$f":"IF(設定!D51=\"\",\"\",設定!D51)","v":""},null,{"$f":"IF(設定!D51=\"\",\"\",ROW()-5)","v":""},null,""]
[null,{"$f":"IF(設定!D52=\"\",\"\",設定!D52)","v":""},null,{"$f":"IF(設定!D52=\"\",\"\",ROW()-5)","v":""},null,""]
[null,{"$f":"IF(設定!D53=\"\",\"\",設定!D53)","v":""},null,{"$f":"IF(設定!D53=\"\",\"\",ROW()-5)","v":""},null,""]
[null,{"$f":"IF(設定!D54=\"\",\"\",設定!D54)","v":""},null,{"$f":"IF(設定!D54=\"\",\"\",ROW()-5)","v":""},null,""]
[null,{"$f":"IF(設定!D55=\"\",\"\",設定!D55)","v":""},null,{"$f":"IF(設定!D55=\"\",\"\",ROW()-5)","v":""},null,""]
[null,{"$f":"IF(設定!D56=\"\",\"\",設定!D56)","v":""},null,{"$f":"IF(設定!D56=\"\",\"\",ROW()-5)","v":""},null,""]
[null,{"$f":"IF(設定!D57=\"\",\"\",設定!D57)","v":""},null,{"$f":"IF(設定!D57=\"\",\"\",ROW()-5)","v":""},null,""]
[null,{"$f":"IF(設定!D58=\"\",\"\",設定!D58)","v":""},null,{"$f":"IF(設定!D58=\"\",\"\",ROW()-5)","v":""},null,""]
[null,{"$f":"IF(設定!D59=\"\",\"\",設定!D59)","v":""},null,{"$f":"IF(設定!D59=\"\",\"\",ROW()-5)","v":""},null,""]
[null,{"$f":"IF(設定!D60=\"\",\"\",設定!D60)","v":""},null,{"$f":"IF(設定!D60=\"\",\"\",ROW()-5)","v":""},null,""]
[null,{"$f":"IF(設定!D61=\"\",\"\",設定!D61)","v":""},null,{"$f":"IF(設定!D61=\"\",\"\",ROW()-5)","v":""},null,""]
[null,{"$f":"IF(設定!D62=\"\",\"\",設定!D62)","v":""},null,{"$f":"IF(設定!D62=\"\",\"\",ROW()-5)","v":""},null,""]
[null,{"$f":"IF(設定!D63=\"\",\"\",設定!D63)","v":""},null,{"$f":"IF(設定!D63=\"\",\"\",ROW()-5)","v":""},null,""]
[null,{"$f":"IF(設定!D64=\"\",\"\",設定!D64)","v":""},null,{"$f":"IF(設定!D64=\"\",\"\",ROW()-5)","v":""},null,""]
[null,{"$f":"IF(設定!D65=\"\",\"\",設定!D65)","v":""},null,{"$f":"IF(設定!D65=\"\",\"\",ROW()-5)","v":""},null,""]
[null,{"$f":"IF(設定!D66=\"\",\"\",設定!D66)","v":""},null,{"$f":"IF(設定!D66=\"\",\"\",ROW()-5)","v":""},null,""]
[null,{"$f":"IF(設定!D67=\"\",\"\",設定!D67)","v":""},null,{"$f":"IF(設定!D67=\"\",\"\",ROW()-5)","v":""},null,""]
[null,{"$f":"IF(設定!D68=\"\",\"\",設定!D68)","v":""},null,{"$f":"IF(設定!D68=\"\",\"\",ROW()-5)","v":""},null,""]
[null,{"$f":"IF(設定!D69=\"\",\"\",設定!D69)","v":""},null,{"$f":"IF(設定!D69=\"\",\"\",ROW()-5)","v":""},null,""]
[null,{"$f":"IF(設定!D70=\"\",\"\",設定!D70)","v":""},null,{"$f":"IF(設定!D70=\"\",\"\",ROW()-5)","v":""},null,""]
[null,{"$f":"IF(設定!D71=\"\",\"\",設定!D71)","v":""},null,{"$f":"IF(設定!D71=\"\",\"\",ROW()-5)","v":""},null,{"$f":"IF(ISERROR(INDEX($B$6:$B$77,SMALL(D:D,ROW()-5))),\"\",INDEX($B$6:$B$77,SMALL(D:D,ROW()-5)))","v":""}]
[null,{"$f":"IF(設定!D72=\"\",\"\",設定!D72)","v":""},null,{"$f":"IF(設定!D72=\"\",\"\",ROW()-5)","v":""},null,""]
[null,{"$f":"IF(設定!D73=\"\",\"\",設定!D73)","v":""},null,{"$f":"IF(設定!D73=\"\",\"\",ROW()-5)","v":""},null,""]
[null,{"$f":"IF(設定!D74=\"\",\"\",設定!D74)","v":""},null,{"$f":"IF(設定!D74=\"\",\"\",ROW()-5)","v":""},null,""]
[null,{"$f":"IF(設定!D75=\"\",\"\",設定!D75)","v":""},null,{"$f":"IF(設定!D75=\"\",\"\",ROW()-5)","v":""},null,""]
[null,{"$f":"IF(設定!D76=\"\",\"\",設定!D76)","v":""},null,{"$f":"IF(設定!D76=\"\",\"\",ROW()-5)","v":""},null,""]
[null,{"$f":"IF(設定!D77=\"\",\"\",設定!D77)","v":""},null,{"$f":"IF(設定!D77=\"\",\"\",ROW()-5)","v":""},null,""]

{"sheet":"X","index":8,"n_rows":7,"n_cols":32,"rows_kept":7,"cut":false,"hidden":true,"merged":[[2,16,2,17],[2,26,2,27],[2,28,2,29],[2,30,2,31],[0,1,0,3],[2,2,2,3],[2,18,2,19],[2,20,2,21],[2,22,2,23],[2,24,2,25],[2,4,2,5],[2,6,2,7],[2,8,2,9],[2,10,2,11],[2,12,2,13],[2,14,2,15]]}
[null,"口座関係　合計表"]
[]
[null,null,{"$f":"設定!$H27","v":0},null,{"$f":"設定!$H28","v":0},null,{"$f":"設定!$H29","v":0},null,{"$f":"設定!$H30","v":0},null,{"$f":"設定!$H31","v":0},null,{"$f":"設定!$H32","v":0},null,{"$f":"設定!$H33","v":0},null,{"$f":"設定!$H34","v":0},null,{"$f":"設定!$H35","v":0},null,{"$f":"設定!$H36","v":0},null,{"$f":"設定!$H37","v":0},null,{"$f":"設定!$H38","v":0},null,{"$f":"設定!$H39","v":0},null,{"$f":"設定!$H40","v":0},null,{"$f":"設定!$H41","v":0}]
[null,"1 月",{"$f":"SUMIF('日記(1)'!$C$322:$C$411,$C$3,'日記(1)'!$H$322:$H$411)","v":0},{"$f":"SUMIF('日記(1)'!$C$322:$C$411,$C$3,'日記(1)'!$I$322:$I$411)","v":0},{"$f":"SUMIF('日記(1)'!$C$322:$C$411,$E$3,'日記(1)'!$H$322:$H$411)","v":0},{"$f":"SUMIF('日記(1)'!$C$322:$C$411,$E$3,'日記(1)'!$I$322:$I$411)","v":0},{"$f":"SUMIF('日記(1)'!$C$322:$C$411,$G$3,'日記(1)'!$H$322:$H$411)","v":0},{"$f":"SUMIF('日記(1)'!$C$322:$C$411,$G$3,'日記(1)'!$I$322:$I$411)","v":0},{"$f":"SUMIF('日記(1)'!$C$322:$C$411,$I$3,'日記(1)'!$H$322:$H$411)","v":0},{"$f":"SUMIF('日記(1)'!$C$322:$C$411,$I$3,'日記(1)'!$I$322:$I$411)","v":0},{"$f":"SUMIF('日記(1)'!$C$322:$C$411,$K$3,'日記(1)'!$H$322:$H$411)","v":0},{"$f":"SUMIF('日記(1)'!$C$322:$C$411,$K$3,'日記(1)'!$I$322:$I$411)","v":0},{"$f":"SUMIF('日記(1)'!$C$322:$C$411,$M$3,'日記(1)'!$H$322:$H$411)","v":0},{"$f":"SUMIF('日記(1)'!$C$322:$C$411,$M$3,'日記(1)'!$I$322:$I$411)","v":0},{"$f":"SUMIF('日記(1)'!$C$322:$C$411,$O$3,'日記(1)'!$H$322:$H$411)","v":0},{"$f":"SUMIF('日記(1)'!$C$322:$C$411,$O$3,'日記(1)'!$I$322:$I$411)","v":0},{"$f":"SUMIF('日記(1)'!$C$322:$C$411,$Q$3,'日記(1)'!$H$322:$H$411)","v":0},{"$f":"SUMIF('日記(1)'!$C$322:$C$411,$Q$3,'日記(1)'!$I$322:$I$411)","v":0},{"$f":"SUMIF('日記(1)'!$C$322:$C$411,$S$3,'日記(1)'!$H$322:$H$411)","v":0},{"$f":"SUMIF('日記(1)'!$C$322:$C$411,$S$3,'日記(1)'!$I$322:$I$411)","v":0},{"$f":"SUMIF('日記(1)'!$C$322:$C$411,$U$3,'日記(1)'!$H$322:$H$411)","v":0},{"$f":"SUMIF('日記(1)'!$C$322:$C$411,$U$3,'日記(1)'!$I$322:$I$411)","v":0},{"$f":"SUMIF('日記(1)'!$C$322:$C$411,$W$3,'日記(1)'!$H$322:$H$411)","v":0},{"$f":"SUMIF('日記(1)'!$C$322:$C$411,$W$3,'日記(1)'!$I$322:$I$411)","v":0},{"$f":"SUMIF('日記(1)'!$C$322:$C$411,$Y$3,'日記(1)'!$H$322:$H$411)","v":0},{"$f":"SUMIF('日記(1)'!$C$322:$C$411,$Y$3,'日記(1)'!$I$322:$I$411)","v":0},{"$f":"SUMIF('日記(1)'!$C$322:$C$411,$AA$3,'日記(1)'!$H$322:$H$411)","v":0},{"$f":"SUMIF('日記(1)'!$C$322:$C$411,$AA$3,'日記(1)'!$I$322:$I$411)","v":0},{"$f":"SUMIF('日記(1)'!$C$322:$C$411,$AC$3,'日記(1)'!$H$322:$H$411)","v":0},{"$f":"SUMIF('日記(1)'!$C$322:$C$411,$AC$3,'日記(1)'!$I$322:$I$411)","v":0},{"$f":"SUMIF('日記(1)'!$C$322:$C$411,$AE$3,'日記(1)'!$H$322:$H$411)","v":0},{"$f":"SUMIF('日記(1)'!$C$322:$C$411,$AE$3,'日記(1)'!$I$322:$I$411)","v":0}]
[null,"2 月",{"$f":"SUMIF('日記(2)'!$C$322:$C$411,$C$3,'日記(2)'!$H$322:$H$411)","v":0},{"$f":"SUMIF('日記(2)'!$C$322:$C$411,$C$3,'日記(2)'!$I$322:$I$411)","v":0},{"$f":"SUMIF('日記(2)'!$C$322:$C$411,$E$3,'日記(2)'!$H$322:$H$411)","v":0},{"$f":"SUMIF('日記(2)'!$C$322:$C$411,$E$3,'日記(2)'!$I$322:$I$411)","v":0},{"$f":"SUMIF('日記(2)'!$C$322:$C$411,$G$3,'日記(2)'!$H$322:$H$411)","v":0},{"$f":"SUMIF('日記(2)'!$C$322:$C$411,$G$3,'日記(2)'!$I$322:$I$411)","v":0},{"$f":"SUMIF('日記(2)'!$C$322:$C$411,$I$3,'日記(2)'!$H$322:$H$411)","v":0},{"$f":"SUMIF('日記(2)'!$C$322:$C$411,$I$3,'日記(2)'!$I$322:$I$411)","v":0},{"$f":"SUMIF('日記(2)'!$C$322:$C$411,$K$3,'日記(2)'!$H$322:$H$411)","v":0},{"$f":"SUMIF('日記(2)'!$C$322:$C$411,$K$3,'日記(2)'!$I$322:$I$411)","v":0},{"$f":"SUMIF('日記(2)'!$C$322:$C$411,$M$3,'日記(2)'!$H$322:$H$411)","v":0},{"$f":"SUMIF('日記(2)'!$C$322:$C$411,$M$3,'日記(2)'!$I$322:$I$411)","v":0},{"$f":"SUMIF('日記(2)'!$C$322:$C$411,$O$3,'日記(2)'!$H$322:$H$411)","v":0},{"$f":"SUMIF('日記(2)'!$C$322:$C$411,$O$3,'日記(2)'!$I$322:$I$411)","v":0},{"$f":"SUMIF('日記(2)'!$C$322:$C$411,$Q$3,'日記(2)'!$H$322:$H$411)","v":0},{"$f":"SUMIF('日記(2)'!$C$322:$C$411,$Q$3,'日記(2)'!$I$322:$I$411)","v":0},{"$f":"SUMIF('日記(2)'!$C$322:$C$411,$S$3,'日記(2)'!$H$322:$H$411)","v":0},{"$f":"SUMIF('日記(2)'!$C$322:$C$411,$S$3,'日記(2)'!$I$322:$I$411)","v":0},{"$f":"SUMIF('日記(2)'!$C$322:$C$411,$U$3,'日記(2)'!$H$322:$H$411)","v":0},{"$f":"SUMIF('日記(2)'!$C$322:$C$411,$U$3,'日記(2)'!$I$322:$I$411)","v":0},{"$f":"SUMIF('日記(2)'!$C$322:$C$411,$W$3,'日記(2)'!$H$322:$H$411)","v":0},{"$f":"SUMIF('日記(2)'!$C$322:$C$411,$W$3,'日記(2)'!$I$322:$I$411)","v":0},{"$f":"SUMIF('日記(2)'!$C$322:$C$411,$Y$3,'日記(2)'!$H$322:$H$411)","v":0},{"$f":"SUMIF('日記(2)'!$C$322:$C$411,$Y$3,'日記(2)'!$I$322:$I$411)","v":0},{"$f":"SUMIF('日記(2)'!$C$322:$C$411,$AA$3,'日記(2)'!$H$322:$H$411)","v":0},{"$f":"SUMIF('日記(2)'!$C$322:$C$411,$AA$3,'日記(2)'!$I$322:$I$411)","v":0},{"$f":"SUMIF('日記(2)'!$C$322:$C$411,$AC$3,'日記(2)'!$H$322:$H$411)","v":0},{"$f":"SUMIF('日記(2)'!$C$322:$C$411,$AC$3,'日記(2)'!$I$322:$I$411)","v":0},{"$f":"SUMIF('日記(2)'!$C$322:$C$411,$AE$3,'日記(2)'!$H$322:$H$411)","v":0},{"$f":"SUMIF('日記(2)'!$C$322:$C$411,$AE$3,'日記(2)'!$I$322:$I$411)","v":0}]
[null,"3 月",{"$f":"SUMIF('日記(3)'!$C$322:$C$411,$C$3,'日記(3)'!$H$322:$H$411)","v":0},{"$f":"SUMIF('日記(3)'!$C$322:$C$411,$C$3,'日記(3)'!$I$322:$I$411)","v":0},{"$f":"SUMIF('日記(3)'!$C$322:$C$411,$E$3,'日記(3)'!$H$322:$H$411)","v":0},{"$f":"SUMIF('日記(3)'!$C$322:$C$411,$E$3,'日記(3)'!$I$322:$I$411)","v":0},{"$f":"SUMIF('日記(3)'!$C$322:$C$411,$G$3,'日記(3)'!$H$322:$H$411)","v":0},{"$f":"SUMIF('日記(3)'!$C$322:$C$411,$G$3,'日記(3)'!$I$322:$I$411)","v":0},{"$f":"SUMIF('日記(3)'!$C$322:$C$411,$I$3,'日記(3)'!$H$322:$H$411)","v":0},{"$f":"SUMIF('日記(3)'!$C$322:$C$411,$I$3,'日記(3)'!$I$322:$I$411)","v":0},{"$f":"SUMIF('日記(3)'!$C$322:$C$411,$K$3,'日記(3)'!$H$322:$H$411)","v":0},{"$f":"SUMIF('日記(3)'!$C$322:$C$411,$K$3,'日記(3)'!$I$322:$I$411)","v":0},{"$f":"SUMIF('日記(3)'!$C$322:$C$411,$M$3,'日記(3)'!$H$322:$H$411)","v":0},{"$f":"SUMIF('日記(3)'!$C$322:$C$411,$M$3,'日記(3)'!$I$322:$I$411)","v":0},{"$f":"SUMIF('日記(3)'!$C$322:$C$411,$O$3,'日記(3)'!$H$322:$H$411)","v":0},{"$f":"SUMIF('日記(3)'!$C$322:$C$411,$O$3,'日記(3)'!$I$322:$I$411)","v":0},{"$f":"SUMIF('日記(3)'!$C$322:$C$411,$Q$3,'日記(3)'!$H$322:$H$411)","v":0},{"$f":"SUMIF('日記(3)'!$C$322:$C$411,$Q$3,'日記(3)'!$I$322:$I$411)","v":0},{"$f":"SUMIF('日記(3)'!$C$322:$C$411,$S$3,'日記(3)'!$H$322:$H$411)","v":0},{"$f":"SUMIF('日記(3)'!$C$322:$C$411,$S$3,'日記(3)'!$I$322:$I$411)","v":0},{"$f":"SUMIF('日記(3)'!$C$322:$C$411,$U$3,'日記(3)'!$H$322:$H$411)","v":0},{"$f":"SUMIF('日記(3)'!$C$322:$C$411,$U$3,'日記(3)'!$I$322:$I$411)","v":0},{"$f":"SUMIF('日記(3)'!$C$322:$C$411,$W$3,'日記(3)'!$H$322:$H$411)","v":0},{"$f":"SUMIF('日記(3)'!$C$322:$C$411,$W$3,'日記(3)'!$I$322:$I$411)","v":0},{"$f":"SUMIF('日記(3)'!$C$322:$C$411,$Y$3,'日記(3)'!$H$322:$H$411)","v":0},{"$f":"SUMIF('日記(3)'!$C$322:$C$411,$Y$3,'日記(3)'!$I$322:$I$411)","v":0},{"$f":"SUMIF('日記(3)'!$C$322:$C$411,$AA$3,'日記(3)'!$H$322:$H$411)","v":0},{"$f":"SUMIF('日記(3)'!$C$322:$C$411,$AA$3,'日記(3)'!$I$322:$I$411)","v":0},{"$f":"SUMIF('日記(3)'!$C$322:$C$411,$AC$3,'日記(3)'!$H$322:$H$411)","v":0},{"$f":"SUMIF('日記(3)'!$C$322:$C$411,$AC$3,'日記(3)'!$I$322:$I$411)","v":0},{"$f":"SUMIF('日記(3)'!$C$322:$C$411,$AE$3,'日記(3)'!$H$322:$H$411)","v":0},{"$f":"SUMIF('日記(3)'!$C$322:$C$411,$AE$3,'日記(3)'!$I$322:$I$411)","v":0}]
[null,null,{"$f":"SUM(C4:C6)","v":0},0,0,0,0,0,0,0,0,0,0,0,0,0,0,0,0,0,0,0,0,0,0,0,0,0,0,0,0,0]